BEGIN:VCALENDAR
VERSION:2.0
PRODID:-//Escursioni trekking in Puglia - ECPv6.3.3//NONSGML v1.0//EN
CALSCALE:GREGORIAN
METHOD:PUBLISH
X-ORIGINAL-URL:https://meditazioninmovimento.it
X-WR-CALDESC:Eventi per Escursioni trekking in Puglia
REFRESH-INTERVAL;VALUE=DURATION:PT1H
X-Robots-Tag:noindex
X-PUBLISHED-TTL:PT1H
BEGIN:VTIMEZONE
TZID:Europe/Rome
BEGIN:DAYLIGHT
TZOFFSETFROM:+0100
TZOFFSETTO:+0200
TZNAME:CEST
DTSTART:20240331T010000
END:DAYLIGHT
BEGIN:STANDARD
TZOFFSETFROM:+0200
TZOFFSETTO:+0100
TZNAME:CET
DTSTART:20241027T010000
END:STANDARD
END:VTIMEZONE
BEGIN:VEVENT
DTSTART;TZID=Europe/Rome:20240105T143000
DTEND;TZID=Europe/Rome:20240108T210000
DTSTAMP:20260420T234229
CREATED:20221207T174857Z
LAST-MODIFIED:20250121T163746Z
UID:4764-1704465000-1704747600@meditazioninmovimento.it
SUMMARY:Epifania in Molise
DESCRIPTION:Per il ponte dell’Epifania vi proponiamo un trekking soft in Molise alla scoperta della cultura e della natura affascinante di questa piccola regione spesso ingiustamente snobbata ma che ha tanto da offrire… C’è chi dice che il Molise non esiste ma il Molise esiste ed è molto interessante da scoprire. Lo faremo con questo itinerario alla scoperta delle cittadine storicamente e culturalmente più interessanti come Agnone e Pietrabbondante e con la scoperta della natura piuttosto generosa. \nTrekking dell’epifania in Molise\nGiorno 1 (5 gennaio): partenza \npartenza ore 15:30 con auto proprie da Lecce/Brindisi/Bari.  Arrivo presso la struttura a Pescopennataro. Check-in\, cena e pernottamento. \nGiorno 2 (6 gennaio): Agnone\, la città del fuoco e dei metalli \nDopo la colazione ci sposteremo ad Agnone\, “la città del fuoco e dei metalli“. Qui faremo visita alle Antiche fonderie del rame\, antica arte dell’artigianato locale. Ci immergeremo poi nelle atmosfere vaporose e profumate di una azienda che produce formaggi dove assisteremo al laboratorio artigianale di produzione di formaggi a latte crudo dell’Alto Molise. Scopriremo la storia del Caciocavallo di Agnone e dei formaggi della tradizione molisana nelle Cantine di Stagionatura in pietra rapillo locale.\nVivremo un viaggio nel mondo della Transumanza e della cultura dell’artigianato nel Museo di Arte Casearia. La visita si concluderà con le emozioni multisensoriali che proveremo mentre assaggeremo i loro formaggi. A seguire tempo libero per un giro nel borgo di Agnone e per una sosta caffè prima di proseguire la nostra visita all’Antica Fonderia Pontificia di campane della famiglia Marinelli che si concluderà con un piccolo concerto di campane. Rientro in agriturismo\, e possibilità di fare una gita in motoslitta sulla neve (neve permettendo). Cena e pernottamento. \n  \nGiorno 3 (7 gennaio): ciaspolata nel bosco degli abeti soprani e visita di Pietrabbondante \nDopo la colazione ciaspolata nel bosco degli Abeti Soprani\, sito di interesse comunitario (SIC) caratterizzato dalla presenza degli abeti bianchi. Sono alberi maestosi che possono raggiungere i 50-60 metri di altezza\, con fusti dritti dal diametro che raggiunge i 3 metri e la corteccia dal caratteristico colore bianco cenerino. Sono alberi monumentali e per questo vengono detti “abeti soprani”. Cammin facendo faremo tappa all’Eremo di San Luca\, situato nel bosco e ricavato in una grotta calcarea a 1500 metri di altitudine. Pescopennataro è un piccolo e suggestivo borgo al confine tra Abruzzo e Molise\, ed è chiamato “il Paese degli Abeti e della Pietra”. Dopo la ciaspolata ci sposteremo a Pietrabbondante\, il borgo incastonato tra le pietre denominate “Morge”\, punte di roccia nuda\, nei pressi del Monte Saraceno\, ricoperto da boschi\, che proteggono importanti mura megalitiche. \n  \nPietrabbondante è l’Olimpo delle antiche genti italiche. Su questa terrazza dell’alto Molise l’esercito sannita celebrava i suoi riti sacri e dedicava il bottino di guerra dei suoi trionfi. E al guerriero pentro il paese ha dedicato un superbo monumento nella sua piazza centrale. Pietrabbondante rappresenta un vero e proprio gioiello architettonico e archeologico tutto da scoprire. Visiteremo l’area archeologica con il suo teatro rivivendo antiche emozioni di fronte a un immenso panorama di colli che si alzano sulle valli del Verrino e del Trigno. Rientro in agriturismo. Cena e pernottamento. \nGiorno 4 (8 gennaio): La riserva Mab di Mntedimezzo\, Frosolone ed i ferri taglienti \nDopo la colazione check-out e trasferimento presso la stazione del corpo forestale dello stato per il trekking nella riserva Mab di Montedimezzo\, piccolo gioiello naturalistico dell’Alto Molise insignito del prestigioso riconoscimento MAB (Man and Biosphere) da parte dell’Unesco con visita alla riserva\, ai recinti degli animali selvatici (cervi\, daini\, mufloni\, varie specie di volatili\, etc) ed al museo naturalistico. Intercetteremo anche l’antico tratturo Celano-Foggia che intreccia la storia di due regioni\, quella del Molise appunto e quella della nostra terra di Puglia. Dopo il facile trekking nella riserva Mab ci sposteremo a Frosolone per la visita al museo dei ferri taglienti e del centro storico. Nel tardo pomeriggio partenza e rientro in Puglia. \nORGANIZZAZIONE TECNICA DEL VIAGGIO:\nSERAFINO sas Viaggi e Turismo LECCE IT\nP.I. 03207670757- Lic. DPGR 723/97 – C.C.I.A.A.7786/98 – Garanzia Assicurativa UnipolSai Pol. 1/1609/319/103399456
URL:https://meditazioninmovimento.it/escursione/trekking-epifania-in-molise/
CATEGORIES:Trekking in Molise
END:VEVENT
BEGIN:VEVENT
DTSTART;TZID=Europe/Rome:20240108T090000
DTEND;TZID=Europe/Rome:20240108T163000
DTSTAMP:20260420T234229
CREATED:20180119T153310Z
LAST-MODIFIED:20250121T180838Z
UID:1879-1704704400-1704731400@meditazioninmovimento.it
SUMMARY:Mottola e le mirabili grotte di Dio
DESCRIPTION:Alla scoperta di Mottola e le mirabili grotte di Dio.\nMottola ed il suo territorio pullulano di interessanti insediamenti rupestri; villaggi e chiese\, scavati nel banco roccioso della tenera calcarenite. Qui nel Medioevo sorsero delle vere e proprie città ipogee\, con case\, magazzini\, depositi ed un articolato sistema di canalizzazioni e cisterne di raccolta dell’acqua piovana.\n\n Mottola è nota anche per le sue mirabili Grotte di Dio; così definite negli anni ’80 dalla rivista Bell’Italia le chiese rupestri mottolesi meglio conservate. Sono ricchissime di affreschi realizzati in stile bizantino.\n\n\nLe chiese rupestri di Mottola: le mirabili grotte di Dio\nSan Nicola di Myra\, nota come la Cappella Sistina in rupe\, la chiesa rupestre di Sant’Angelo e quella di Santa Margherita.\nIl nostro itinerario a piedi ci vedrà camminare nella gravina di Casalrotto. Qui visiteremo\, grazie al supporto di una preparatissima Guida Turistica riconosciuta dalla Regione Puglia\,  la chiesa rupestre di Sant’Angelo. Questa è l’unica chiesa rupestre italiana scavata su due piani ipogei\, affrescata con stupefacenti dipinti databili fra il XIII e il XIV secolo.\nLa camminata proseguirà con la visita della Chiesa rupestre di San Nicola di Myra; vera e propria pinacoteca d’arte sacra popolare pugliese.\nAltrettanto meravigliosa è la chiesa rupestre di Santa Margherita – Marina per gli orientali – la martire di Antiochia protettrice di gestanti e partorienti nel medioevo\, dalla pianta irregolare e sinuosa\, quasi a ricordare il ventre materno. \n\n\nIl villaggio rupestre e la gravina di Petruscio e le chiese rupestri di San Gregorio e della Madonna delle sette lampade.\nAl termine dell’itinerario a piedi alle mirabili grotte di Dio ci sposteremo in auto per visitare la gravina di Petruscio con le sue oltre 200 grotte\, tra cui la cattedrale e la casa dell’igumeno. Successivamente ci sposteremo sempre in auto nei pressi della città di Mottola per visitare le ultime due chiese rupestri: San Gregorio e la Madonna delle sette lampade.\nEscursione da non perdere per gli amanti della cultura e per gli appassionati di rupestre. Con un cielo limpido la visuale potrà spaziare fino alle montagne innevate del Pollino durante la nostra camminata.\n\n\n INFO E DETTAGLI \n\nLunghezza del percorso: 10 Km / Tempo di percorrenza: 3 ore totali circa di cammino + tempo per le visite guidate / Difficoltà: T (turistica) \n NECESSARIA LA PRENOTAZIONE compilando il form sottostante oppure al numero tel/WhatsApp 3209771234 \n Durata: dalle ore 09:00 alle ore 16:00 \n Appuntamento: Ritrovo al punto di partenza della camminata presso Santuario Madonna Abbasc alle ore 09:00 \n Abbigliamento ed occorrente: scarpe da trekking\, k-way\, zaino con acqua e pranzo al sacco\, macchina fotografica\, abbigliamento a strati con giacca antivento.
URL:https://meditazioninmovimento.it/escursione/mottola-le-mirabili-grotte-di-dio/
CATEGORIES:Escursioni nella Terra delle Gravine
ATTACH;FMTTYPE=image/jpeg:https://meditazioninmovimento.it/wp-content/uploads/2018/01/affreschi-cripta-santa-margherita-mottola.jpg
END:VEVENT
BEGIN:VEVENT
DTSTART;TZID=Europe/Rome:20240108T100000
DTEND;TZID=Europe/Rome:20240108T150000
DTSTAMP:20260420T234229
CREATED:20180404T182320Z
LAST-MODIFIED:20250121T160916Z
UID:1981-1704708000-1704726000@meditazioninmovimento.it
SUMMARY:Dalla grotta della Poesia ai faraglioni di Sant'Andrea
DESCRIPTION:Escursione dalla grotta della Poesia ai faraglioni di Sant’Andrea\nL’itinerario di questa escursione di trekking in salento ci vedrà percorrere uno dei tratti più belli della costa adriatica della penisola salentina a nord di Otranto. Il percorso inizia da Torre dell’Orso dove potremo deliziarci il palato con l’ottimo pasticciotto leccese (ovviamente degustato in una delle più rinomate pasticcerie del Salento) prima di inoltrarci nel canale brunese dove arriveremo alla grotta di San Cristoforo. \nIl nostro cammino proseguirà poi lungo la spiaggia fino a giungere sulla scogliera dalla quale potremo ammirare gli splendidi colori del mare cristallino che fanno da cornice a quella che è una delle cartoline del Salento: le “due sorelle”. \nL’itinerario dell’escursione a piedi prosegue camminando su uno dei tratti più belli della costa salentina con un susseguirsi di calette\, faraglioni scolpiti dal vento e dall’acqua che qui ha un colore smeraldo. Arriveremo fino ai faraglioni di Sant’Andrea; un luogo dall’alto valore geologico che è letteralmente da togliere il fiato contemplando tanta bellezza della natura. \nChi non è mai stato ai faraglioni di Sant’Andrea non conosce davvero il salento… \n  \nLa grotta della Poesia: connubio tra storia e geologia\nInfine all’ombra dei pini torneremo al punto iniziale del nostro trekking dove ci sarà la possibilità di visitare il parco archeologico di Roca e la grotta della poesia (gestito da VivArch aps). La Grotta della Poesia\, una delle 10 piscine naturali più belle al mondo secondo il National Geographic. Ma la grotta della poesia non è solo questo. \nE’ uno dei più antichi ed importanti santuari ellenici nel Mediterraneo. Una grotta santuario dove sono presenti iscrizioni messapiche\, greche e latine che i navigatori incidevano prima di intraprendere il viaggio in mare verso le sponde albanesi e greche che in questo tratto del canale d’Otranto sono molto vicine. \nINFO E DETTAGLI\nLunghezza 6 km / difficoltà E (escursionisti) / durata 3/4 ore \n NECESSARIA LA PRENOTAZIONE compilando il form sottostante oppure al numero tel./WhatsApp 3209771234 \n Quota di partecipazione: €10 \n ABBIGLIAMENTO RICHIESTO: scarpe da trekking\, k-way\, zaino con acqua e pranzo al sacco\, macchina fotografica\, abbigliamento a strati. \n APPUNTAMENTO: Ritrovo al punto di partenza della camminata presso Torre dell’orso (cliccare sul link per aprire Google Maps) alle ore 10:00.
URL:https://meditazioninmovimento.it/escursione/grotta-poesia-faraglioni-santandrea/
CATEGORIES:Escursioni trekking in Salento
ATTACH;FMTTYPE=image/jpeg:https://meditazioninmovimento.it/wp-content/uploads/2018/04/Escursione-dalla-grotta-della-Poesia-ai-faraglioni-di-SantAndrea.jpg
END:VEVENT
END:VCALENDAR