BEGIN:VCALENDAR
VERSION:2.0
PRODID:-//Escursioni trekking in Puglia - ECPv6.3.3//NONSGML v1.0//EN
CALSCALE:GREGORIAN
METHOD:PUBLISH
X-ORIGINAL-URL:https://meditazioninmovimento.it
X-WR-CALDESC:Eventi per Escursioni trekking in Puglia
REFRESH-INTERVAL;VALUE=DURATION:PT1H
X-Robots-Tag:noindex
X-PUBLISHED-TTL:PT1H
BEGIN:VTIMEZONE
TZID:Europe/Rome
BEGIN:DAYLIGHT
TZOFFSETFROM:+0100
TZOFFSETTO:+0200
TZNAME:CEST
DTSTART:20240331T010000
END:DAYLIGHT
BEGIN:STANDARD
TZOFFSETFROM:+0200
TZOFFSETTO:+0100
TZNAME:CET
DTSTART:20241027T010000
END:STANDARD
END:VTIMEZONE
BEGIN:VEVENT
DTSTART;TZID=Europe/Rome:20240115T100000
DTEND;TZID=Europe/Rome:20240115T143000
DTSTAMP:20260420T234301
CREATED:20201020T142611Z
LAST-MODIFIED:20250121T180658Z
UID:3096-1705312800-1705329000@meditazioninmovimento.it
SUMMARY:Walking a costa ripagnola e le carote di Polignano a mare
DESCRIPTION:Walking a costa ripagnola e le carote di Polignano a mare\nrientra in una serie di appuntamenti denominati “gli itinerari del gusto“. Questi itinerari sono stati accuratamente studiati in collaborazione con interessanti realtà del territorio con l’obiettivo di coniugare lo sport ed il camminare con le bellezze naturalistiche ed i sapori peculiari della nostra terra di Puglia. \nLe carote di Polignano\nIn questo appuntamento scopriremo le caratteristiche e la bontà delle carote di Polignano\, prodotto che i contadini di Polignano continuano a coltivare con grande tenacia ma forse sconosciuto ai più\, specie ai giovani\, o forse caduto nel dimenticatoio. \nGrazie alla collaborazione con un’azienda agricola di Polignano a mare che unisce un gruppo di coltivatori che da decenni\, con passione e sacrificio\, si dedicano alla semina e alla raccolta a mano della tipica carota di questo territorio conosceremo questo prodotto tradizionale della nostra regione che già a guardarlo è un inno alla vita! Di colore giallo\, viola\, arancione e rosso: una bomba di antiossidanti e vitamine! \nVi presenteranno una storia affascinante\, che parla di loro e dell’amore per la Puglia e per la sua terra forte\, vitale e variegata. Portano avanti una tradizione ormai centenaria\, per recuperare sia la vecchia consuetudine di coltivazione sia le sementi custodite da diverse generazioni dalle famiglie contadine del luogo. La carota di Polignano è stata inserita nella lista dei prodotti tradizionali dei presidi Slow Food in quanto esempio di un nuovo modello di agricoltura\, basata sulla qualità\, sul recupero dei saperi e delle tecniche produttive tradizionali.  \nLa costa ripagnola a Polignano\nConiugheremo la bontà e la bellezza delle carote di Polignano con una bella camminata nel neonato parco regionale di Costa Ripagnola\, un angolo di costa pugliese scampato agli abusi edilizi e perciò tutto da tutelare; caratteristico per la presenza di trulli che guardano il mare; zona da sempre vocata all’agricoltura. \nINFO E DETTAGLI\n\n NECESSARIA LA PRENOTAZIONE compilando il form sottostante oppure al numero tel/WhatsApp 3209771234 \nLunghezza del percorso: 6 Km / Tempo di percorrenza: 2 ore / Difficoltà: facile \n Quota di partecipazione: €12 \n APPUNTAMENTO: Ritrovo alle ore 8:45 presso Bar Liberty Brindisi oppure 09:45 presso abbazia di San Vito di Polignano a mare \n ABBIGLIAMENTO: scarpe da trekking\, k-way\, zaino con acqua e pranzo al sacco\, macchina fotografica\, abbigliamento a strati con giacca antivento.
URL:https://meditazioninmovimento.it/escursione/walking-a-costa-ripagnola/
CATEGORIES:Escursioni nella murgia dei trulli
ATTACH;FMTTYPE=image/jpeg:https://meditazioninmovimento.it/wp-content/uploads/2020/10/walking-a-costa-ripagnola-polignano-300x200-1.jpg
END:VEVENT
BEGIN:VEVENT
DTSTART;TZID=Europe/Rome:20240115T103000
DTEND;TZID=Europe/Rome:20240115T123000
DTSTAMP:20260420T234301
CREATED:20211207T164234Z
LAST-MODIFIED:20250121T160638Z
UID:3730-1705314600-1705321800@meditazioninmovimento.it
SUMMARY:La Gravina di Palagianello
DESCRIPTION:La gravina di Palagianello\nPalagianello è uno dei più piccoli paesi della Terra delle Gravine\, il parco naturale regionale dell’arco jonico della Puglia\, e lo scopriremo con questo itinerario di trekking nella sua Gravina alla scoperta del villaggio rupestre che insiste nella stessa gravina di Palagianello. Partiremo dal castello Stella Caracciolo che con la sua mole sarà sempre visibile durante tutto l’itinerario. Costeggeremo il santuario della Madonna delle Grazie per arrivare poi alla chiesa rupestre di San Gerolamo che conserva qualche affresco e che si affaccia sulla gravina. Percorreremo un’antica mulattiera che ci porterà nella gravina prima di raggiungere delle grotte con vista panoramica su tutto il centro storico di Palagianello che da qui ci assomiglierà ad un formaggio svizzero\, pieno di grotte! La vista sarà superba e potremo fare degli splendidi scatti su Palagianello ed il suo borgo. Intercetteremo la pista ciclabile sul ponte della vecchia ferrovia che ci riporterà dove siamo partiti. Al termine dell’escursione brindisi di fine anno. \nINFO E DETTAGLI\nLunghezza del percorso: 5Km / dislivello: trascurabile / difficoltà: facile / Ore di cammino: 2h \nNECESSARIA LA PRENOTAZIONE entro il giorno prima compilando il form sottostante oppure al numero tel./WhatsApp 3209771234 \n Quota di partecipazione: €10 \n ABBIGLIAMENTO RICHIESTO: scarpe da trekking\, k-way\, zaino con acqua\, macchina fotografica\, abbigliamento a strati. \n APPUNTAMENTO: ore 10:30 a Palagianello in Piazza Giovanni Paolo II
URL:https://meditazioninmovimento.it/escursione/la-gravina-di-palagianello/
CATEGORIES:Escursioni nella Terra delle Gravine
ATTACH;FMTTYPE=image/jpeg:https://meditazioninmovimento.it/wp-content/uploads/2021/12/walking-sui-colli-di-cisternino.jpg
END:VEVENT
END:VCALENDAR