BEGIN:VCALENDAR
VERSION:2.0
PRODID:-//Escursioni trekking in Puglia - ECPv6.3.3//NONSGML v1.0//EN
CALSCALE:GREGORIAN
METHOD:PUBLISH
X-WR-CALNAME:Escursioni trekking in Puglia
X-ORIGINAL-URL:https://meditazioninmovimento.it
X-WR-CALDESC:Eventi per Escursioni trekking in Puglia
REFRESH-INTERVAL;VALUE=DURATION:PT1H
X-Robots-Tag:noindex
X-PUBLISHED-TTL:PT1H
BEGIN:VTIMEZONE
TZID:Europe/Rome
BEGIN:DAYLIGHT
TZOFFSETFROM:+0100
TZOFFSETTO:+0200
TZNAME:CEST
DTSTART:20240331T010000
END:DAYLIGHT
BEGIN:STANDARD
TZOFFSETFROM:+0200
TZOFFSETTO:+0100
TZNAME:CET
DTSTART:20241027T010000
END:STANDARD
END:VTIMEZONE
BEGIN:VEVENT
DTSTART;TZID=Europe/Rome:20240122T100000
DTEND;TZID=Europe/Rome:20240122T180000
DTSTAMP:20260420T234234
CREATED:20200828T193711Z
LAST-MODIFIED:20250121T180444Z
UID:2999-1705917600-1705946400@meditazioninmovimento.it
SUMMARY:Il monte dei diavoli\, il museo del Primitivo e le mura messapiche di Manduria
DESCRIPTION:Alla scoperta di Manduria e del Primitivo\nUna giornata piena di attività tra sport\, natura\, archeologia ed il buon vino alla scoperta dei tesori di Manduria facendo trekking al monte dei Diavoli\, visitando e degustando al museo del Primitivo per concludere con una visita del Parco Archeologico delle mura messapiche. \nIl Monte dei diavoli\nLa nostra giornata inizierà con un facile e breve trekking di circa 3 ore nel bosco Cuturi\, bosco di lecci monumentali di circa 35 ettari\, fino ad arrivare alla sommità del Monte dei Diavoli seguendo il sentiero dei Diavoli. \nSi camminerà tra macchia mediterranea\, profumi di piante aromatiche ed erbe spontanee tra la località li Castieddi (antica città messapica abitata tra L’VIII e il III sec. a.C.) e Monti ti li tiauli (Monte dei Diavoli). \nArrivati sopra questo piccolo rilievo roccioso di 117 m s.l.m. il panorama di cui godremo spazierà su tutti i coltivi intorno nelle Terre del Primitivo e persino fino al Mar Ionio e Taranto. \nIl Museo del Primitivo e le mura messapiche di Manduria\nAlla fine del trekking ci sposteremo al Museo del Primitivo per la visita al museo e la conoscenza dei processi di vinificazione e la degustazione di 3 etichette della cantina (accompagnati da tarallini e dolcetti in pasta di mandorle). \nIn seguito andremo alla scoperta del Parco Archeologico delle Mura Messapiche dove conosceremo la storia più antica di Manduria. Concluderemo questa ricca giornata con la visita del Fonte Pliniano e della Cappella di San Pietro Mandurino. \n INFO E DETTAGLI  \n Lunghezza del percorso: 9 Km / Tempo di percorrenza: 3 ore / Difficoltà: facile \n NECESSARIA LA PRENOTAZIONE compilando il form sottostante oppure al numero tel/WhatsApp 3209771234 \n Durata: dalle ore 09:00 alle ore 16:00 \n APPUNTAMENTO: Ritrovo alle ore 09:00 al Bar Liberty di Brindisi oppure ore 10:00 al punto di partenza della camminata a Manduria (vi verrà mandato link di Google Maps) \n Abbigliamento ed occorrente: scarpe da trekking\, k-way\, zaino con acqua e pranzo al sacco\, macchina fotografica\, abbigliamento a strati con giacca antivento.
URL:https://meditazioninmovimento.it/escursione/primitivo-manduria/
CATEGORIES:Escursioni trekking in Salento
ATTACH;FMTTYPE=image/jpeg:https://meditazioninmovimento.it/wp-content/uploads/2020/08/monte-dei-diavoli-museo-del-primitivo-e-mura-messapiche-manduria-300x225-1.jpg
END:VEVENT
END:VCALENDAR