BEGIN:VCALENDAR
VERSION:2.0
PRODID:-//Escursioni trekking in Puglia - ECPv6.3.3//NONSGML v1.0//EN
CALSCALE:GREGORIAN
METHOD:PUBLISH
X-ORIGINAL-URL:https://meditazioninmovimento.it
X-WR-CALDESC:Eventi per Escursioni trekking in Puglia
REFRESH-INTERVAL;VALUE=DURATION:PT1H
X-Robots-Tag:noindex
X-PUBLISHED-TTL:PT1H
BEGIN:VTIMEZONE
TZID:Europe/Rome
BEGIN:DAYLIGHT
TZOFFSETFROM:+0100
TZOFFSETTO:+0200
TZNAME:CEST
DTSTART:20240331T010000
END:DAYLIGHT
BEGIN:STANDARD
TZOFFSETFROM:+0200
TZOFFSETTO:+0100
TZNAME:CET
DTSTART:20241027T010000
END:STANDARD
END:VTIMEZONE
BEGIN:VEVENT
DTSTART;TZID=Europe/Rome:20240123T090000
DTEND;TZID=Europe/Rome:20240123T160000
DTSTAMP:20260420T234304
CREATED:20211227T143432Z
LAST-MODIFIED:20250121T180313Z
UID:4017-1706000400-1706025600@meditazioninmovimento.it
SUMMARY:Le cave di bauxite di Poggiardo ed il museo diffuso di Borgo Terra a Muro Leccese
DESCRIPTION:Fra i paesaggi più suggestivi della Puglia per gli amanti della natura e delle sue rocce\, spiccano di rosso fiammante le distese di bauxite. Per decenni hanno anche alimentato l’economia di alcuni tratti di questo meraviglioso territorio. Le più famose tra tutte\, in Puglia\, sono le cave di bauxite di Spinazzola nell’alta Murgia ed il lago rosso ex cava di bauxite di Otranto. Ma quelle di Otranto e Spinazzola non sono le uniche cave di bauxite presenti in Puglia\, tutt’altro! Il territorio pugliese è ricco di altri giacimenti “minori” di bauxite ed il salento sicuramente rappresenta la zona più ricca di questo minerale da cui veniva estratto l’alluminio. \nLe cave di bauxite di Poggiardo ed il museo diffuso di Borgo Terra a Muro Leccese\nLa nostra giornata insieme comincerà con la visita del Museo Diffuso di Borgo Terra a Muro Leccese. Inizieremo con la visita dell’ala messapica alla scoperta della città murata tra i fasti delle famiglie aristocratiche e i millenari riti funerari. Fra la pietra grezza del castello e i marmi levigati del palazzo del Principe\, tra i disegni nelle carceri e i graffiti nel frantoio semi-ipogeo fino ad un favoloso tesoro rimasto sepolto per quasi sei secoli. Riscopriremo la quotidianità del Borgo Terra non solo passeggiando fra le sue strette vie\, ma anche grazie a plastici e ricostruzioni 3D. \nL’itinerario proseguirà con la visita del Parco Archeologico con le mura messapiche\, l’abitato messapico e la necropoli. Sarà un viaggio nella storia di oltre 30 secoli di questo borgo salentino. \nConclusa la visita guidata a Muro Leccese ci sposteremo nelle campagne di Poggiardo. Nel territorio di Poggiardo\, in un vecchio bosco\, ci sono diverse cave di bauxite abbandonate\, tra macchia mediterranea ed ulivi. Attraverseremo anche una pineta durante il nostro itinerario a piedi piedi colori e profumi. \n INFO E DETTAGLI \n\nLunghezza del percorso: 9 Km / Tempo di percorrenza: 3 ore totali circa / Difficoltà: T (turistica) \n NECESSARIA LA PRENOTAZIONE compilando il form sottostante oppure al numero tel/WhatsApp 3209771234 \n Durata: dalle ore 09:00 alle ore 16:00 \n Appuntamento: Ritrovo al punto di partenza della camminata alle ore 9:00 (forniremo link Google Maps ai prenotati) \n Abbigliamento ed occorrente: scarpe da trekking\, k-way\, zaino con acqua e pranzo al sacco\, macchina fotografica\, abbigliamento a strati con giacca antivento. \n\n 
URL:https://meditazioninmovimento.it/escursione/cave-bauxite-poggiardo-museo-diffuso-borgo-terra-muro-leccese/
CATEGORIES:Escursioni trekking in Salento
ATTACH;FMTTYPE=image/jpeg:https://meditazioninmovimento.it/wp-content/uploads/2021/12/walking-a-Poggiardo-cava-di-bauxite-300x169-1.jpg
END:VEVENT
END:VCALENDAR