BEGIN:VCALENDAR
VERSION:2.0
PRODID:-//Escursioni trekking in Puglia - ECPv6.3.3//NONSGML v1.0//EN
CALSCALE:GREGORIAN
METHOD:PUBLISH
X-WR-CALNAME:Escursioni trekking in Puglia
X-ORIGINAL-URL:https://meditazioninmovimento.it
X-WR-CALDESC:Eventi per Escursioni trekking in Puglia
REFRESH-INTERVAL;VALUE=DURATION:PT1H
X-Robots-Tag:noindex
X-PUBLISHED-TTL:PT1H
BEGIN:VTIMEZONE
TZID:Europe/Rome
BEGIN:DAYLIGHT
TZOFFSETFROM:+0100
TZOFFSETTO:+0200
TZNAME:CEST
DTSTART:20240331T010000
END:DAYLIGHT
BEGIN:STANDARD
TZOFFSETFROM:+0200
TZOFFSETTO:+0100
TZNAME:CET
DTSTART:20241027T010000
END:STANDARD
END:VTIMEZONE
BEGIN:VEVENT
DTSTART;TZID=Europe/Rome:20240128T100000
DTEND;TZID=Europe/Rome:20240128T150000
DTSTAMP:20260420T234218
CREATED:20180103T085642Z
LAST-MODIFIED:20250121T160628Z
UID:1816-1706436000-1706454000@meditazioninmovimento.it
SUMMARY:La Serra di Montevergine a Palmariggi
DESCRIPTION:Camminare lungo la Via Francigena del Sud: la Serra di Montevergine ed il Parco di Torcito\nCon questa escursione percorreremo sentieri del salento che incrociano o passano sulla Via Francigena del Sud\, il percorso lento a lunga percorrenza che attraversa la Puglia per giungere al santuario di Leuca. Da un pò di tempo questo itinerario è stato riconosciuto come naturale prolungamento della classica Via Francigena che connette Canterbury a Roma. \nDurante il nostro percorso a piedi quindi cammineremo per una parte su questo antico tracciato di pellegrinaggio e per l’altra metà del percorso utilizzeremo sentieri sterrati od in terra battuta che ci permetteranno di conoscere le bellezze di questo territorio tra Palmariggi e Cannole. \nPartiremo dal Cannole con la visita del museo dell’olio e della civiltà contadina. Poi il nostro cammino arriverà fino a Masseria Torcito \ndove saranno visibili le antiche carraie utilizzate in passato per la viabilità di genti e merci. Qui avremo anche modo di vedere una torre colombaia ed un frantoio ipogeo. \n \nProseguiremo seguendo la freccia gialla della Via Francigena passando dal casale medievale di Anfiano prima di rientrare sulla serra di Montevergine a Cannole. Al termine della camminata chi vorrà potrà fermarsi presso l’ottimo forno Caroppo di Specchia Gallone per acquistare ed apprezzare le buonissime focacce e prodotti da forno vari che meritano assolutamente una visita. \n  \nINFO E DETTAGLI\nLunghezza 11 km / difficoltà E (escursionisti) / durata 5 ore \n NECESSARIA LA PRENOTAZIONE compilando il form sottostante oppure al numero tel./WhatsApp 3209771234 \nQuota di partecipazione: €10 \n ABBIGLIAMENTO RICHIESTO: scarpe da trekking\, k-way\, zaino con acqua e pranzo al sacco\, macchina fotografica\, abbigliamento a strati \n APPUNTAMENTO: Ritrovo al punto di partenza della camminata a Cannole alle ore 10:00 (verrà mandato link Google Maps ai prenotati).
URL:https://meditazioninmovimento.it/escursione/serra-montevergine-palmariggi/
CATEGORIES:Escursioni trekking in Salento
ATTACH;FMTTYPE=image/jpeg:https://meditazioninmovimento.it/wp-content/uploads/2018/01/Trekking-lungo-la-Via-Francigena-del-Sud-la-Serra-ed-il-santuario-di-Montevergine-a-Palmariggi.jpg
END:VEVENT
END:VCALENDAR