BEGIN:VCALENDAR
VERSION:2.0
PRODID:-//Escursioni trekking in Puglia - ECPv6.3.3//NONSGML v1.0//EN
CALSCALE:GREGORIAN
METHOD:PUBLISH
X-ORIGINAL-URL:https://meditazioninmovimento.it
X-WR-CALDESC:Eventi per Escursioni trekking in Puglia
REFRESH-INTERVAL;VALUE=DURATION:PT1H
X-Robots-Tag:noindex
X-PUBLISHED-TTL:PT1H
BEGIN:VTIMEZONE
TZID:Europe/Rome
BEGIN:DAYLIGHT
TZOFFSETFROM:+0100
TZOFFSETTO:+0200
TZNAME:CEST
DTSTART:20240331T010000
END:DAYLIGHT
BEGIN:STANDARD
TZOFFSETFROM:+0200
TZOFFSETTO:+0100
TZNAME:CET
DTSTART:20241027T010000
END:STANDARD
END:VTIMEZONE
BEGIN:VEVENT
DTSTART;TZID=Europe/Rome:20240218T200000
DTEND;TZID=Europe/Rome:20240225T200000
DTSTAMP:20260420T222015
CREATED:20171103T170021Z
LAST-MODIFIED:20250121T192359Z
UID:1527-1708286400-1708891200@meditazioninmovimento.it
SUMMARY:Viaggio a piedi di gruppo a Malta\, Gozo e Comino
DESCRIPTION:Viaggio a piedi di gruppo a Malta\, Gozo e Comino.\nDa dove viene il falcone maltese? Chi non ha mai sognato di seguire le orme dei Cavalieri di Malta o dell’enigmatico Corto Maltese? Un po’ come Ulisse che soccombe al fascino di Calypso\, è difficile non lasciarsi conquistare da questo piccolo arcipelago adagiato tra Oriente ed Occidente. Con il nostro viaggio a piedi di gruppo a Malta\, Gozo e Comino puoi finalmente conoscere la storia dell’arcipelago maltese. \n \nProgramma Malta Gozo e Comino:\nGIORNO 1 Arrivo e sistemazioni\nArrivo dei partecipanti presso l’aeroporto di Malta. Incontro con la Guida Ambientale Escursionistica. Transfer a Rabat. Pernottamento.\nGIORNO 2 Walking da Gnejna a Golden Bay. Visita della Vallatta.\nLunghezza del percorso: 9 Km / Dislivello: +250m /Tempo di percorrenza: 4 ore\nGIORNO 3 Victoria Lines e Mdina\nLunghezza del percorso: 15 Km / Dislivello: +300m / Tempo di percorrenza: 6 ore\nGIORNO 4 Gozo coastal walk: da Mgarr a Dahlet Qorrot. Sito megalitico di Ggantija\nLunghezza del percorso: 8 Km / Dislivello: +150m / Tempo di percorrenza: 3 ore\nGIORNO 5 Comino e Victoria\nLunghezza del percorso: 10 Km / Dislivello: +100m / Tempo di percorrenza: 4 ore\nGIORNO 6 Gozo coastal walk: da Marsalforn a Dwejra\nLunghezza del percorso: 14 Km / Dislivello: +130m / Tempo di percorrenza: 5 ore\nGIORNO 7 Gozo coastal walk: da Dwejra a Xlendi a Mgarr\nLunghezza del percorso: 19 Km / Dislivello: +350m / Tempo di percorrenza: 7 ore\nGIORNO 8 Partenze\nDopo la prima colazione saluti e rientro a casa. \nORGANIZZAZIONE TECNICA DEL VIAGGIO:\nSERAFINO sas Viaggi e Turismo LECCE IT\nP.I. 03207670757- Lic. DPGR 723/97 – C.C.I.A.A.7786/98 – Garanzia Assicurativa UnipolSai Pol. 1/1609/319/103399456
URL:https://meditazioninmovimento.it/escursione/viaggio-a-piedi-di-gruppo-a-malta-gozo-e-comino/
CATEGORIES:Gozo e Comino
END:VEVENT
BEGIN:VEVENT
DTSTART;TZID=Europe/Rome:20240221T093000
DTEND;TZID=Europe/Rome:20240221T150000
DTSTAMP:20260420T222015
CREATED:20210103T152208Z
LAST-MODIFIED:20250121T183509Z
UID:3219-1708507800-1708527600@meditazioninmovimento.it
SUMMARY:I massi della vecchia ed il giardino megalitico del salento
DESCRIPTION:I massi della vecchia ed il giardino megalitico del salento\nL’escursione si svolge nella campagna di Giurdignano\, alla ricerca dei massi della vecchia nel giardino megalitico del salento. Giurdignano è il luogo di Puglia (e forse anche d’Italia) più ricco di monumenti megalitici preistorici e per questo denominato quindi il giardino megalitico del salento. Si tratta dei Dolmen e dei Menhir\, sopravvissuti al tempo e alla distruzione da parte dell’uomo. \nSi camminerà nella meravigliosa campagna tra Giurdignano e Giuggianello\, dove sono conservati 7 dolmen e 14 menhir.  I dolmen sono monumenti sepolcrali e sacri insieme\, formati da una cella funeraria\, di varie grandezze\, con le pareti chiusi da ortostati monolitici o giustapposti  e una o più  lastre di copertura. Alcuni conservano anche il dromos\, il corridoio di accesso alla cella funeraria. \nAlcuni canali di scolo sulle lastre di copertura dei dolmen hanno fatto ipotizzare  che si trattasse di are sacre\, dunque luoghi dove si svolgevano cerimonie. I menhir invece\, o pietrefitte\, sono megaliti monolitici di dimensioni varie\, di forma squadrata\, alti anche fino a circa cinque metri. Anche sulla loro funzione non ci sono certezze\, ma si è ipotizzato che fossero simulacri dedicati al culto del Sole. Essi possono anche avere una simbologia fallica\, dunque simulacri litici dedicati al culto della Madre Terra\, intorno ai quali si svolgevano rituali per la fertilità. \n \nI massi della vecchia del salento\nRimanendo nell’ambito dei megaliti si visiteranno anche I Massi della Vecchia\, grandi pietre concentrate su un vasto pianoro\, dalle forme più svariate che ne hanno ispirato i nomi\, come Furticiddhu te la Vecchia te lu nanni\, Lu Lettu te la Vecchia e Il Piede di Ercole. \nNon distante da quest’area si visiterà la grotta sacra di San Giovanni\, luogo assai mistico come I Massi della Vecchia e anche carico di storia. La Cripta è sempre stata meta di devoti del Battista soprattutto il 24 giugno\, festa del Santo\, quando con rituali intrisi ancora di paganesimo\, si festeggiava san Giovanni e si celebrava l’arrivo dell’estate con riti propiziatori per la raccolta delle messi e con l’immancabile presenza dei falò purificatori. \nAltra meta del giro è la Cripta di San Salvatore\, una delle massime espressioni dell’architettura e dell’arte rupestre bizantina. Attira molto la variegata decorazione della volta\, a cassettoni\, a croce greca\, con quattro crociere a vela e un rimando a una scala\, simbolica rappresentazione della salita verso la salvezza spirituale. \nCamminando si passerà anche dalla Masseria Quattro Macine\, luogo dell’antico Casale medievale omonimo\, e si visiterà il Trappeto ipogeo del Duca di Giurdignano\, appartenuto alla famiglia ducale Alfarano Capece\, uno dei più interessanti esempi di archeologia industriale dedicata all’olio\, che ha cessato di funzionare nel 1940. In una sola escursione si attraverserà un ampio spaccato della storia salentina e della Puglia stessa. \n INFO E DETTAGLI \nLunghezza della camminata: 15 km / difficoltà E (media) / Dislivello: +200m/ durata 4/5 ore\n NECESSARIA LA PRENOTAZIONE compilando il form sottostante oppure al numero tel/WhatsApp 3209771234\n Durata: dalle ore 09:30 alle ore 15.30 circa.\n Quota di partecipazione: €15. La quota include ingresso e visita guidata della Cripta di San Salvatore e Frantoio ipogeo del Duca\n Appuntamento: Ritrovo presso Caffè Liberty (Brindisi) ore 8:00. Ritrovo al punto di partenza della camminata a Giurdignano alle ore 9:30. \n Abbigliamento ed occorrente: scarpe da trekking\, k-way\, zaino con acqua e pranzo al sacco\, macchina fotografica\, abbigliamento a strati con giacca antivento.
URL:https://meditazioninmovimento.it/escursione/massi-della-vecchia-ed-il-giardino-megalitico-del-salento/
CATEGORIES:Escursioni trekking in Salento
END:VEVENT
END:VCALENDAR