BEGIN:VCALENDAR
VERSION:2.0
PRODID:-//Escursioni trekking in Puglia - ECPv6.3.3//NONSGML v1.0//EN
CALSCALE:GREGORIAN
METHOD:PUBLISH
X-WR-CALNAME:Escursioni trekking in Puglia
X-ORIGINAL-URL:https://meditazioninmovimento.it
X-WR-CALDESC:Eventi per Escursioni trekking in Puglia
REFRESH-INTERVAL;VALUE=DURATION:PT1H
X-Robots-Tag:noindex
X-PUBLISHED-TTL:PT1H
BEGIN:VTIMEZONE
TZID:Europe/Rome
BEGIN:DAYLIGHT
TZOFFSETFROM:+0100
TZOFFSETTO:+0200
TZNAME:CEST
DTSTART:20240331T010000
END:DAYLIGHT
BEGIN:STANDARD
TZOFFSETFROM:+0200
TZOFFSETTO:+0100
TZNAME:CET
DTSTART:20241027T010000
END:STANDARD
END:VTIMEZONE
BEGIN:VEVENT
DTSTART;TZID=Europe/Rome:20240227T093000
DTEND;TZID=Europe/Rome:20240227T153000
DTSTAMP:20260420T205205
CREATED:20181217T121451Z
LAST-MODIFIED:20250121T183312Z
UID:2319-1709026200-1709047800@meditazioninmovimento.it
SUMMARY:Trekking a Porto Badisco lungo la Via Appia Calabro Sallentina
DESCRIPTION:Trekking a Porto Badisco lungo la Via Appia Calabro Sallentina\n \nCon questa escursione di trekking cammineremo su uno dei pavimenti lastricati più antichi del Salento\, la via Appia Calabro Sallentina\, sulla serra di Porto Badisco. Avremo modo di ammirare un bellissimo panorama sulle torri di avvistamento e sulla baia di Badisco dall’alto. \nCi renderemo conto che il salento non è poi così pianeggiante… Lungo il nostro cammino passeremo vicino a delle antiche masserie della zona dove l’attività della pastorizia era praticata sin dall’antichità ed ancora oggi. \nCi fermeremo  lungo il percorso in una piccola cappella votiva e potremo ammirare la baia che custodisce la grotta dei cervi tra le vedette naturali di Torre Sant’Emiliano e Torre Minervino. Con questo itinerario di trekking lungo la Via Appia Calabro Sallentina conosceremo una Porto Badisco si balneare\, ma anche la storia di questo luogo e tutto quello che c’è intorno e che sfugge a chi visita questa località fugacemente durante il periodo estivo. I camminatori\, andando a piedi\, possono conoscere davvero a fondo l’essenza dei luoghi… Vieni a camminare con noi. \n INFO E DETTAGLI \n\nLunghezza della camminata: 12 km / difficoltà E (media) / Dislivello: +200m/ durata 4/5 ore\n NECESSARIA LA PRENOTAZIONE compilando il form sottostante oppure al numero tel/WhatsApp 3209771234\n Durata: dalle ore 09:45 alle ore 15.30 circa.\n Quota di partecipazione: €12\n Appuntamento: Ritrovo presso Bar Liberty (Brindisi) ore 8:15. Ritrovo al punto di partenza della camminata presso la baia di Porto Badisco alle ore 9:45\n Abbigliamento ed occorrente: scarpe da trekking\, k-way\, zaino con acqua e pranzo al sacco\, macchina fotografica\, abbigliamento a strati con giacca antivento.
URL:https://meditazioninmovimento.it/escursione/trekking-porto-badisco-2/
CATEGORIES:Escursioni trekking in Salento
ATTACH;FMTTYPE=:
END:VEVENT
END:VCALENDAR