BEGIN:VCALENDAR
VERSION:2.0
PRODID:-//Escursioni trekking in Puglia - ECPv6.3.3//NONSGML v1.0//EN
CALSCALE:GREGORIAN
METHOD:PUBLISH
X-ORIGINAL-URL:https://meditazioninmovimento.it
X-WR-CALDESC:Eventi per Escursioni trekking in Puglia
REFRESH-INTERVAL;VALUE=DURATION:PT1H
X-Robots-Tag:noindex
X-PUBLISHED-TTL:PT1H
BEGIN:VTIMEZONE
TZID:Europe/Rome
BEGIN:DAYLIGHT
TZOFFSETFROM:+0100
TZOFFSETTO:+0200
TZNAME:CEST
DTSTART:20240331T010000
END:DAYLIGHT
BEGIN:STANDARD
TZOFFSETFROM:+0200
TZOFFSETTO:+0100
TZNAME:CET
DTSTART:20241027T010000
END:STANDARD
END:VTIMEZONE
BEGIN:VEVENT
DTSTART;TZID=Europe/Rome:20240228T093000
DTEND;TZID=Europe/Rome:20240228T133000
DTSTAMP:20260420T205228
CREATED:20200605T212538Z
LAST-MODIFIED:20250121T183158Z
UID:2826-1709112600-1709127000@meditazioninmovimento.it
SUMMARY:I tratturi delle Vie del Sale: sentieri tra terra e mare
DESCRIPTION:Percorso trekking lungo i tratturi delle Vie del Sale di Corsano\nSono tanti gli splendidi sentieri che il Salento ha da offrire: incantevoli itinerari che\, se percorsi a piedi\, permettono di conoscerne gli odori\, i colori e i sussurri della natura che insieme si intrecciano nella tipicità della flora e fauna salentina. l tratturi delle Vie del Sale di Corsano sono poco conosciuti ma sono tra i percorsi di trekking più selvaggi del Salento. Si tratta di sentieri delimitati da muretti a secco che collegano in più punti l’entroterra di Corsano al mare. \nQuesti sentieri prendono il nome dall’antica abitudine dei paesani di attraversarli trasportando il sale dal mare fino al paese\, dove veniva venduto clandestinamente. L’attività era illegale ed è per questo motivo che spesso le donne e i bambini dovevano fare da vedetta per controllare che non ci fossero della autorità nei paraggi e dar modo agli uomini di riempire con tranquillità dei sacchi dalle saline\, scavate nella roccia lungo la costa\, e trasportarli lungo questi sentieri fino al paese. \nOggi questi tratturi sono stati manutenuti e formano una rete di sentieri di un percorso escursionistico dal valore paesaggistico e storico di rilevante spessore. \nQuesta zona aspra e meravigliosa del Salento non è ancora meta di tantissimi turisti\, ma forse è proprio questo uno dei punti di forza di questa zona. Difatti\, camminare lasciandosi suggestionare da luoghi di questa bellezza naturale è l’obiettivo di chi\, come noi\, sa emozionarsi di fronte alle meraviglie della natura selvaggia. \nL’escursione walking lungo i tratturi delle vie del sale è una camminata per camminatori un pò esperti\, dotati di buon equilibrio e dimestichezza escursionistica. \n INFO E DETTAGLI \nLunghezza della camminata: 8 km / difficoltà E (media) / Dislivello: +200m/ durata 4 ore\n NECESSARIA LA PRENOTAZIONE compilando il form sottostante oppure al numero tel/WhatsApp 3209771234\n Durata: dalle ore 09:30 alle ore 13.30 circa.\n Quota di partecipazione: €12\n Appuntamento: Ritrovo presso Bar Liberty (Brindisi) ore 8:00. Ritrovo al punto di partenza della camminata ore 09:30 al Bosco Nzepe.\n Abbigliamento ed occorrente: scarpe da trekking\, k-way\, zaino con acqua e pranzo al sacco\, macchina fotografica\, abbigliamento a strati con giacca antivento.
URL:https://meditazioninmovimento.it/escursione/tratturi-le-vie-del-sale/
CATEGORIES:Escursioni trekking in Salento
ATTACH;FMTTYPE=:
END:VEVENT
END:VCALENDAR