BEGIN:VCALENDAR
VERSION:2.0
PRODID:-//Escursioni trekking in Puglia - ECPv6.3.3//NONSGML v1.0//EN
CALSCALE:GREGORIAN
METHOD:PUBLISH
X-WR-CALNAME:Escursioni trekking in Puglia
X-ORIGINAL-URL:https://meditazioninmovimento.it
X-WR-CALDESC:Eventi per Escursioni trekking in Puglia
REFRESH-INTERVAL;VALUE=DURATION:PT1H
X-Robots-Tag:noindex
X-PUBLISHED-TTL:PT1H
BEGIN:VTIMEZONE
TZID:Europe/Rome
BEGIN:DAYLIGHT
TZOFFSETFROM:+0100
TZOFFSETTO:+0200
TZNAME:CEST
DTSTART:20240331T010000
END:DAYLIGHT
BEGIN:STANDARD
TZOFFSETFROM:+0200
TZOFFSETTO:+0100
TZNAME:CET
DTSTART:20241027T010000
END:STANDARD
END:VTIMEZONE
BEGIN:VEVENT
DTSTART;TZID=Europe/Rome:20240303T100000
DTEND;TZID=Europe/Rome:20240303T150000
DTSTAMP:20260420T205229
CREATED:20240205T142415Z
LAST-MODIFIED:20250121T154618Z
UID:5351-1709460000-1709478000@meditazioninmovimento.it
SUMMARY:Il sentiero dei mandorli in fiore
DESCRIPTION:Approfittando delle temperature miti dei nostri inverni e dell’arrivo precoce della primavera\, sarà una vera poesia camminare tra i mandorli in fiore. \nCon questo itinerario di trekking nell’Alta Murgia andremo alla scoperta di Castel Garagnone\, il castello fantasma legato al mitico Federico II di Svevia\, lo stupor mundi. \nDopo aver raggiunto la cima del castello verrà il più bello… \nIl sentiero dei mandorli in fiore\nCi immergeremo nella bellezza\, nel profumo e nella delicatezza dei mandorli in fiore. In particolare dei mandorli tipici della zona dell’Alta Murgia\, ovvero i mandorli della cultivar Filippo Cea. Saremo ospitati da un agronomo e dalla sua azienda che ci svelerà tutti i segreti e le particolarità di questa varietà Presidio Slow Food. Dopo aver appreso la teoria\, passeremo alla pratica… \nPerchè oltre l’occhio\, anche il palato vuole la sua parte!  \nIl tour infatti proseguirà con un’esperienza culinaria e sensoriale dei prodotti aziendali. La degustazione partirà con l’assaggio delle mandorle tostate\, mandorle pelate e mandorle sgusciate della cultivar Filippo Cea. Proseguiremo con un tagliere di salumi e formaggi tipici della Murgia accompagnati con creme di mandorla (3 creme diverse da abbinare a 3 formaggi diversi)\, il tutto accompagnato da focaccia locale. Successivamente proseguiremo con la degustazione del “pignatello” caldo di lenticchie bio Igp con olio extravergine di oliva della cultivar coratina\, accompagnato da pane tostato. \nIl tutto verrà innaffiato da vino Primitivo di produzione dell’azienda e da latte di mandorla prodotto con la ricetta originale. \nInfine concluderemo la degustazione con l’assaggio di una torta a base di mandorle prodotta con olio di mandorle e farina di  mandorle parzialmente disoleata (superfood) accompagnata con crema di mandorle e cacao senza zuccheri aggiunti. \nLa nostra giornata hanami si conclude così in bellezza\, amicizia e condivisione. \n INFO E DETTAGLI \n Lunghezza del percorso: 8Km / Dislivello: +300m / Ore di cammino: 2\,5 / Difficoltà: medio-facile \n NECESSARIA LA PRENOTAZIONE entro venerdì ore 13:00 compilando il form sottostante oppure al numero tel./WhatsApp 3209771234 \n ABBIGLIAMENTO RICHIESTO: scarpe da trekking\, k-way\, zaino con acqua\, macchina fotografica\, abbigliamento a strati. \n QUOTA DI PARTECIPAZIONE: €35 \n APPUNTAMENTO: ore 07:45 presso caffè Liberty di Brindisi oppure ore 10:00 a Poggiorsini (verrà mandato link Google Maps ai prenotati).
URL:https://meditazioninmovimento.it/escursione/sentiero-mandorli-in-fiore/
LOCATION:Poggiorsini\, Poggiorsini\, Poggiorsini\, BA\, 70020\, Italia
CATEGORIES:Trekking nell'Alta Murgia
ATTACH;FMTTYPE=image/jpeg:https://meditazioninmovimento.it/wp-content/uploads/2024/02/il-sentiero-dei-mandorli-in-fiore.jpg
ORGANIZER;CN="Luigina Geusa":MAILTO:info@meditazioninmovimento.it
END:VEVENT
END:VCALENDAR