BEGIN:VCALENDAR
VERSION:2.0
PRODID:-//Escursioni trekking in Puglia - ECPv6.3.3//NONSGML v1.0//EN
CALSCALE:GREGORIAN
METHOD:PUBLISH
X-WR-CALNAME:Escursioni trekking in Puglia
X-ORIGINAL-URL:https://meditazioninmovimento.it
X-WR-CALDESC:Eventi per Escursioni trekking in Puglia
REFRESH-INTERVAL;VALUE=DURATION:PT1H
X-Robots-Tag:noindex
X-PUBLISHED-TTL:PT1H
BEGIN:VTIMEZONE
TZID:Europe/Rome
BEGIN:DAYLIGHT
TZOFFSETFROM:+0100
TZOFFSETTO:+0200
TZNAME:CEST
DTSTART:20240331T010000
END:DAYLIGHT
BEGIN:STANDARD
TZOFFSETFROM:+0200
TZOFFSETTO:+0100
TZNAME:CET
DTSTART:20241027T010000
END:STANDARD
END:VTIMEZONE
BEGIN:VEVENT
DTSTART;TZID=Europe/Rome:20240311T100000
DTEND;TZID=Europe/Rome:20240311T153000
DTSTAMP:20260420T205229
CREATED:20220309T161232Z
LAST-MODIFIED:20250121T160103Z
UID:4364-1710151200-1710171000@meditazioninmovimento.it
SUMMARY:Escursione alla Grotta Zinzulusa ed approdo di Enea
DESCRIPTION:La grotta Zinzulusa di Castro nel Salento\nUn itinerario di trekking nel Salento ideato per conoscere la grotta Zinzulusa e le altre meraviglie di Castro\, un piccolo borgo arroccato sulla costa ionica salentina dalla storia millenaria. \nIn particolare ammireremo il mare dal Belvedere\, proseguendo sotto le mura messapiche ed il castello\, dirigendoci infine verso la costa. La nostra prima meta della giornata sarà la grotta zinzulusa che ricade proprio nel territorio del comune di Castro. \nLa Grotta Zinzulusa di Castro è tra le grotte più affascinanti del Salento!\nLe particolari formazioni calcaree che “pendono” dalla volta simili a stracci appesi (in dialetto Salentino\, zinzuli)\, ne danno il nome.\nLa grotta si apre sul mare come un’enorme bocca che si staglia su di una scogliera alta ben quindici metri. Le enormi formazioni calcaree\, stalattitiche e stalagmitiche dalle strane forme ed i colori danno alla grotta un aspetto particolare. \nGrotta Zinzulusa è aperta al pubblico dal 1957 ed è visitata da 100mila persone ogni anno. Nel 1999 è stata inserita nell’elenco delle 10 cavità più importanti al mondo. La grotta\, infatti\, custodisce numerose tracce preistoriche\, reperti paleontologici ed è intensamente popolata da specie rare e delicate. \nL’approdo di Enea: il Castrum Minervae\nSuccessivamente attraverseremo i sentieri del Parco Naturale Otranto-Tricase-Santa Maria di Leuca. Risalendo poi la serra scorgeremo spettacolari viste panoramiche che giungono fino Santa Cesarea Terme. Al rientro a Castro visiteremo il castello e conosceremo da vicino la storia che questa cittadina può vantare. All’interno del castello-museo archeologico infatti vedremo reperti ritrovati in questi anni di scavi e che ancora continuano a venir fuor. Il più importante\, senza ombra di dubbio\, è il busto della statua dea Atena (Minerva per i romani). \nUna ricca giornata tra sport\, natura e cultura ci darà un quadro chiaro dei tesori e delle meraviglie di Castro… \n  \n INFO E DETTAGLI \n\n NECESSARIA LA PRENOTAZIONE compilando il form sottostante oppure al numero tel/WhatsApp 3209771234\nLunghezza della camminata: 12 Km /Tempo di percorrenza: 4/5 ore / Dislivello: +250m / Difficoltà: E (persone mediamente allenate) \n Durata: dalle ore 10:15 alle ore 15:30 circa \n Quota di partecipazione: €10 + ticket grotta zinzulusa (visita facoltativa) \n Appuntamento: Ritrovo presso Bar Liberty (Brindisi) ore 9:00. Ritrovo al punto di partenza della camminata presso:  Bar Fonte dei Messapi di Castro alle ore 10:00 (parcheggiare in zona) \nAbbigliamento ed occorrente: scarpe da trekking\, k-way\, zaino con acqua e pranzo al sacco. Soprattutto vi consigliamo di non dimenticate macchina fotografica\, abbigliamento a strati con giacca a vento.
URL:https://meditazioninmovimento.it/escursione/escursione-grotta-zinzulusa-castro-salento/
CATEGORIES:Escursioni trekking in Salento
ATTACH;FMTTYPE=image/jpeg:https://meditazioninmovimento.it/wp-content/uploads/2022/03/Escursione-alla-Grotta-Zinzulusa-ed-approdo-di-Enea.jpg
END:VEVENT
END:VCALENDAR