BEGIN:VCALENDAR
VERSION:2.0
PRODID:-//Escursioni trekking in Puglia - ECPv6.3.3//NONSGML v1.0//EN
CALSCALE:GREGORIAN
METHOD:PUBLISH
X-WR-CALNAME:Escursioni trekking in Puglia
X-ORIGINAL-URL:https://meditazioninmovimento.it
X-WR-CALDESC:Eventi per Escursioni trekking in Puglia
REFRESH-INTERVAL;VALUE=DURATION:PT1H
X-Robots-Tag:noindex
X-PUBLISHED-TTL:PT1H
BEGIN:VTIMEZONE
TZID:Europe/Rome
BEGIN:DAYLIGHT
TZOFFSETFROM:+0100
TZOFFSETTO:+0200
TZNAME:CEST
DTSTART:20240331T010000
END:DAYLIGHT
BEGIN:STANDARD
TZOFFSETFROM:+0200
TZOFFSETTO:+0100
TZNAME:CET
DTSTART:20241027T010000
END:STANDARD
END:VTIMEZONE
BEGIN:VEVENT
DTSTART;TZID=Europe/Rome:20240316T150000
DTEND;TZID=Europe/Rome:20240323T200000
DTSTAMP:20260420T205230
CREATED:20191106T120715Z
LAST-MODIFIED:20250121T191805Z
UID:2608-1710601200-1711224000@meditazioninmovimento.it
SUMMARY:Trekking e cultura in Andalusia
DESCRIPTION:Trekking e cultura in Andalusia\n\nUn itinerario fra cultura e natura\, esplorando l’Andalusia tra Siviglia\, Cordoba e Granada\, con trekking nei parchi naturali ed un finale adrenalinico sul sentiero più avventuroso del mondo: il Caminito del Rey. \nIl nostro viaggio a piedi comprenderà anche tappe di trekking urbano\, prima a Siviglia\, per visitare una delle cattedrali più grandi al mondo; poi a Cordoba\, per visitare la sua splendida Mezquita e tutte le altre vestigia della dominazione araba\, per finire poi a Granada\, dove visiteremo l’Alhambra ed i Palazzi Nasrid.  \nLa parte naturalistica del viaggio sarà caratterizzata da spettacolari trekking nella natura del Parque Natural de la Sierra Subbetica\, al Torcal de Antequera e sul celebre Caminito del Rey. Conosceremo l’Andalusia che non ti aspetti\, un’Andalusia quasi sconosciuta (quella dal punto di vista naturalistico e sportivo) ed un’altra Andalusia più celebre (le città). Sarà un’avventura sportiva che ci permetterà di conoscere questa splendida terra caliente a 360°\, in tutta la sua bellezza ed in tutto il suo potenziale. \nProgramma del walking tra natura e cultura:\n16 marzo: partenza da Bari ed arrivo a Siviglia \n17 marzo: Walking a Cordoba \n18 marzo: walking nella Sierra Subbetica \n19 marzo: walking a Granada + escursione a piedi \n20 marzo: walking sui ponti sospesi nei pressi di Granada \n21 marzo: il Torcal de Antequera e Ronda \n22 marzo: il caminito del Rey e i paesini bianchi \n23 marzo: walking a Siviglia e rientro \nRichiedi il programma dettagliato via email. \nINFO E DETTAGLI\n NECESSARIA LA PRENOTAZIONE compilando il form sottostante oppure al numero tel/WhatsApp 3209771234\n Abbigliamento: scarpe e zaino da trekking\,  macchina fotografica\, acqua\, trolley piccolo\, abbigliamento a cipolla indicato per la stagione (giacca a vento\, pantaloni lunghi\, pile\, poncho o k-way).\nORGANIZZAZIONE TECNICA DEL VIAGGIO:\nSERAFINO sas Viaggi e Turismo LECCE IT\nP.I. 03207670757- Lic. DPGR 723/97 – C.C.I.A.A.7786/98 – Garanzia Assicurativa UnipolSai Pol. 1/1609/319/103399456 \nFatti un’idea di quello che vedremo guardando queste foto
URL:https://meditazioninmovimento.it/escursione/trekking-e-cultura-in-andalusia/
CATEGORIES:Viaggi trekking a piedi
ATTACH;FMTTYPE=:
END:VEVENT
END:VCALENDAR