BEGIN:VCALENDAR
VERSION:2.0
PRODID:-//Escursioni trekking in Puglia - ECPv6.3.3//NONSGML v1.0//EN
CALSCALE:GREGORIAN
METHOD:PUBLISH
X-WR-CALNAME:Escursioni trekking in Puglia
X-ORIGINAL-URL:https://meditazioninmovimento.it
X-WR-CALDESC:Eventi per Escursioni trekking in Puglia
REFRESH-INTERVAL;VALUE=DURATION:PT1H
X-Robots-Tag:noindex
X-PUBLISHED-TTL:PT1H
BEGIN:VTIMEZONE
TZID:Europe/Rome
BEGIN:DAYLIGHT
TZOFFSETFROM:+0100
TZOFFSETTO:+0200
TZNAME:CEST
DTSTART:20240331T010000
END:DAYLIGHT
BEGIN:STANDARD
TZOFFSETFROM:+0200
TZOFFSETTO:+0100
TZNAME:CET
DTSTART:20241027T010000
END:STANDARD
END:VTIMEZONE
BEGIN:VEVENT
DTSTART;TZID=Europe/Rome:20240316T150000
DTEND;TZID=Europe/Rome:20240323T200000
DTSTAMP:20260421T005919
CREATED:20191106T120715Z
LAST-MODIFIED:20250121T191805Z
UID:2608-1710601200-1711224000@meditazioninmovimento.it
SUMMARY:Trekking e cultura in Andalusia
DESCRIPTION:Trekking e cultura in Andalusia\n\nUn itinerario fra cultura e natura\, esplorando l’Andalusia tra Siviglia\, Cordoba e Granada\, con trekking nei parchi naturali ed un finale adrenalinico sul sentiero più avventuroso del mondo: il Caminito del Rey. \nIl nostro viaggio a piedi comprenderà anche tappe di trekking urbano\, prima a Siviglia\, per visitare una delle cattedrali più grandi al mondo; poi a Cordoba\, per visitare la sua splendida Mezquita e tutte le altre vestigia della dominazione araba\, per finire poi a Granada\, dove visiteremo l’Alhambra ed i Palazzi Nasrid.  \nLa parte naturalistica del viaggio sarà caratterizzata da spettacolari trekking nella natura del Parque Natural de la Sierra Subbetica\, al Torcal de Antequera e sul celebre Caminito del Rey. Conosceremo l’Andalusia che non ti aspetti\, un’Andalusia quasi sconosciuta (quella dal punto di vista naturalistico e sportivo) ed un’altra Andalusia più celebre (le città). Sarà un’avventura sportiva che ci permetterà di conoscere questa splendida terra caliente a 360°\, in tutta la sua bellezza ed in tutto il suo potenziale. \nProgramma del walking tra natura e cultura:\n16 marzo: partenza da Bari ed arrivo a Siviglia \n17 marzo: Walking a Cordoba \n18 marzo: walking nella Sierra Subbetica \n19 marzo: walking a Granada + escursione a piedi \n20 marzo: walking sui ponti sospesi nei pressi di Granada \n21 marzo: il Torcal de Antequera e Ronda \n22 marzo: il caminito del Rey e i paesini bianchi \n23 marzo: walking a Siviglia e rientro \nRichiedi il programma dettagliato via email. \nINFO E DETTAGLI\n NECESSARIA LA PRENOTAZIONE compilando il form sottostante oppure al numero tel/WhatsApp 3209771234\n Abbigliamento: scarpe e zaino da trekking\,  macchina fotografica\, acqua\, trolley piccolo\, abbigliamento a cipolla indicato per la stagione (giacca a vento\, pantaloni lunghi\, pile\, poncho o k-way).\nORGANIZZAZIONE TECNICA DEL VIAGGIO:\nSERAFINO sas Viaggi e Turismo LECCE IT\nP.I. 03207670757- Lic. DPGR 723/97 – C.C.I.A.A.7786/98 – Garanzia Assicurativa UnipolSai Pol. 1/1609/319/103399456 \nFatti un’idea di quello che vedremo guardando queste foto
URL:https://meditazioninmovimento.it/escursione/trekking-e-cultura-in-andalusia/
CATEGORIES:Viaggi trekking a piedi
ATTACH;FMTTYPE=:
END:VEVENT
BEGIN:VEVENT
DTSTART;TZID=Europe/Rome:20240317T080000
DTEND;TZID=Europe/Rome:20240324T080000
DTSTAMP:20260421T005919
CREATED:20171215T113742Z
LAST-MODIFIED:20250121T192331Z
UID:1789-1710662400-1711267200@meditazioninmovimento.it
SUMMARY:Trekking in Salento: camminare a piedi nella terra tra i due mari
DESCRIPTION:Trekking in Salento: davvero ci sono percorsi escursionistici in una terra piatta e senza montagne?\nInnanzitutto ci teniamo a precisare che (molti pugliesi non lo sanno) ma anche in Puglia abbiamo le “montagne”. Il profilo altimentrico della regione infatti parte dai 1100m sul livello del mare nel nord della Puglia dove ci sono i Monti Dauni ed il promontorio del Gargano. Gradualmente si scende a 500-600m sul livello del mare nella zona centrale delle Murge e man mano ancora più giù fino al Salento\, il tacco d’Italia\, dove nel cordone centrale sono presenti le Serre Salentine\, piccole “colline” che vanno dai 100 ai 200m sul livello del mare. In questo lembo di terra tra i due mari (lo Ionio da un lato\, l’Adriatico dall’altro) c’è un mondo di sentieri non segnati tutti da scoprire. \nPerchè camminare e fare trekking nel Salento quindi?\nPerchè abbiamo delle coste meravigliose in cui si alternano tratti di spiagge di sabbia fine a tratti di alta falesia per gli amanti degli scogli. Il mare è di un colore e di una pulizia unica (vedi le tante Bandiere Blu presenti nella zona). Se non conoscete o non avete ancora scoperto la bellezza dei cammini sul mare è l’occasione giusta per lasciarvi ammaliare ed affascinare da tutto ciò. \nPerchè fare trekking nel Salento proprio a marzo\, proprio in questa data?\nNegli ultimi anni il Salento e tutta la regione Puglia in genere ha avuto un boom turistico pazzesco. Noi proponiamo di venire a camminare nel Salento a marzo e proprio in questa settimana per diversi motivi. Ecco quali: \n\n\n\nil 19 marzo è la festa di San Giuseppe e qui nel Salento in questa data si celebra un rito ancestrale molto importante ed affascinante per la cultura e la popolazione locale: le tavole di San Giuseppe! Vi porteremo a scoprire e conoscere questo rituale antico che da secoli viene portato avanti in diversi paesini nei dintorni di Otranto.\nvogliamo farvi conoscere il Salento camminando a marzo perchè in questo periodo la primavera è nella sua massima esplosione e per gli amanti della Natura è un trionfo di colori\, fioriture e bellezza. In questo periodo potrete fare splendide foto poichè il paesaggio diventa una tavolozza piena di colori\, papaveri\, margherite\, calendula. E poi ovviamente vi faremo conoscere le affascinanti orchidee spontanee ( qui in Puglia ne crescono circa 90 specie diverse).\nmarzo è un periodo di bassa stagione\, vivrete le città turistiche come Gallipoli\, Lecce ed Otranto in una dimensione più umana\, lontano dalla folla estiva. I prezzi sono più bassi e avrete un’accoglienza più calorosa da parte della comunità locale.\nVi stupiremo infine con effetti speciali… (ma questa è una sorpresa…)\n\n\n\nProgramma ed itinerario:\nSabato 17 marzo: arrivi e sistemazioni. Nel pomeriggio trekking urbano e visita di Lecce. \nDomenica 18 marzo: Trekking dalla Grotta della Poesia ai Laghi Alimini passando dai faraglioni di Sant’Andrea. \nLunedì 19 marzo: Trekking a Giurdignano tra dolmen\, menhir ed il rito delle tavole di San Giuseppe \nMartedì 20 marzo: Trekking ad Otranto porta d’Oriente. Dalla cava di bauxite al punto più ad est d’Italia \nMercoledì 21 marzo: Benvenuta primavera! Trekking lungo le Vie del Sale e le Grotte Cipolliane \nGiovedì 22 marzo: Gallipoli ed il parco di punta Pizzo \nVenerdì: Trekking nel parco di Portoselvaggio \nSabato: partenze \nValutate il fatto di essere accompagnati da una persona locale\, profonda conoscitrice della zona. Vedrete il Salento coast to coast (sia lato adriatico che lato ionio). \nORGANIZZAZIONE TECNICA DEL VIAGGIO:\nSERAFINO sas Viaggi e Turismo LECCE IT\nP.I. 03207670757- Lic. DPGR 723/97 – C.C.I.A.A.7786/98 – Garanzia Assicurativa UnipolSai Pol. 1/1609/319/103399456
URL:https://meditazioninmovimento.it/escursione/trekking-in-salento/
CATEGORIES:Escursioni trekking in Salento
ATTACH;FMTTYPE=:
END:VEVENT
BEGIN:VEVENT
DTSTART;TZID=Europe/Rome:20240321T093000
DTEND;TZID=Europe/Rome:20240321T163000
DTSTAMP:20260421T005919
CREATED:20210103T171709Z
LAST-MODIFIED:20250121T190518Z
UID:3228-1711013400-1711038600@meditazioninmovimento.it
SUMMARY:La masseria Le Stanzie e la Serra di Supersano
DESCRIPTION:La masseria Le Stanzie e la Serra di Supersano\nIl percorso parte dalla masseria Le Stanzie\, antica masseria del Salento nei pressi della Serra di Supersano. La masseria Le Stanzie conserva ancora il fascino dei tempi antichi. Visitarla sarà come fare un salto nel passato! \nL’itinerario si snoda nell’Oasi Naturale della Serra di Supersano-Ruffano\, tra i relitti del Bosco Belvedere\, in un habitat caratterizzato da grande varietà di flora\, tra cui il cosiddetto albero della manna\, in una zona di antichissima frequentazione antropica. \nItinerario in uno dei luoghi più suggestivi del Capo di Leuca\, con camminamento che raggiunge il massimo effetto panoramico con l’affaccio sulla vallata dal balcone della solitaria Chiesetta della Madonna della Serra. Interessantissima la grotta rupestre affrescata dedicata alla Madonna di Coelimanna. con affreschi bizantini. Antiche pajare e caratteristici muretti a secco a delimitare i campi e una via Crucis incastonata in uno splendido sentiero naturalistico-collinare. \nLa Masseria Le Stanzie\nVisiteremo inoltre la stupenda Masseria Le Stanzie\, nel territorio dell’Antico Casale di Sombrino\, antica stazione di posta sulla “Strada dell’olio” con una strada carraia ancora ben visibile ed un antichissimo frantoio ipogeo. \nLa Masseria Le Stanzie si trova al centro di un crocevia importante fra la medioevale “via dei pellegrini” che congiungeva Santa Maria di Leuca con San Michele sul Gargano e la via francigena e la “via dell’olio” che\, dal 1400 al 1800\, congiungeva i porti di Otranto e Gallipoli per il commercio dell’olio in tutta Europa. \nIl complesso masserizio è molto articolato e la vocazione agricola è stata preservata fedelmente. Le Stanzie è un’azienda agricola con frutteti\, uliveti\, vigneti e coltivazione di ortaggi stagionali\, e con allevamento ovino e bovino. A seconda delle stagioni il pergolato esterno ospita collane di pomodori appesi\, mazzi di erbe aromatiche\, grano e cereali\, perfino foglie di tabacco stese ad asciugare al sole in omaggio alla più tipica coltura di questa zona ormai in disuso. \n INFO E DETTAGLI \n\nLunghezza della camminata: 15 km / difficoltà E (media) / durata 5/6 ore\n NECESSARIA LA PRENOTAZIONE compilando il form sottostante oppure al numero tel/WhatsApp 3209771234\n Durata: dalle ore 09.30 alle ore 16.30.\n Quota di partecipazione: €10\n Appuntamento:Ritrovo presso Caffè Liberty (Brindisi) ore 8:00. Ritrovo al punto di partenza della camminata presso Masseria Le Stanzie alle ore 9:30.\n Abbigliamento ed occorrente: scarpe da trekking\, zaino con acqua e pranzo al sacco\, bastoncini da trekking\, macchina fotografica\, occhiali e crema solare
URL:https://meditazioninmovimento.it/escursione/masseria-le-stanzie-serra-supersano/
CATEGORIES:Escursioni trekking in Salento
ATTACH;FMTTYPE=:
END:VEVENT
END:VCALENDAR