BEGIN:VCALENDAR
VERSION:2.0
PRODID:-//Escursioni trekking in Puglia - ECPv6.3.3//NONSGML v1.0//EN
CALSCALE:GREGORIAN
METHOD:PUBLISH
X-WR-CALNAME:Escursioni trekking in Puglia
X-ORIGINAL-URL:https://meditazioninmovimento.it
X-WR-CALDESC:Eventi per Escursioni trekking in Puglia
REFRESH-INTERVAL;VALUE=DURATION:PT1H
X-Robots-Tag:noindex
X-PUBLISHED-TTL:PT1H
BEGIN:VTIMEZONE
TZID:Europe/Rome
BEGIN:DAYLIGHT
TZOFFSETFROM:+0100
TZOFFSETTO:+0200
TZNAME:CEST
DTSTART:20240331T010000
END:DAYLIGHT
BEGIN:STANDARD
TZOFFSETFROM:+0200
TZOFFSETTO:+0100
TZNAME:CET
DTSTART:20241027T010000
END:STANDARD
END:VTIMEZONE
BEGIN:VEVENT
DTSTART;TZID=Europe/Rome:20240326T094500
DTEND;TZID=Europe/Rome:20240326T160000
DTSTAMP:20260420T205229
CREATED:20220325T094806Z
LAST-MODIFIED:20250121T175408Z
UID:2420-1711446300-1711468800@meditazioninmovimento.it
SUMMARY:Castro dall'Acquaviva alla Grotta Verde di Andrano
DESCRIPTION:Escursione: Castro dall’Acquaviva alla Grotta Verde di Andrano\nUn bellissimo itinerario di trekking in Salento sul mare tra Castro ed Andrano. Attraverso diversi tratturi antichi del parco Otranto\, Bosco di Tricase\, Santa Maria di Leuca\, conosceremo una delle zone più suggestive ed ancora incontaminate del Salento: l’insenatura (o canalone) dell’Acquaviva. Castro\, l’Acquaviva e la grotta verde di Andrano saranno i punti tappa fondamenti di questo itinerario a piedi nel Salento. La passeggiata sarà molto panoramica sulla costa tra Castro\, la marina di Marittima ed Andrano. \nPartiremo da Castro per raggiungere a piedi l’acquaviva e poi la grotta verde di Andrano. Il mare adriatico salentino sarà la nostra bussola e la natura sempre generosa e sorprendente del Salento cullerà i passi di questa escursione. Il nostro trekking ci vedrà camminare su in itinerario dove verranno attraversati gli antichi tratturi del Parco. Conosceremo la storia di Enea e del Castrum Minervae. Se le condizioni meteo marine lo consentiranno entreremo nella meravigliosa Grotta Verde di Andrano. \nPer tutti gli amanti del mare questa è un’escursione imperdibile per chi vuole conoscere il Salento a passo lento. \n INFO E DETTAGLI\nLunghezza della camminata: 15 km / difficoltà E (escursionisti allenati) / Dislivello: +350m/ durata 5 ore \n NECESSARIA LA PRENOTAZIONE compilando il form sottostante oppure al numero tel/WhatsApp 3209771234 \n Durata: dalle ore 09:45 alle ore 16.00 circa \n Appuntamento: Ritrovo presso Bar Liberty (Brindisi) ore 8:20. Ritrovo al punto di partenza della camminata presso Chiesa della Madonna dell’Attarico alle ore 09:45 \n Abbigliamento ed occorrente: scarpe da trekking\, k-way\, zaino con acqua e pranzo al sacco\, macchina fotografica\, abbigliamento a strati con giacca antivento.
URL:https://meditazioninmovimento.it/escursione/grotta-verde-di-andrano-al-seno-di-acquaviva/
LOCATION:grotta verde\, SP358\, 73032 Marina di Andrano LE\, Andrano\, Lecce\, 73032\, Italia
CATEGORIES:Escursioni trekking in Salento
ATTACH;FMTTYPE=image/jpeg:https://meditazioninmovimento.it/wp-content/uploads/2022/03/escursione-trekking-camminata-castro-canalone-acquaviva-300x214-1.jpg
END:VEVENT
END:VCALENDAR