BEGIN:VCALENDAR
VERSION:2.0
PRODID:-//Escursioni trekking in Puglia - ECPv6.3.3//NONSGML v1.0//EN
CALSCALE:GREGORIAN
METHOD:PUBLISH
X-ORIGINAL-URL:https://meditazioninmovimento.it
X-WR-CALDESC:Eventi per Escursioni trekking in Puglia
REFRESH-INTERVAL;VALUE=DURATION:PT1H
X-Robots-Tag:noindex
X-PUBLISHED-TTL:PT1H
BEGIN:VTIMEZONE
TZID:Europe/Rome
BEGIN:DAYLIGHT
TZOFFSETFROM:+0100
TZOFFSETTO:+0200
TZNAME:CEST
DTSTART:20240331T010000
END:DAYLIGHT
BEGIN:STANDARD
TZOFFSETFROM:+0200
TZOFFSETTO:+0100
TZNAME:CET
DTSTART:20241027T010000
END:STANDARD
END:VTIMEZONE
BEGIN:VEVENT
DTSTART;TZID=Europe/Rome:20240407T100000
DTEND;TZID=Europe/Rome:20240407T150000
DTSTAMP:20260420T192822
CREATED:20211228T150907Z
LAST-MODIFIED:20250121T154743Z
UID:4020-1712484000-1712502000@meditazioninmovimento.it
SUMMARY:Il sentiero delle ergate
DESCRIPTION:C’è un tratto di costa del Salento di una bellezza sconvolgente. E’ il tratto di scogliera rocciosa della costa adriatica salentina. Nel tratto di costa da Porto Badisco verso Santa Cesarea Terme vi sono numerosissime pagliare (pajare) sulla scogliera che i pescatori usavano durante le battute di pesca con una tecnica particolare. E’ il sentiero delle ergate\, queste pagliare impiegate nella pesca\, che percorreremo per questo itinerario a piedi tra i più affascinanti del Salento. \nIl sentiero delle Ergate a Porto Badisco\n  \n \nCammineremo verso Torre Miggiano\, sulla scogliera aspra ed affascinante che dalla baia di Porto Badisco conduce verso Santa Cesarea Terme. Il sentiero delle ergate è estremamente affascinante\, sia per la storia degli anziani pescatori\, sia per la bellezza disarmante del paesaggio che attraverseremo. \nIl sentiero delle ergate valorizza un antico sistema di pesca\, non censito sulla documentazione scientifica\, di queste macchine utilizzate in tempi lontani da contadini/pescatori\, per catturare il pesce azzurro nelle insenature del nostro mare. Di questi attrezzi da pesca che venivano riposti in queste pajare\, assieme alle zappe e ai panari. \nUn sistema di argani e carrucole utilizzato per calare e salpare reti pesanti: il sistema delle ÈRGATE! Oggi i sentieri che percorrevano i contadini pescatori per fare questo tipo di pesca sono una memoria da tutelare\, proprio con il sentiero delle ergate. \n INFO E DETTAGLI \n Lunghezza del percorso: 9 Km / Tempo di percorrenza: 5 ore / Difficoltà: media\n NECESSARIA LA PRENOTAZIONE entro il giorno prima compilando il form sottostante oppure al numero tel./WhatsApp 3209771234 \n Quota di partecipazione: €10\n ABBIGLIAMENTO RICHIESTO: scarpe da trekking\, k-way\, zaino con acqua\, macchina fotografica\, abbigliamento a strati.\n APPUNTAMENTO: ore 10:00 a Porto Badisco
URL:https://meditazioninmovimento.it/escursione/il-sentiero-delle-ergate/
LOCATION:Porto Badisco\, SP87\, Porto Badisco - Otranto\, LE\, 73028\, Italia
CATEGORIES:Escursioni trekking in Salento
ATTACH;FMTTYPE=image/jpeg:https://meditazioninmovimento.it/wp-content/uploads/2021/12/il-sentiero-delle-ergate-Porto-Badisco.jpg
ORGANIZER;CN="Luigina Geusa":MAILTO:info@meditazioninmovimento.it
END:VEVENT
END:VCALENDAR