BEGIN:VCALENDAR
VERSION:2.0
PRODID:-//Escursioni trekking in Puglia - ECPv6.3.3//NONSGML v1.0//EN
CALSCALE:GREGORIAN
METHOD:PUBLISH
X-ORIGINAL-URL:https://meditazioninmovimento.it
X-WR-CALDESC:Eventi per Escursioni trekking in Puglia
REFRESH-INTERVAL;VALUE=DURATION:PT1H
X-Robots-Tag:noindex
X-PUBLISHED-TTL:PT1H
BEGIN:VTIMEZONE
TZID:Europe/Rome
BEGIN:DAYLIGHT
TZOFFSETFROM:+0100
TZOFFSETTO:+0200
TZNAME:CEST
DTSTART:20240331T010000
END:DAYLIGHT
BEGIN:STANDARD
TZOFFSETFROM:+0200
TZOFFSETTO:+0100
TZNAME:CET
DTSTART:20241027T010000
END:STANDARD
END:VTIMEZONE
BEGIN:VEVENT
DTSTART;TZID=Europe/Rome:20240408T080000
DTEND;TZID=Europe/Rome:20240410T163000
DTSTAMP:20260420T192817
CREATED:20181204T101249Z
LAST-MODIFIED:20250121T190338Z
UID:2285-1712563200-1712766600@meditazioninmovimento.it
SUMMARY:Trekking tra Sapri e Maratea
DESCRIPTION:Trekking tra Sapri e Maratea\nEcco il programma: \nSabato 8 aprile: Monte Coccovello\, terrazza sul golfo di Policastro. \nIncontro presso bar Liberty di Brindisi od altro punto di incontro lungo la strada. Partenza con mezzi propri per Sapri. Arrivati sul posto escursione pomeridiana sul Monte Coccovello\, balcone sul golfo di Policastro e la costa di Maratea. L’escursione al Coccovello è semplice ma appagante per gli splendidi panorami e spazi aperti che dona. E’ il monte più alto del versante tirrenico dell’Appennino lucano. E’ compreso tra i comuni di Trecchina\, Rivello e Maratea. L’aspetto geologico ambientale più significativo è il carsismo con tutti i suoi\nfenomeni sia superficiali (doline) che profonde (grotte) che gli hanno dato l’appellativo di “groviera della Basilicata”. Dalla sua vetta è visibile: il Golfo di Policastro\, il basso Cilento\, il Sirino\, l’alta valle del Mercure\, il gruppo del Pollino\, i monti dell’Orsomarso. Al termine del trekking spostamento a Sapri\, sul mare. Check-in in hotel. Cena e pernottamento. \nDomenica 9 aprile: Il sentiero apprezzamilasino e la spigolatrice di Sapri\nDopo colazione partenza del trekking lungo il sentiero Apprezzamilasino. Cammineremo a mezza costa\, consentendoci incantevoli viste sul Golfo saprese\, su quello di Policastro e sullo scoglio della Spigolatrice (o dello Scialandro). \nE’ il vecchio sentiero che congiungeva Sapri a Maratea e alla Calabria\, prima che fosse costruita la statale 18.  In dialetto era chiamato “Apprezzam’ u ciucc’ “; tradotto oggi in “Apprezzami l’asino”. Un nome bizzarro che deriva dalla leggenda che voleva il sentiero così stretto ed irto da non consentire il passaggio contemporaneo di due asini. La vista spazierà persino sulla statua della Spigolatrice di Sapri che ci ricorda la storia di Carlo Pisacane nel suo tentativo di unificare l’Italia. Alla fine del percorso se ci saranno i tempi ci sposteremo in auto a Casaletto Spartano per ammirare la meravigliosa cascata Capelli di Venere o del centro storico di Vibonati. Rientro a Sapri. Cena e pernottamento. \nTipo di percorso: anello / Lunghezza del percorso: 9 Km / Dislivello: +350/ – 350 / Durata: 3h / Difficoltà: E \nLunedì 10 aprile: Maratea ed il Cristo Redentore\nDopo colazione check-out e spostamento a Maratea. Dal grazioso centro storico partiremo per il cammino che ci porterà alla statua del Cristo Redentore. Camminare attraverso il sentiero del Monte San Biagio è tra le esperienze che meglio aiutano a conoscere ed amare Maratea. La piacevole passeggiata ad anello si sviluppa sugli antichi percorsi che per molti secoli hanno collegato l’antico borgo del Castello all’attuale Centro Storico di Maratea\, intrecciandone storia e tradizioni. Inutile dire della spettacolare vista di cui potremo godere una volta giunti sotto la statua del Cristo. Dopo le varie foto di rito ridiscenderemo dal versante opposto del monte per tornare a piedi a Maratea per una sosta caffè. Se le condizioni meteo-marine lo consentiranno si potrà optare per una gita in barca (non inclusa) prima del ritorno a casa. \nTipo di percorso: solo andata / Lunghezza del percorso: 6 Km / Dislivello: +350/ – 600 / Durata: 4h / Difficoltà: E \n INFO E DETTAGLI \n\n\n NECESSARIA LA PRENOTAZIONE compilando il form sottostante oppure al numero tel/WhatsApp 3209771234\n Abbigliamento: scarpe e zaino da trekking\, bastoncini da trekking (obbligatori)\, trolley piccolo\, abbigliamento a cipolla indicato per la stagione (giacca a vento\, pantaloni lunghi\, pile\, t-shirt).\n\nORGANIZZAZIONE TECNICA DEL VIAGGIO:\nSERAFINO sas Viaggi e Turismo LECCE IT\nP.I. 03207670757- Lic. DPGR 723/97 – C.C.I.A.A.7786/98 – Garanzia Assicurativa UnipolSai Pol. 1/1609/319/103399456 \n 
URL:https://meditazioninmovimento.it/escursione/trekking-tra-sapri-e-maratea/
CATEGORIES:Viaggi trekking a piedi
ATTACH;FMTTYPE=:
END:VEVENT
BEGIN:VEVENT
DTSTART;TZID=Europe/Rome:20240409T093000
DTEND;TZID=Europe/Rome:20240409T150000
DTSTAMP:20260420T192817
CREATED:20200206T141347Z
LAST-MODIFIED:20250121T190253Z
UID:2723-1712655000-1712674800@meditazioninmovimento.it
SUMMARY:Il Bosco\, la masseria Pilano e gli asini di Martina Franca
DESCRIPTION:Oggi vi porteremo a camminare  nell’oasi naturale del bosco di Pilano\, tra Martina Franca e Crispiano alla scoperta dell’antico bosco di querce\, della grotta di Pilano in cui sono stati ritrovati numerosi strumenti litici databili al paleolitico superiore. \nGodremo di una splendida vista panoramica sul Golfo di Taranto dalla statua del Cristo Redentore realizzata nel 1904 in occasione del Giubileo del 1900 indetto da Papa Leone XIII. Di ritorno ci fermeremo a pranzo alla Masseria Pilano per degustare i prodotti tipici e conoscere gli asini di Martina Franca.  \nLa Masseria Pilano è un’antica masseria del XVII secolo situata in una vasta piana della zona pre-murgiana\, nel Parco Naturale Regionale Terra delle Gravine. Qui si produce dell’ottimo olio d’oliva\,  grano e si allevano le razze di mucca podolica ed il cavallo murgese. \nINFO E DETTAGLI\nLunghezza della camminata: 10 km / difficoltà T (turistica= facile) / Dislivello: +150m/ durata 4 ore\n NECESSARIA LA PRENOTAZIONE compilando il form sottostante oppure al numero tel/WhatsApp 3209771234\n Durata: dalle ore 9:45 alle ore 14.00 circa.\n Quota di partecipazione: €10\n Appuntamento: ore 8:15 presso Lidl di Brindisi (spalle Globo). Ritrovo al punto di partenza della camminata presso la Masseria Pilano alle ore 9:30. \n Abbigliamento ed occorrente: scarpe da trekking\, k-way\, zaino con acqua e pranzo al sacco\, macchina fotografica\, abbigliamento a strati con giacca antivento.
URL:https://meditazioninmovimento.it/escursione/il-bosco-la-masseria-pilano/
CATEGORIES:Escursioni nella Terra delle Gravine
ATTACH;FMTTYPE=:
END:VEVENT
BEGIN:VEVENT
DTSTART;TZID=Europe/Rome:20240409T093000
DTEND;TZID=Europe/Rome:20240414T143000
DTSTAMP:20260420T192817
CREATED:20180206T130525Z
LAST-MODIFIED:20250121T191722Z
UID:1897-1712655000-1713105000@meditazioninmovimento.it
SUMMARY:Pasqua in cammino sui sentieri del Parco Nazionale del Gargano
DESCRIPTION:Pasqua in cammino sui sentieri del Parco Nazionale del Gargano.\nArriva la pasqua\, pochi giorni dopo la Primavera. La Natura si risveglia\, il sole splende più forte ed allunga le giornate\, fa fiorire le orchidee spontanee del Parco Nazionale del Gargano\, calma il mare e lo rende quieto e limpido in tutta la sua bellezza.  \nSe nei giorni della rinascita vuoi vivere una rinascita interiore anche tu allora unisciti a questo viaggio di gruppo in cammino sui sentieri del Parco Nazionale del Gargano. Cammineremo lungo i tratti della costa più sorprendenti e panoramici che il Gargano può offrire.  \nDopo questo break dalla vita quotidiana ti sentirai rigenerato e pieno di bellezza; quella che i tuoi occhi avranno catturato e vissuto in questo meraviglioso paradiso terrestre della nostra Puglia\, protetto e tutelato dal Parco Nazionale del Gargano. Abbiamo già esplorato altri itinerari in altre occasioni; i percorsi di trekking che vi proponiamo stavolta ci vedranno camminare lungo la costa\, puntellata dai caratteristici trabucchi.  \nFaremo una gita in barca per conoscere le leggende delle bellissime grotte marine che si aprono nelle acque smeraldo tra i calcari bianchi della falesia. E poi ancora assisteremo alla lavorazione del caciocavallo\, presidio Slow food. Vi faremo conoscere due tra le perle della costa del Gargano: Peschici e Vieste. Insomma\, vi faremo immergere sotto diversi aspetti nella cultura e nelle tradizioni del Gargano affinchè possiate conoscerlo davvero. E ricordate: “solo dove sei stato a piedi\, sei stato veramente…”. \nProgramma delle escursioni sui sentieri del Parco Nazionale del Gargano:\n9 aprile: escursione walking Peschici e la costa dei trabucchi. Lunghezza del cammino: 8Km / Tempo di percorrenza: 3 ore / Dislivello: +150m \n1o aprile. Giro in barca alle grotte marine e walking lungo la costa dei trabucchi da Vieste a Torre di Sfinale. \nLunghezza del cammino: 12Km / Tempo di percorrenza: 4 ore/ Dislivello : +200m \n11 aprile. Escursione sui sentieri della foresta umbra \nLunghezza del cammino: 10Km / Tempo di percorrenza: 3 ore/ Dislivello : +50m \n 12 aprile (Pasqua): escursione walking nella valle degli eremi di Pulsano \nLunghezza del cammino: 8Km / Tempo di percorrenza: 5 ore/ Dislivello : +250m \n13 aprile (Pasquetta): escursione walking a Monte Saraceno e Monte Sacro lungo il sentiero delle orchidee \nLunghezza del cammino: 10Km / Tempo di percorrenza: 5 ore/ Dislivello : +300m \n14 aprile: escursione walking la Via dell’Amore lungo i sentieri della baia di Vignanotica \nLunghezza del cammino: 5Km / Tempo di percorrenza: 3 ore/ Dislivello : +200m \n\n\nINFO E DETTAGLI\n NECESSARIA LA PRENOTAZIONE compilando il form sottostante oppure al numero tel/WhatsApp 3209771234\n Abbigliamento: scarpe e zaino da trekking\,  macchina fotografica\, acqua\, trolley piccolo\, abbigliamento a cipolla indicato per la stagione (giacca a vento\, pantaloni lunghi\, pile\, poncho o k-way).\n\n\n\n \n\n\nORGANIZZAZIONE TECNICA DEL VIAGGIO:\n SERAFINO sas Viaggi e Turismo LECCE IT\n P.I. 03207670757- Lic. DPGR 723/97 – C.C.I.A.A.7786/98 – Garanzia Assicurativa UnipolSai Pol. 1/1609/319/103399456\n\n\nGuarda le foto delle nostre precedenti esperienze di cammino nel Gargano
URL:https://meditazioninmovimento.it/escursione/sui-sentieri-del-parco-nazionale-del-gargano/
CATEGORIES:Escursioni a piedi nel Parco Nazionale del Gargano
ATTACH;FMTTYPE=:
END:VEVENT
END:VCALENDAR