BEGIN:VCALENDAR
VERSION:2.0
PRODID:-//Escursioni trekking in Puglia - ECPv6.3.3//NONSGML v1.0//EN
CALSCALE:GREGORIAN
METHOD:PUBLISH
X-ORIGINAL-URL:https://meditazioninmovimento.it
X-WR-CALDESC:Eventi per Escursioni trekking in Puglia
REFRESH-INTERVAL;VALUE=DURATION:PT1H
X-Robots-Tag:noindex
X-PUBLISHED-TTL:PT1H
BEGIN:VTIMEZONE
TZID:Europe/Rome
BEGIN:DAYLIGHT
TZOFFSETFROM:+0100
TZOFFSETTO:+0200
TZNAME:CEST
DTSTART:20240331T010000
END:DAYLIGHT
BEGIN:STANDARD
TZOFFSETFROM:+0200
TZOFFSETTO:+0100
TZNAME:CET
DTSTART:20241027T010000
END:STANDARD
END:VTIMEZONE
BEGIN:VEVENT
DTSTART;TZID=Europe/Rome:20240415T060000
DTEND;TZID=Europe/Rome:20240417T160000
DTSTAMP:20260420T192821
CREATED:20170316T174322Z
LAST-MODIFIED:20250121T192636Z
UID:1305-1713160800-1713369600@meditazioninmovimento.it
SUMMARY:Trekking di Pasqua e pasquetta nel Gargano
DESCRIPTION:Trekking Gargano di Pasqua e pasquetta\n\nLa Primavera bussa e iniziano già le fioriture e le prime orchidee. Per Pasqua quest’anno fai qualcosa di diverso.\n\n\nVieni con noi a conoscere le meraviglie del Parco Nazionale del Gargano e vivere 3 giorni a contatto con la Natura e lo sport in un contesto naturalistico incontaminato. \n\n\n \n\n\nSABATO 15 APRILE: GLI EREMI DI PULSANO\n\n\nPartenza dei partecipanti (con auto proprie) da Brindisi ore 6:00. Ore 7:15 sosta a Bari presso stazione di servizio IpMatic Bari (superare l’uscita della tangenziale 13B – Mungivacca in direzione Foggia. Dopo circa 300mt troverete la stazione di servizio lungo la tangenziale) per caffè veloce e per l’incontro di eventuali altri partecipanti provenienti da Bari e provincia. Ore 9:00 arrivo a Monte Sant’Angelo ed escursione agli eremi di Pulsano\, tra i luoghi del cuore FAI. \nQuesti eremi costituiscono il cuore intimo di Pulsano e rappresentano una delle più forti manifestazioni religiose del monachesimo sul Gargano. Saremo immersi in un luogo dove la sacralità del posto si percepisce ancora molto forte. Arrivo alla meravigliosa abbazia di Pulsano (rito ortodosso) e picnic di gruppo con prodotti locali. \nRientro a Monte Sant’Angelo e visita del santuario Micaelico\, patrimonio UNESCO (se molti di voi ci sono già stati siamo sicuri che pochi sanno dell’esistenza delle incisioni runiche ed altre sorprese…). Check-in in b&b\, doccia e cena in un ristorante del centro storico. Pernottamento. Lunghezza del percorso: 8 Km / Dislivello: 300m / Tempo di percorrenza: 4 ore \n\n\n DOMENICA 16 APRILE (PASQUA): BAIA DELLE ZAGARE E VIGNANOTICA\n\n\nColazione e trasferimento in auto presso Monte Barone. Il sentiero\, di notevole valore paesaggistico\, si sviluppa a mezzacosta a strapiombo sul mare ed è ricoperto da una lussureggiante macchia mediterranea\, alternata a pineta\, lecceta e uliveti secolari. Durante il sentiero godremo di un’ottima vista panoramica sui faraglioni di Baia delle Zagare\, tant’è che ci sembrerà quasi di toccarli.\nCammineremo fino ad arrivare alla Baia di Vignanotica\, bellissima spiaggia dalle bianche ed alte falesie. L’escursione naturalistica terminerà a Monte Barone\,riserva naturale statale dove consumeremo il nostro picnic (organizzato dalla guida con prodotti locali). Rientro a Monte Sant’Angelo. Cena e pernottamento. Lunghezza del percorso: 13 Km / Dislivello: 600m / Tempo di percorrenza: 5 ore\n\n\n \n\n\nLUNEDI’ 17 APRILE (PASQUETTA): MONTE SARACENO\, LA QUIETE DI UN’ANTICA NECROPOLI + MONTE SACRO ED IL SENTIERO DELLE ORCHIDEE\n\n\nColazione e spostamento in auto a Mattinata per percorrere il sentiero della più famosa necropoli dauna (VIII-VII sec. a.C.). Sin dalle remote origini\, la storia di Mattinata\, o della vecchia Matino\, coincide con quella del vicino Monte Saraceno. Gli antichi abitatori del territorio s’insediarono nella piana e su uno sperone roccioso che chiamarono Monte Matino\, l’attuale Monte Saraceno ed ivi costruirono una necropoli-santuario che conserva le più mirabili testimonianze dei Dauni.\nQuesto bellissimo sentiero panoramico sul mare ci consentirà di ammirare le bellezze della costa garganica ed avere una vista spettacolare sulle falesie di Mattinata. Qui conosceremo anche dei particolari fossili. Il nostro percorso terminerà nella spiaggia di ciottoli di Mattinata. Picnic. Spostamento in macchina a Monte Sacro per percorrere il “Sentiero delle orchidee” e visitare l’antica abbazia Benedettina della SS. Trinità.\n\nLungo la strada del rientro tappa per la visita dell’abbazia di Siponto\, recentemente restaurata e riportata agli antichi splendori e poi all’abbazia di San Leonardo. Qui si conclude la nostra 3 giorni molto ricca. Rientro a Bari/Brindisi. Lunghezza del percorso: 9 Km totali / Dislivello: 450m / Tempo di percorrenza: 5 ore\n\n\n \n\n\n\n\nINFO E DETTAGLI\n NECESSARIA LA PRENOTAZIONE compilando il form sottostante oppure al numero tel/WhatsApp 3209771234\n Abbigliamento: scarpe e zaino da trekking\,  macchina fotografica\, acqua\, trolley piccolo\, abbigliamento a cipolla indicato per la stagione (giacca a vento\, pantaloni lunghi\, pile\, poncho o k-way).\n\n\nORGANIZZAZIONE TECNICA DEL VIAGGIO:\nSERAFINO sas Viaggi e Turismo LECCE IT\nP.I. 03207670757- Lic. DPGR 723/97 – C.C.I.A.A.7786/98 – Garanzia Assicurativa UnipolSai Pol. 1/1609/319/103399456
URL:https://meditazioninmovimento.it/escursione/trekking-gargano-pasqua-pasquetta/
CATEGORIES:Escursioni trekking in Salento
ATTACH;FMTTYPE=:
END:VEVENT
BEGIN:VEVENT
DTSTART;TZID=Europe/Rome:20240416T100000
DTEND;TZID=Europe/Rome:20240416T163000
DTSTAMP:20260420T192821
CREATED:20211228T123105Z
LAST-MODIFIED:20250121T155513Z
UID:4029-1713261600-1713285000@meditazioninmovimento.it
SUMMARY:Le rupi di San Mauro e le cave di carparo
DESCRIPTION:Escursione le rupi di San Mauro e le cave di carparo del salento\nSe avete voglia di scoprire qualcosa di nuovo a pochi passi da casa non potete perdervi questo itinerario\, con l’escursione tra le rupi di San Mauro e le cave di carparo del Salento. \nCon questo percorso a piedi sul versante ionico salentino vi porteremo a percorrere antiche vie di pellegrinaggio su cui si spostavano i pellegrini in epoca medievale. Una di queste vie che percorrevano il salento era denominata proprio Via Sallentina. \nIl nostro itinerario ne intercetta ciò che rimane ancora alla luce e ci porterà dal mar ionio a salire sulla serra dell’Altolido\, tra Gallipoli e Sannicola. Si passerà dall’abbazia di San Mauro\, ricca di affreschi bizantini e da pochi anni restaurata. Un vero gioiello di arte medievale. \nLe rupi di San Mauro e le cave di carparo del salento\nUna volta scesi dalle rupi di San Mauro torneremo al punto di partenza del nostro itinerario per spostarci questa volta in auto. Visiteremo le cave di carparo\, spettacolari ambienti frutto del duro lavoro dell’uomo. Scopriremo tutte le tecniche di estrazione della pietra locale di Gallipoli e resteremo esterrefatti dalla bellezza di quanto l’uomo può creare. Sono luoghi straordinari resi da poco accessibili. un’occasione da non perdere per ammirare questo spettacolo! \n \n INFO E DETTAGLI. \nLunghezza della camminata: 8 km / difficoltà T (facile) / Dislivello: trascurabile/ Durata 4 ore \n NECESSARIA LA PRENOTAZIONE compilando il form sottostante oppure al numero tel/WhatsApp 3209771234 \n Quota di partecipazione: €10. La quota non include il ticket di ingresso alla chiesa di San Mauro\, pari a 5€ (facoltativo) da conferire direttamente alla Pro Loco \n Durata: dalle ore 10:00 alle ore 16:30 circa \n Appuntamento: Ritrovo al punto di partenza della camminata alle ore 10:00 (verrà inviata posizione Google Maps del punto di ritrovo ai prenotati). \n Abbigliamento ed occorrente: scarpe da trekking\, k-way\, zaino con acqua e pranzo al sacco\, abbigliamento a strati con giacca antivento.
URL:https://meditazioninmovimento.it/escursione/rupi-san-mauro-cave-carparo/
CATEGORIES:Escursioni trekking in Salento
ATTACH;FMTTYPE=image/jpeg:https://meditazioninmovimento.it/wp-content/uploads/2021/12/cattedrali-di-carparo-gallipoli-salento.jpg
END:VEVENT
END:VCALENDAR