BEGIN:VCALENDAR
VERSION:2.0
PRODID:-//Escursioni trekking in Puglia - ECPv6.3.3//NONSGML v1.0//EN
CALSCALE:GREGORIAN
METHOD:PUBLISH
X-ORIGINAL-URL:https://meditazioninmovimento.it
X-WR-CALDESC:Eventi per Escursioni trekking in Puglia
REFRESH-INTERVAL;VALUE=DURATION:PT1H
X-Robots-Tag:noindex
X-PUBLISHED-TTL:PT1H
BEGIN:VTIMEZONE
TZID:Europe/Rome
BEGIN:DAYLIGHT
TZOFFSETFROM:+0100
TZOFFSETTO:+0200
TZNAME:CEST
DTSTART:20240331T010000
END:DAYLIGHT
BEGIN:STANDARD
TZOFFSETFROM:+0200
TZOFFSETTO:+0100
TZNAME:CET
DTSTART:20241027T010000
END:STANDARD
END:VTIMEZONE
BEGIN:VEVENT
DTSTART;TZID=Europe/Rome:20240429T063000
DTEND;TZID=Europe/Rome:20240501T170000
DTSTAMP:20260420T180419
CREATED:20200923T185644Z
LAST-MODIFIED:20250121T155303Z
UID:3037-1714372200-1714582800@meditazioninmovimento.it
SUMMARY:Trekking nel Gargano tra gli Eremi di Pulsano\, Monte Sacro e Monte Saraceno
DESCRIPTION:Il modo migliore per scoprire il nord della Puglia ed il suo Parco Nazionale\, è quello di fare trekking nel Gargano. Infatti il Gargano è un territorio vario e ricco di biodiversità\, con paesaggi di incommensurabile bellezza\, Santuari devozionali localizzati lungo l’antica Via Francigena del Sud. Ci sono inoltre foreste dove si possono apprezzare alberi secolari\, spiagge meravigliose\, cibo genuino\, mentre la cucina del territorio è legata alla tradizione della civiltà contadina. \nProgramma ponte 1 maggio: trekking nel Gargano agli eremi di Pulsano\, Monte Sacro e Monte Saraceno\, Romandato\nSabato 29 aprile: la necropoli dauna di Monte Saraceno e l’abbazia di Monte Sacro\nPartenza con auto proprie (con possibilità di car sharing) la mattina presto ed arrivo a Mattinata per le 9:30 circa. Tempo per un caffè al bar e partenza per l’itinerario di trekking a Monte Saraceno\, dal quale godremo di una meravigliosa vista della costa di Mattinata e scopriremo la necropoli dauna. Dopo il picnic al mare con possibilità di bagno e relax nelle ore più calde della giornata\, il pomeriggio con il calare del sole e del caldo ci trasferiremo a Monte Sacro per percorrere il “Sentiero delle Orchidee” e raggiungere la vetta con i ruderi dell’Abbazia Benedettina “SS. Trinita” risalente al secolo XI. Al termine del trekking spostamento a Monte Sant’Angelo. Check-in in hotel. Cena e pernottamento.\nPercorso1 Lunghezza del percorso: 4 Km / Dislivello: -300m / Ore di cammino: 3 ore\nPercorso2 Lunghezza del percorso: 6 Km / Dislivello: +300m -300m / ore di cammino: 2 ore \nDomenica 30 aprile: trekking agli eremi di Pulsano\nDopo la colazione partenza per il trekking agli eremi di Pulsano nel Gargano. La “Valle degli Eremi” di Pulsano è tra i luoghi del cuore FAI. Nei dintorni dell’Abbazia di Pulsano sono localizzati degli eremi\, alcuni di loro sono ubicati su luoghi davvero inaccessibili. \nQuesti eremi costituiscono il cuore intimo di Pulsano e rappresentano una delle più forti manifestazioni religiose del monachesimo sul Gargano. Il sentiero per accedere a gran parte di questi eremi è sconnesso\, con alcuni tratti esposti ma l’ambiente è assolutamente unico e suggestivo. Cammineremo nel silenzio di luoghi pregni di spiritualità\, dove monaci ed eremiti erano dediti al lavoro ed alla ricerca spirituale.  Raggiungeremo l’eremo dello Studion e l’eremo del Mulino. La fatica sopportata durante l’escursione sono abbondantemente ripagate da uno splendido panorama sul Golfo di Manfredonia oltre che da una consapevole ammirazione per l’ingegnosità delle strutture realizzate. \nVisiteremo l’abbazia di Pulsano\, gioiello solitario del romanico pugliese sulla montagna del sole. Pranzeremo con prodotti tipici e di ritorno a Monte Sant’Angelo visiteremo il santuario di San Michele Arcangelo\, patrimonio UNESCO. E’ un luogo di grande energia con una storia millenaria. Ammireremo le incisioni runiche e gli angoli più reconditi di quello che è stato il primo santuario Micaelico in Europa\, facente parte anche della ley lines. Dopo una passeggiata nel borgo medievale del rione junno. Rientro in hotel per la cena e pernottamento. \nLunghezza del percorso: 8 Km / Dislivello: +350m / Ore di cammino: 5 ore / Difficoltà: EE (Escursionisti Esperti) \nLunedì 1 maggio: trekking nel torrente Romandato\nDopo la colazione check-out e trasferimento ad Ischitella per la partenza del trekking nel torrente Romandato. Il trekking ad anello di nel canyon del Romandato e Monte Civita è un itinerario che tocca numerosi punti di interesse storico-naturalistici come la necropoli daunia di Monte Civita\, la sorgente di acqua del confine e l’affascinante gola del Romandato.\nDurante il cammino ammireremo le manifestazioni del carsismo che hanno modellato\, per millenni\, il Gargano. E poi la potenza dell’acqua che ha scavato le gole strette del torrente Romondato e che\, in alcuni punti\, raggiunge altezze ragguardevoli tali da fargli attribuire il nome improprio di “canyon” del Gargano. Torneremo al punto di partenza attraverso un’antichissima e suggestiva mulattiera circondata da muri a secco e con vista panoramica sul Lago di Varano. Al termine del trekking rientro a casa. \n INFO E DETTAGLI \nLunghezza del percorso: 15Km / Dislivello: +350m / Ore di Cammino:5 / Difficoltà: media\n\n NECESSARIA LA PRENOTAZIONE compilando il form sottostante oppure al numero tel/WhatsApp 3209771234 \n Abbigliamento: scarpe e zaino da trekking\, bastoncini da trekking\, macchina fotografica\, acqua\, trolley piccolo\, abbigliamento a cipolla indicato per la stagione (giacca a vento\, pantaloni lunghi\, pile). \nORGANIZZAZIONE TECNICA DEL VIAGGIO:\nSERAFINO sas Viaggi e Turismo LECCE IT\nP.I. 03207670757- Lic. DPGR 723/97 – C.C.I.A.A.7786/98 – Garanzia Assicurativa UnipolSai Pol. 1/1609/319/103399456
URL:https://meditazioninmovimento.it/escursione/trekking-nel-gargano/
CATEGORIES:Escursioni a piedi nel Parco Nazionale del Gargano
ATTACH;FMTTYPE=image/jpeg:https://meditazioninmovimento.it/wp-content/uploads/2020/09/Trekking-nel-Gargano-tra-gli-Eremi-di-Pulsano-Monte-Sacro-e-Monte-Saraceno.jpg
END:VEVENT
BEGIN:VEVENT
DTSTART;TZID=Europe/Rome:20240430T073000
DTEND;TZID=Europe/Rome:20240501T180000
DTSTAMP:20260420T180419
CREATED:20200122T163856Z
LAST-MODIFIED:20250121T174953Z
UID:2686-1714462200-1714586400@meditazioninmovimento.it
SUMMARY:Camminando tra i calanchi di Aliano ed il paese fantasma di Craco in Basilicata
DESCRIPTION:Sarà un ponte del 1 maggio molto ricco ed entusiasmante per tutti i nostri soci che decideranno di partecipare a questo mini trekking tour alla volta della Basilicata camminando tra i calanchi di Aliano alla scoperta di paesaggi lunari ed il paese fantasma di Craco in Basilicata. Per non farci mancare proprio nulla arricchiremo le nostre conoscenze con un walking tour per le viuzze della Rabatana di Tursi\, paese medievale della Val D’Agri. \n\nProgramma cammindo tra i calanchi di Aliano ed il paese fantasma di Craco in Basilicata\n30 aprile: i calanchi di Montalbano Jonico\, la città fantasma di Craco\, la rabatana di Tursi e la Chiesa di Anglona\nPartenza con auto proprie da Brindisi e Taranto ore 7:30. (Eventuali soci Baresi possono raggiungere il gruppo sulla SS106). Arrivo a Montalbano Jonico per il trekking ai calanchi Appiet u Mulin e appiet u castiedd. Trekking abbastanza semplice dove si potranno vedere i fossili nei calanchi e comprendere la formazione geologica degli stessi. Pranzo al sacco libero poi proseguiremo per  Craco il paese fantasma abbandonato a seguito di una frana e visita del monastero che racconta la storia di Craco. \nSi proseguirà per Tursi dove ci attenderà una guida autorizzata della regione Basilicata per la visita guidata della Rabatana\, uno splendido groviglio di viuzze e case costruite con pietre e laterizi\, eredità della dominazione araba. \n“Ma io voglio bene alla Rabatana/perché c’è morta la mamma mia:/la portarono bianca sopra la sedia/con me nelle fasce come una Madonna/col Bambinello in braccio./Chi lo sa il tempo che è passato…/ e non ritorna ancora al palazzo”. Sono alcuni versi tratti da “’A Ravatène” (“La Rabatana”) di Albino Pierro\, il poeta dialettale originario di Tursi e più volte candidato al Premio Nobel per la Letteratura\, che nelle sue opere ha tratto spesso ispirazione dall’antico quartiere\, come quando parla delle ‘jaramme’ i precipizi che circondano la Rabatana. Tursi è inserita tra i “Borghi autentici d’Italia”. Dopo la visita della Chiesa di Santa Maria Maggiore con la cripta e gli splendidi affreschi visiteremo la bellissima chiesa di Santa Maria di Anglona\, edificio medievale anch’esso ricchissimo di stupendi affreschi. Infine ci sposteremo poi in agriturismo. Cena tipica lucana e pernottamento. \nLunghezza del percorso: 6 Km / Dislivello:+250m / Tempo di percorrenza: 2\,5 ore \n1 maggio: i calanchi di Aliano.\nColazione\, check-out e breve trasferimento ad Aliano\, paese di confino di Carlo Levi. Qui ci immergeremo nella natura stupefacente ed il paesaggio lunare dei calanchi. Pranzo al sacco autogestito. Al termine dell’escursione a piedi rientro per la Puglia. Sarà affascinante ripercorrere i passi del celebre libro “Cristo si è fermato ad Eboli”. N.B. L’escursione non è adatta ad adulti sedentari e poco allenati. \n\nNote tecniche: Difficoltà: media / Lunghezza del percorso: 11 Km / Dislivello:+400m / Tempo di percorrenza: 4/5 ore\n\n\n\n\n INFO E DETTAGLI \n\n\n Appuntamento: partenza sabato 30 aprile ore 7:30 da Brindisi. Chi non è automunito può comunicarlo al momento dell’adesione ed usufruire del car sharing dividendo i costi del carburante con chi mette a disposizione l’auto.\n Abbigliamento ed occorrente: scarpe da trekking\, zaino\, acqua\, frutta secca e barrette energetiche\, macchina fotografica\, occhiali e crema solare\, abbigliamento a strati.\n\n\nORGANIZZAZIONE TECNICA DEL VIAGGIO:\nSERAFINO sas Viaggi e Turismo LECCE IT\nP.I. 03207670757- Lic. DPGR 723/97 – C.C.I.A.A.7786/98 – Garanzia Assicurativa UnipolSai Pol. 1/1609/319/103399456
URL:https://meditazioninmovimento.it/escursione/i-calanchi-di-aliano-e-craco-in-basilicata/
CATEGORIES:Trekking Basilicata
ATTACH;FMTTYPE=image/jpeg:https://meditazioninmovimento.it/wp-content/uploads/2020/01/craco-paese-fantasma-della-Basilicata-300x200-1.jpg
END:VEVENT
BEGIN:VEVENT
DTSTART;TZID=Europe/Rome:20240430T153000
DTEND;TZID=Europe/Rome:20240430T193000
DTSTAMP:20260420T180419
CREATED:20170127T181647Z
LAST-MODIFIED:20250121T174852Z
UID:1196-1714491000-1714505400@meditazioninmovimento.it
SUMMARY:La palude del capitano in Salento
DESCRIPTION:La Palude del Capitano\nl’escursione alla palude del capitano comincerà dalla torre di Sant’Isidoro\, divenuta famosa in quanto fonte di ispirazione per la canzone “Acqua azzurra\, acqua chiara” di Mogol e Battisti. Dalla torre si procederà verso sud alla scoperta della bellissima costa rocciosa mista ad incantevoli spiaggette che caratterizzano la zona. Si cammina fino a raggiungere attraverso suggestivi sentieri la Palude del Capitano\, che con le sue acque fresche e limpide\, offre uno scenario molto particolare dovuto al fenomeno carsico delle “spunnulate”. Lungo i sentieri tra paludi\, salicorneto e macchia mediterranea\, non sarà difficile osservare qualche volatile\, oltre alle fioriture tardo primaverili della macchia. Il tutto circondati da un mare mozzafiato! Giungeremo fino a Torre Inserraglio per poi fare ritorno alle auto facendo sosta alla casa del capitano\, dalla cui sommità si potrà ammirare dall’alto tutta la zona circostante. La camminata terminerà al tramonto \n \n INFO E DETTAGLI \n Lunghezza 10 km / difficoltà: bassa / durata: 4 ore\n Durata: dalle ore 15:30 alle ore 19:30 circa\n Quota di partecipazione: €10\n ABBIGLIAMENTO RICHIESTO: scarpe da trekking\, k-way\, zaino con acqua\, macchina fotografica\, abbigliamento a strati.\n NECESSARIA LA PRENOTAZIONE compilando il form sottostante oppure al numero tel/WhatsApp 3209771234\n APPUNTAMENTO: Ritrovo al punto di partenza della camminata presso la Torre di Sant’Isidoro alle ore 15:30
URL:https://meditazioninmovimento.it/escursione/trekking-nella-palude-del-capitano/
LOCATION:Torre di Sant’Isidoro\, N40.217283\,E17.922832
CATEGORIES:Escursioni trekking in Salento
ATTACH;FMTTYPE=image/jpeg:https://meditazioninmovimento.it/wp-content/uploads/2017/01/trekking-palude-del-capitano-salento.jpg
END:VEVENT
END:VCALENDAR