BEGIN:VCALENDAR
VERSION:2.0
PRODID:-//Escursioni trekking in Puglia - ECPv6.3.3//NONSGML v1.0//EN
CALSCALE:GREGORIAN
METHOD:PUBLISH
X-ORIGINAL-URL:https://meditazioninmovimento.it
X-WR-CALDESC:Eventi per Escursioni trekking in Puglia
REFRESH-INTERVAL;VALUE=DURATION:PT1H
X-Robots-Tag:noindex
X-PUBLISHED-TTL:PT1H
BEGIN:VTIMEZONE
TZID:Europe/Rome
BEGIN:DAYLIGHT
TZOFFSETFROM:+0100
TZOFFSETTO:+0200
TZNAME:CEST
DTSTART:20240331T010000
END:DAYLIGHT
BEGIN:STANDARD
TZOFFSETFROM:+0200
TZOFFSETTO:+0100
TZNAME:CET
DTSTART:20241027T010000
END:STANDARD
END:VTIMEZONE
BEGIN:VEVENT
DTSTART;TZID=Europe/Rome:20240513T093000
DTEND;TZID=Europe/Rome:20240513T133000
DTSTAMP:20260420T180415
CREATED:20180417T210411Z
LAST-MODIFIED:20250121T181405Z
UID:2019-1715592600-1715607000@meditazioninmovimento.it
SUMMARY:Trekking a Punta Pizzo a Gallipoli
DESCRIPTION:Trekking a Punta Pizzo a Gallipoli\n \nTrekking semplice e senza difficoltà tecniche immersi nella natura del Parco Naturale Regionale Litorale di Punta Pizzo e Isola di Sant’Andrea\, a sud di Gallipoli (Lecce). Escursione tra il mare cristallino e la vegetazione della costa salentina\, in un tratto caratterizzato da una spettacolare “biodiversità”. Con questo itinerario cammineremo a piedi nel Parco Naturale Regionale Litorale di Punta Pizzo e isola di Sant’Andrea. \nIl litorale di Punta Pizzo comprende ambienti peculiari\, composti da macchia mediterranea\, pseudo-steppe mediterranee ed ambienti umidi e acquitrinosi. Molto ricco il patrimonio vegetale con piante di corbezzolo\, erica arborea\, ginestra spinosa\, mirto\, lentisco\, asparago spinoso\, rosmarino e timo. Salendo poi nel punto più alto del parco si può ammirare la torre borbonica eretta a difesa delle coste salentine e godere del panorama mozzafiato sulla baia di Gallipoli. \nDurante il walking nel parco di Punta Pizzo a Gallipoli\, potremo ammirare le formazioni geologiche delle dune fossili che caratterizzano il parco e conoscere la storia dei campi agricoli che un tempo erano utilizzati per la coltivazione del Negramaro. \nIl sentiero condurrà sino a Punta della Suina\, da cui sarà possibile lasciarsi estasiare da un mare cristallina di ineguagliabile bellezza e godere in lontananza dello scorcio della città di Gallipoli da una parte e Punta Pizzo e la sua torre dall’altra. L’attività si concluderà per le 13:00\, momento in cui sarete liberi di rimanere al mare oppure tornare a pranzare a casa con la famiglia. \nINFO E DETTAGLI\n NECESSARIA LA PRENOTAZIONE compilando il form sottostante oppure al numero tel./WhatsApp 3209771234 \nTipo di percorso: anello / Lunghezza del percorso: 10 Km / Tempo di percorrenza: 4 ore / Dislivello: trascurabile \n ABBIGLIAMENTO RICHIESTO: scarpe da trekking\, k-way\, zaino con acqua\, macchina fotografica\, abbigliamento a strati. \n APPUNTAMENTO: Ritrovo al punto di partenza della camminata presso il parcheggio di Punta della Suina alle ore 09:30
URL:https://meditazioninmovimento.it/escursione/trekking-punta-pizzo-gallipoli/
CATEGORIES:Escursioni trekking in Salento
ATTACH;FMTTYPE=image/jpeg:https://meditazioninmovimento.it/wp-content/uploads/2018/04/Trekking-a-Punta-Pizzo-a-Gallipoli.jpg
END:VEVENT
END:VCALENDAR