BEGIN:VCALENDAR
VERSION:2.0
PRODID:-//Escursioni trekking in Puglia - ECPv6.3.3//NONSGML v1.0//EN
CALSCALE:GREGORIAN
METHOD:PUBLISH
X-ORIGINAL-URL:https://meditazioninmovimento.it
X-WR-CALDESC:Eventi per Escursioni trekking in Puglia
REFRESH-INTERVAL;VALUE=DURATION:PT1H
X-Robots-Tag:noindex
X-PUBLISHED-TTL:PT1H
BEGIN:VTIMEZONE
TZID:Europe/Rome
BEGIN:DAYLIGHT
TZOFFSETFROM:+0100
TZOFFSETTO:+0200
TZNAME:CEST
DTSTART:20240331T010000
END:DAYLIGHT
BEGIN:STANDARD
TZOFFSETFROM:+0200
TZOFFSETTO:+0100
TZNAME:CET
DTSTART:20241027T010000
END:STANDARD
END:VTIMEZONE
BEGIN:VEVENT
DTSTART;TZID=Europe/Rome:20240609T080000
DTEND;TZID=Europe/Rome:20240614T080000
DTSTAMP:20260420T163821
CREATED:20171215T115513Z
LAST-MODIFIED:20250121T192302Z
UID:1794-1717920000-1718352000@meditazioninmovimento.it
SUMMARY:Camminare nel Salento: gli itinerari più belli dell'antica messapia
DESCRIPTION:Camminare nel Salento: ci sono percorsi a piedi per i camminatori?\nSe non sei mai stato in Puglia questo è un buon periodo per venirci. In questo lembo di terra tra i due mari (lo Ionio da un lato\, l’Adriatico dall’altro) c’è un mondo di sentieri non segnati tutti da scoprire. Avrai bisogno di un locale che ti accompagni certo\, e ti faccia scoprire i tesori e la bellezza di questa terra tra i due mari da sempre porta d’Oriente. \nPerchè camminare nel Salento quindi?\nPerchè abbiamo delle coste meravigliose in cui si alternano tratti di spiagge di sabbia fine a tratti di alta falesia per gli amanti degli scogli. Il mare è di un colore e di una pulizia unica (vedi le tante Bandiere Blu presenti nella zona). Se non conoscete o non avete ancora scoperto la bellezza dei cammini sul mare è l’occasione giusta per lasciarvi ammaliare ed affascinare da tutto ciò. Inoltre in questo periodo le acque cristalline aspettano già i primi bagnanti. Cosa aspettate a tuffarvi??? \nPerchè camminare nel Salento in bassa stagione?\nNegli ultimi anni il Salento e tutta la regione Puglia in genere ha avuto un boom turistico pazzesco. Noi proponiamo di venire a camminare nel Salento in periodi tranquilli. Ecco quali: \n\nvogliamo farvi conoscere il Salento camminando in periodi tranquilli perchè in questo periodo la primavera è nella sua massima esplosione e per gli amanti della Natura è un trionfo di colori\, fioriture e bellezza. In questo periodo potrete fare splendide foto poichè il paesaggio diventa una tavolozza piena di colori\, papaveri\, margherite\, calendula. E poi ovviamente vi faremo conoscere le affascinanti orchidee spontanee ( qui in Puglia ne crescono circa 90 specie diverse)\nè un periodo di bassa stagione\, vivrete le città turistiche come Gallipoli\, Lecce ed Otranto in una dimensione più umana\, lontano dalla folla estiva. I prezzi sono ancora buoni e avrete un’accoglienza più calorosa da parte della comunità locale.\nVi stupiremo infine con effetti speciali… (ma questa è una sorpresa…\n\n\nProgramma ed itinerario:\ngiorno 1: Nel pomeriggio walking urbano e visita di Lecce. \ngiorno 2: walking nel parco di Portoselvaggio \ngiorno 3: Gallipoli ed il parco di punta Pizzo \ngiorno 4: Walking lungo le Vie del Sale e le Grotte Cipolliane fino a Santa Maria di Leuca. \ngiorno 5: walking ad Otranto porta d’Oriente. Dalla cava di bauxite al punto più ad est d’Italia fino a Porto Badisco. \ngiorno 6: walking a Giurdignano tra dolmen\, menhir ed il rito delle tavole di San Giuseppe \ngiorno 7: walking dalla Grotta della Poesia ai Laghi Alimini passando dai faraglioni di Sant’Andrea. \nValutate il fatto di essere accompagnati da una istruttrice sportiva di walking qualificata\, profonda conoscitrice della zona. Vedrete il Salento coast to coast (sia lato adriatico che lato ionio). \nInviaci una mail per conoscere il programma completo e dettagliato. \nORGANIZZAZIONE TECNICA DEL VIAGGIO:\nSERAFINO sas Viaggi e Turismo LECCE IT\nP.I. 03207670757- Lic. DPGR 723/97 – C.C.I.A.A.7786/98 – Garanzia Assicurativa UnipolSai Pol. 1/1609/319/103399456
URL:https://meditazioninmovimento.it/escursione/camminare-nel-salento-gli-itinerari-piu-belli-della-antica-messapia/
CATEGORIES:Escursioni trekking in Salento
ATTACH;FMTTYPE=:
END:VEVENT
END:VCALENDAR