BEGIN:VCALENDAR
VERSION:2.0
PRODID:-//Escursioni trekking in Puglia - ECPv6.3.3//NONSGML v1.0//EN
CALSCALE:GREGORIAN
METHOD:PUBLISH
X-WR-CALNAME:Escursioni trekking in Puglia
X-ORIGINAL-URL:https://meditazioninmovimento.it
X-WR-CALDESC:Eventi per Escursioni trekking in Puglia
REFRESH-INTERVAL;VALUE=DURATION:PT1H
X-Robots-Tag:noindex
X-PUBLISHED-TTL:PT1H
BEGIN:VTIMEZONE
TZID:Europe/Rome
BEGIN:DAYLIGHT
TZOFFSETFROM:+0100
TZOFFSETTO:+0200
TZNAME:CEST
DTSTART:20240331T010000
END:DAYLIGHT
BEGIN:STANDARD
TZOFFSETFROM:+0200
TZOFFSETTO:+0100
TZNAME:CET
DTSTART:20241027T010000
END:STANDARD
END:VTIMEZONE
BEGIN:VEVENT
DTSTART;TZID=Europe/Rome:20240730T073000
DTEND;TZID=Europe/Rome:20240731T173000
DTSTAMP:20260420T133451
CREATED:20200122T151736Z
LAST-MODIFIED:20250121T182426Z
UID:2681-1722324600-1722447000@meditazioninmovimento.it
SUMMARY:In cima al tetto della Campania. Monte Cervati con notte in alta quota
DESCRIPTION:In cima al tetto della Campania. Monte Cervati con notte in alta quota\nWeek end all’insegna dell’avventura\, della montagna\, del buon cibo della Dieta Mediterranea\, fatta di prodotti locali genuini e della buona compagnia. Cammineremo per raggiungere la cima del Monte Cervati\, il Gigante del Parco Nazionale del Vallo di Diano. Lo faremo in due giornate di trekking. \nProgramma trekking sul Monte Cervati\, il gigante della Campania\n30 luglio: partenza in auto proprie dalla Puglia. Arrivati a Monte San Giacomo lasceremo le auto e partiremo per la camminata ai gravettoni. La natura geologica del massiccio mostra la morfologia tipica di un ambiente carsico\, con grave\, inghiottitoi\, sorgenti freschissime e corsi d’acqua temporanei. \nNatura incontaminata\, panorami mozzafiato e un paesaggio unico. Ammireremo da vicino i ”Gravettoni” e l’ “Arco Naturale”. Il nome “Gravettoni” deriva proprio dalla presenza\, in questa specifica area\, di una serie di “grave”. Una grava\, in altre parole\, è una cavità naturale\, più o meno larga\, che si sviluppa in verticale dalla superficie verso il sottosuolo\, formando delle enormi “voragini” in profondità. Al termine dell’escursione raggiungeremo un rifugio da poco inaugurato e ristrutturato a quota 1250 m. \nQui passeremo una indimenticabile notte in alta quota\, immersi in un silenzio assordante\, un cielo terso e pieno di stelle dove gli appassionati di fotografia si potranno cimentare in scatti fotografici d’autore. Un luogo fuori dal mondo dove saremo solo noi a stretto contatto con la montagna e con gli animali al pascolo.  \nI gestori ci delizieranno con prodotti a Km0 fatti con le loro stesse mani. Ci scalderemo con del buon vino che da queste parti non manca mai. Poi tutti a nanna nelle camerate da buoni camminatori\, pronti al mattino seguente per una ricca colazione prima di ripartire per raggiungere il tetto della Campania\, il Monte Cervati a quota 1898m sul livello del mare. \nLunghezza del percorso: 10 Km / Dislivello: +450m / Ore di cammino: 5 Difficoltà: media \n31 luglio: dopo la colazione partenza per raggiungere la vetta del Monte Cervati. Da qui godremo di una vista spettacolare su tutto il Golfo di Policastro! Una delle poche montagne dalla cui cima si può vedere contemporaneamente montagna e mare insieme! Puro spettacolo di Madre Natura. Consumeremo il nostro pranzo a sacco con vista ed alla fine dell’escursione rientreremo alle nostre auto e poi partenza per la Puglia. \nLunghezza del percorso: 14 Km Dislivello: +700 m Ore di cammino: 7 Difficoltà: medio/alta (ben allenati) \n INFO E DETTAGLI \n\n NECESSARIA LA PRENOTAZIONE compilando il form sottostante oppure al numero tel/WhatsApp 3209771234 \n Abbigliamento: scarpe e zaino da trekking\,  macchina fotografica\, acqua\, trolley piccolo\, abbigliamento a cipolla indicato per la stagione (giacca a vento\, pantaloni lunghi\, pile\, poncho o k-way). \n\n\n\nORGANIZZAZIONE TECNICA DEL VIAGGIO:\nSERAFINO sas Viaggi e Turismo LECCE IT\nP.I. 03207670757- Lic. DPGR 723/97 – C.C.I.A.A.7786/98 – Garanzia Assicurativa UnipolSai Pol. 1/1609/319/103399456
URL:https://meditazioninmovimento.it/escursione/monte-cervati-con-notte-in-alta-quota/
CATEGORIES:trekking nel Cilento
ATTACH;FMTTYPE=:
END:VEVENT
BEGIN:VEVENT
DTSTART;TZID=Europe/Rome:20240731T070000
DTEND;TZID=Europe/Rome:20240801T170000
DTSTAMP:20260420T133451
CREATED:20210624T140237Z
LAST-MODIFIED:20250121T182356Z
UID:3520-1722409200-1722531600@meditazioninmovimento.it
SUMMARY:Alla scoperta della lucania insolita e segreta: i grottaroli\, gli arbereshe ed i prodotti tipici
DESCRIPTION:Alla scoperta della lucania insolita e segreta: i grottaroli\, gli arbereshe ed i prodotti tipici\nUn weekend ricchissimo e pieno di scoperte quello che ci attende alla scoperta di un angolo di lucania ancora insolita e segreta. Un itinerario di due giorni con tappe fuori dal turismo di massa. Luoghi appunto insoliti e segreti quelli che vi faremo conoscere in questo weekend in Basilicata tra sport e natura e\, naturalmente\, i prodotti tipici del territorio. \nUn aspetto\, quello gastronomico\, che è sempre curato attentamente nei nostri trekking perchè anche la tavola ed i prodotti tipici fanno parte della conoscenza di un territorio. Visiteremo aziende di eccellenza attentsmente selezionate. Un itinerario sportivo ed enogastronomico che creano un connubio davvero interessante ed imperdibile! \nEcco di seguito il programma di questo weekend alla scoperta della lucania insolita e segreta. \nSabato 31 luglio: partenza con auto proprie dalla Puglia. Arrivo a San Giorgio Lucano che custodisce un tesoro storico antropologico\, quale testimonianza di una cultura contadina in via di estinzione: le grotte ed il popolo dei grottaroli. E’ proprio sulle grotte gli abitanti del posto hanno improntato tutta la loro economia; una microeconomia basata sull’allevamento del maiale (nelle grotte più piccole)\, elemento principe delle dispense domestiche\, coi suoi pregiati derivati (salami al finocchio\, soppressate sangiorgesi\, nuglie\, sanguinaccio etc). \nNelle Grotte erano e sono peraltro stivate derrate alimentari dell’agricoltura locale\, frutta di cultivar antiche bisognose di ammezzimento. Sono ancor più cantine per il vino. Ogni famiglia aveva una piccola vigna. Il raccolto veniva vinificato nella stessa grotta. Esistono testimonianze di grotte con antichi torchi infissi nella roccia\, con le annesse tine di maturazione del mosto. Nelle stesse arenarie in cui si aprono le grotte\, veniva prodotto un vino locale\, “il vino delle rene“\, le cui caratteristiche lo facevano apprezzare nei paesi limitrofi ed era il tipico dono di nozze alla sposa nel classico bottiglione da 13 litri. \nDa secoli i sangiorgesi si ostinano a picconare le ripide pareti rocciose di arenaria per ricavarne grotte. Ne hanno realizzate circa 1200\, ad occhio e croce\, una per abitante. Le frequentano quotidianamente e\, come fanno da sempre\, vi allevano maiali\, polli e galline; ci conservano il vino e i salumi. Le grotte\, insieme ai maiali e alle vigne\, sono l’elemento centrale dell’economia di questo piccolo paese definito come il più importante complesso rurale di ipogei del sud! Andremo a camminare alla scoperta dei racconti\, delle storie e delle abitudini e tradizione del popolo dei grottaroli in compagnia del genius loci per poi consumare un aperitivo rustico al fresco della grotta. Un’esperienza davvero unica che rimarrà nei vostri ricordi più belli! \nNel pomeriggio ci sposteremo in un altro paesino della zona dove faremo visita ad un’altra azienda da annoverare tra le eccellenze lucane. La pastora dall’ingegno sopraffino ci farà visitare le grotte dove viene stagionato il canestrato a latte crudo e le difficoltà di questo duro lavoro proprio perchè il latte non viene pastorizzato. \nIl suo è un lavoro davvero da ammirare! Tappa successiva sarà infine una cantina dove viene affinato il vino in grotta. Anche qui degustazione e spiegazione delle particolarità di questo prodotto di nicchia. Infine ultima tappa della giornata sarà la visita ad una delle aziende agricole di Senise per conoscere le particolarità dei famosi peperoni cruschi! Dopo questa giornata intensa\, carica di meraviglia\, di saperi e sapori andremo a dormire in un paese arbereshe con relativa cena tipica con piatti tradizionali albanesi davvero moooolto particolari! Pernottamento in hotel. \nDomenica 1 agosto: dopo la colazione ci fermeremo al belvedere per ammirare un panorama a 360° sul Parco Nazionale del Pollino. Ci incammineremo poi per il trekking a Pietrasasso e la sorgente Catusa. Questo itinerario a piedi nel Parco del Pollino è molto interessante geologicamente. Timpa Pietrasasso è uno sperone di roccia di origine lavica che si eleva a punta come un monolite su una vegetazione punteggiata da secolari agrifogli. Giungeremo poi a Timpa delle Murge\, dove ad una quota di circa 1.300 m s.l.m. si apre un sipario straordinario in cui le rocce presenti assumono forme e colori irreali. Si tratta di effusioni basaltiche sottomarine che formano pareti a cuscino di lava (pillow lave) sormontate da una copertura sedimentata costituita da rocce di colore rosso\, blu e verde derivanti dalla dissoluzione di organismi a guscio siliceo (radiolari). \nTerminata l’escursione pranzo in rifugio. Successivamente visiteremo il paesino che ci ha ospitato. San Costantino Albanese è uno dei cinque borghi lucani che furono fondati da popolazioni albanesi. Qui si conserva la cultura arbereshe della popolazione che tra il 1400 e il 1700 si insediò nelle sue mura. Oltre ad avere quindi una forte connotazione di stampo culturale\, la zona ha ancora vivi i costumi\, le tradizioni e il folklore del tempo. Conosceremo le tradizioni storiche e culturali di questo paesino davvero singolare visitando l’Etnomuseo della Cultura Arbereshe e la Casa Parco\, infine la Chiesa di San Costantino il grande\, di rito ortodosso. \nTra le tante cose che osserveremo\, in dimensioni ridotte\, ci sono i famosi Nusazit – pupazzi pirotecnici che vengono fatti esplodere durante la festa che celebra la Madonna della Stella – e un diorama con all’interno la flora e la fauna del Parco Nazionale del Pollino. Dopo il breve ma doveroso giro alla scoperta della cultura arbereshe.  Si conclude così la nostra due giorni tra natura\, sport\, cultura e sapori di una lucania insolita e segreta. Faremo rientro a casa con il cuore carico di meraviglie. \nLunghezza della camminata: 10 Km / Dislivello:+450/ – 450 / Ore di cammino: 4 ore / Difficoltà: E (media) \n INFO E DETTAGLI \n NECESSARIA LA PRENOTAZIONE compilando il form sottostante oppure al numero tel/WhatsApp 3209771234\n Abbigliamento: scarpe e zaino da trekking\,  macchina fotografica\, acqua\, trolley piccolo\, abbigliamento a cipolla indicato per la stagione (giacca a vento\, pantaloni lunghi\, pile\, poncho o k-way).\n\nORGANIZZAZIONE TECNICA DEL VIAGGIO:\nSERAFINO sas Viaggi e Turismo LECCE IT\nP.I. 03207670757- Lic. DPGR 723/97 – C.C.I.A.A.7786/98 – Garanzia Assicurativa UnipolSai Pol. 1/1609/319/103399456
URL:https://meditazioninmovimento.it/escursione/lucania-insolita-e-segreta/
CATEGORIES:Trekking nel Pollino
ATTACH;FMTTYPE=:
END:VEVENT
END:VCALENDAR