BEGIN:VCALENDAR
VERSION:2.0
PRODID:-//Escursioni trekking in Puglia - ECPv6.3.3//NONSGML v1.0//EN
CALSCALE:GREGORIAN
METHOD:PUBLISH
X-WR-CALNAME:Escursioni trekking in Puglia
X-ORIGINAL-URL:https://meditazioninmovimento.it
X-WR-CALDESC:Eventi per Escursioni trekking in Puglia
REFRESH-INTERVAL;VALUE=DURATION:PT1H
X-Robots-Tag:noindex
X-PUBLISHED-TTL:PT1H
BEGIN:VTIMEZONE
TZID:Europe/Rome
BEGIN:DAYLIGHT
TZOFFSETFROM:+0100
TZOFFSETTO:+0200
TZNAME:CEST
DTSTART:20240331T010000
END:DAYLIGHT
BEGIN:STANDARD
TZOFFSETFROM:+0200
TZOFFSETTO:+0100
TZNAME:CET
DTSTART:20241027T010000
END:STANDARD
END:VTIMEZONE
BEGIN:VEVENT
DTSTART;TZID=Europe/Rome:20240822T070000
DTEND;TZID=Europe/Rome:20240823T180000
DTSTAMP:20260420T133427
CREATED:20200730T192758Z
LAST-MODIFIED:20250121T185640Z
UID:2890-1724310000-1724436000@meditazioninmovimento.it
SUMMARY:La forra dell'emmisi e l'affondatore di Vallivona nel Cilento
DESCRIPTION:La forra dell’emmisi e l’affondatore di Vallivona nel Cilento\nUn altro weekend di agosto nella natura selvaggia del Cilento \nTorniamo a camminare nel Cilento quando in Puglia le spiagge sono super affollate e fa troppo caldo. Noi preferiamo defilarci dai luoghi affollati e ce ne andiamo a camminare nei luoghi in cui la Natura la fa da padrona. \nProponiamo quindi ai nostri soci per questo weekend una due giorni all’insegna dello sport e delle belle esperienze condivise. \nSabato 7 agosto: la forra dell’emmisi e la lamparata\nPartenza con auto proprie per il Cilento. L’escursione avrà luogo nel Parco Nazionale del Cilento\, Vallo di Diano e Alburni\, nel suggestivo ambiente naturalistico del Monte Cervati\, dove si aprono scenari ancora sconosciuti persino alle popolazioni locali. Arrivati a Rofrano lasceremo le auto e inizieremo un percorso meraviglioso che ci condurrà nella forra dell’Emmisi. Il sentiero è immerso in una natura rigogliosa e generosa dove l’acqua la fa da padrona. \nE’ proprio questo elemento infatti che ha dato vita allo spettacolare paesaggio che esploreremo a piedi dove il suono del torrente Faraone ci accompagnerà nella frescura e dove troveremo giovamento immergendoci nelle sue acque. \nLa Forra dell’Emmisi è lunga circa 500 metri ed è il risultato della progressiva erosione del fiume Mingardo\, che scavando nella roccia ha creato un posto incantato\, imprigionato tra pareti rocciose alte 30 metri e fitti alberi che i raggi del sole a malapena riescono a penetrare. Un luogo incantato che ci sorprenderà e meraviglierà. Al termine dell’escursione trasferimento a Marina di Camerota dove posizioneremo le nostre tende nel campeggio sul mare. Tempo per un bagno rigenerante nelle meravigliose acque di questa splendida località balneare del Cilento. \nLa lamparata: un’esperienza da fare almeno una volta nella vita!\n \nDoccetta rinfrescante e poi via per un’altra avventura! Ci attenderà per la sera\, infatti un’esperienza molto suggestiva da fare almeno una volta nella vita! La lamparata notturna! Parteciperemo quindi a bordo delle barche dei pescatori alla tradizionale pesca notturna con le lampare per poi fermarci su una spiaggia nel cuore della notte dove i pescatori stessi cucineranno per noi il bottino della pesca. E quindi spaghettata e pesce fritto a volontà e vino prima di rientrare a notte inoltrata alle nostre tende. \n✔ Lunghezza della camminata: 8 km / difficoltà E (media) / dislivello: +350/-350  durata 4 ore \nDomenica 8 agosto: l’affondatore di Vallivona\nTrasferimento in auto a Rofrano ed escursione a piedi per raggiungere l’affondatore di Vallivona\, uno dei fenomeni carsici più importanti del meridione d’Italia. L’inghiottitoio si trova sul versante sud occidentale del monte Cervati ad una quota di 1100 m/sm. Era una grotta di attraversamento che raccoglieva le acque d’alta quota che\, scorrendo sul flysh miocenico presente\, raggiungevano il portale nel quale si inabissavano per riaffiorare a Varco la Peta e Montemenzano. \nOggi l’affondatore è raggiungibile con l’utilizzo di torce elettriche attraverso una galleria artificiale scavata negli anni ’70. Una volta dentro l’inghiottitoio lo scenario è strepitoso\, si ha la percezione della sua grandezza\, della sua forma ellittica e dell’alta valenza naturalistica dell’ambiente vegetale. Una volta terminata questa galleria\, davanti ai vostri occhi si aprirà uno scenario incredibile\, surreale; sembrerà di entrare in una foresta pluviale\, con una vegetazione diversa dal paesaggio incontrato lungo il sentiero. \nUna natura sbalorditiva si aprirà davanti ai nostri occhi: si entrerà improvvisamente nella “bocca” di un enorme inghiottitoio\, imponente esempio di ciò che la natura riesce a creare in milioni di anni. L’impeto dell’acqua ha modellato un cratere alto fino a 100 metri le cui pareti interne sono tappezzate di vegetazione igrofila: una vera e propria oasi nascosta tra le ripide rocce calcaree\, ulteriormente abbellita da una piccola cascata e da un laghetto alimentato dall’acqua piovana. Al termine dell’escursione pranzo in tipico ristorante a Km0 dove conosceremo un personaggio “famoso” del Cilento che ci allieterà con la musica popolare cilentana. Dopo pranzo rientro in Puglia. \n✔ Lunghezza della camminata: 5 km / difficoltà E (media) / dislivello: +350/-350  durata 4 ore \n INFO E DETTAGLI \n\n\n NECESSARIA LA PRENOTAZIONE compilando il form sottostante oppure al numero tel/WhatsApp 3209771234\n Abbigliamento: scarpe e zaino da trekking\,  macchina fotografica\, acqua\, trolley piccolo\, abbigliamento a cipolla indicato per la stagione (giacca a vento\, pantaloni lunghi\, pile\, poncho o k-way).
URL:https://meditazioninmovimento.it/escursione/la-forra-dellemmisi-nel-cilento/
CATEGORIES:trekking nel Cilento
ATTACH;FMTTYPE=:
END:VEVENT
BEGIN:VEVENT
DTSTART;TZID=Europe/Rome:20240822T180000
DTEND;TZID=Europe/Rome:20240822T220000
DTSTAMP:20260420T133427
CREATED:20180717T174905Z
LAST-MODIFIED:20250121T185604Z
UID:2174-1724349600-1724364000@meditazioninmovimento.it
SUMMARY:Escursione notturna tra grotte ed ipogei nella Valle dell'Idro Otranto
DESCRIPTION:Escursione notturna con la luna piena tra grotte ed ipogei nella Valle dell’Idro Otranto\nCon il caldo della stagione estiva proponiamo una notturna dove percorreremo nuovamente i sentieri della Valle dell’Idro questa volta facendoci strada con la luce della luna e delle nostre torce frontali!\n\n\nLa Valle dell’Idro è una zona di Otranto molto suggestiva. \nE’ il fiume che la attraversa ad aver dato il nome all’intera zona. L’Idro nasce da Monte S. Angelo dove è presente una cripta bizantina. La valle si estende fino al centro di Otranto\, dove il corso d’acqua va ad unirsi con il mare Adriatico. Grotta Sant’Angelo è così chiamata per la presenza di un affresco dell’Arcangelo Michele sul vestibolo dell’antro.\n\n Lungo la valle sono presenti altre grotte di particolare interesse\, al cui interno sono visibili una serie di graffiti sulle pareti che raffigurano croci latine\, mani\, guerrieri turchi e velieri: la Grotta delle Navi\, la Grotta dei Graffiti\, la Grotta del Turco ed altri particolari ipogei saranno la nostra meta! E così nella magica atmosfera notturna potremo immergerci e comprendere come le generazioni passate vivevano in grotta in questo vero e proprio insediamento rupestre. \n\n\n\nINFO E DETTAGLI\nLunghezza della camminata: 8 km / difficoltà T (turistica= facile) / Dislivello: +150m/ durata 4 ore\n NECESSARIA LA PRENOTAZIONE compilando il form sottostante oppure al numero tel/WhatsApp 3209771234\n Durata: dalle ore 9:45 alle ore 14.00 circa.\n Quota di partecipazione: €10\n Appuntamento: Ore 18:00 presso il ristorante Al Tartufo di Otranto. Arrivare una decina di minuti prima per trovare parcheggio\n Abbigliamento ed occorrente: scarpe da trekking\, k-way\, zaino con acqua e cena al sacco\, macchina fotografica\, Necessaria una torcia
URL:https://meditazioninmovimento.it/escursione/escursione-notturna-tra-grotte-ed-ipogei-nella-valle-dellidro-otranto/
CATEGORIES:Escursioni trekking in Salento
ATTACH;FMTTYPE=:
END:VEVENT
END:VCALENDAR