BEGIN:VCALENDAR
VERSION:2.0
PRODID:-//Escursioni trekking in Puglia - ECPv6.3.3//NONSGML v1.0//EN
CALSCALE:GREGORIAN
METHOD:PUBLISH
X-ORIGINAL-URL:https://meditazioninmovimento.it
X-WR-CALDESC:Eventi per Escursioni trekking in Puglia
REFRESH-INTERVAL;VALUE=DURATION:PT1H
X-Robots-Tag:noindex
X-PUBLISHED-TTL:PT1H
BEGIN:VTIMEZONE
TZID:Europe/Rome
BEGIN:DAYLIGHT
TZOFFSETFROM:+0100
TZOFFSETTO:+0200
TZNAME:CEST
DTSTART:20240331T010000
END:DAYLIGHT
BEGIN:STANDARD
TZOFFSETFROM:+0200
TZOFFSETTO:+0100
TZNAME:CET
DTSTART:20241027T010000
END:STANDARD
END:VTIMEZONE
BEGIN:VEVENT
DTSTART;TZID=Europe/Rome:20240824T174500
DTEND;TZID=Europe/Rome:20240824T230000
DTSTAMP:20260420T133533
CREATED:20220805T102202Z
LAST-MODIFIED:20250121T163300Z
UID:4646-1724521500-1724540400@meditazioninmovimento.it
SUMMARY:Trekking ed apericena in masseria con concerto di arpa e voci
DESCRIPTION:Trekking ed apericena in masseria con concerto di arpa e voci\nAbbiamo pensato ad una serata diversa dal solito ed un pò particolare\, grazie alla disponibilità ed alla collaborazione delle amiche Carolina Cezza e Chiara Liuzzi. \nIl cammino sarà sempre parte integrante dell’evento. Ci incontreremo nel tardo pomeriggio sulla costa di Monopoli\, proprio accanto al mare dove inizierà il nostro trekking tra mare e terra\, tra lame e masserie\, tra chiese rupestri ed ulivi secolari. \nDopo aver costeggiato il mare\, lasceremo subito la costa per inoltrarci in una bellissima lama costellata da giganti ulivi secolari\, tra i più grandi ed i più incantevoli patriarchi di questa terra di Puglia\, generosa ed arida al tempo stesso. Faremo varie soste fotografiche per immortalare questi enormi monumenti naturali. Cammin facendo giungeremo in un’altra lama che custodisce una deliziosa\, quanto antica\, chiesa rupestre completamente scavata nella roccia dove potremo ammirare bellissimi affreschi di fattura bizantina. \nLo spazio antistante la chiesa rupestre medievale e la lama saranno la magica location in cui\, il suono angelico dell’arpa di Carolina Cezza e la voce straordinaria di Chiara Liuzzi\, ci doneranno momenti di bellezza grazie ai loro talenti. Saremo guidati in un viaggio sonoro nel medioevo tra miti e leggende\, abbracciati dalla Natura.  \nAl termine del concerto di arpa e voci delle nostre amiche ci rifocilleremo al buffet che nel frattempo sarà stato allestito nell’aia della masseria. \nDopo l’intermezzo conviviale\, con il supporto delle torce che ogni partecipante avrà\, faremo ritorno attraverso la lama\, al mare\, dove chi vorrà potrà eventualmente trattenersi per un bagno notturno. \n INFO E DETTAGLI \n NECESSARIA LA PRENOTAZIONE compilando il form sottostante oppure al numero tel/WhatsApp 3209771234 \n Abbigliamento: scarpe e zainetto da trekking\, acqua a sufficienza (almeno 1 litro a testa)\, torcia
URL:https://meditazioninmovimento.it/escursione/concerto-arpa-e-voci/
CATEGORIES:Escursioni nella murgia dei trulli
ATTACH;FMTTYPE=image/jpeg:https://meditazioninmovimento.it/wp-content/uploads/2022/08/trekking-ed-apericena-in-masseria-puglia-300x225-1.jpg
END:VEVENT
END:VCALENDAR