BEGIN:VCALENDAR
VERSION:2.0
PRODID:-//Escursioni trekking in Puglia - ECPv6.3.3//NONSGML v1.0//EN
CALSCALE:GREGORIAN
METHOD:PUBLISH
X-ORIGINAL-URL:https://meditazioninmovimento.it
X-WR-CALDESC:Eventi per Escursioni trekking in Puglia
REFRESH-INTERVAL;VALUE=DURATION:PT1H
X-Robots-Tag:noindex
X-PUBLISHED-TTL:PT1H
BEGIN:VTIMEZONE
TZID:Europe/Paris
BEGIN:DAYLIGHT
TZOFFSETFROM:+0100
TZOFFSETTO:+0200
TZNAME:CEST
DTSTART:20240331T010000
END:DAYLIGHT
BEGIN:STANDARD
TZOFFSETFROM:+0200
TZOFFSETTO:+0100
TZNAME:CET
DTSTART:20241027T010000
END:STANDARD
TZID:Europe/Rome
BEGIN:DAYLIGHT
TZOFFSETFROM:+0100
TZOFFSETTO:+0200
TZNAME:CEST
DTSTART:20240331T010000
END:DAYLIGHT
BEGIN:STANDARD
TZOFFSETFROM:+0200
TZOFFSETTO:+0100
TZNAME:CET
DTSTART:20241027T010000
END:STANDARD
END:VTIMEZONE
BEGIN:VEVENT
DTSTART;TZID=Europe/Paris:20240906T080000
DTEND;TZID=Europe/Paris:20240914T170000
DTSTAMP:20260420T120800
CREATED:20250210T120545Z
LAST-MODIFIED:20250804T094341Z
UID:6977-1725609600-1726333200@meditazioninmovimento.it
SUMMARY:Viaggio di gruppo alla scoperta della Georgia
DESCRIPTION:VIAGGIO NATURALISTICO – CULTURALE IN GEORGIA\nDAL 06 AL 14 SETTEMBRE (8gg / 7 notti)\nGIORNO 1: IN VOLO \nPartenza pomeridiana dall’aeroporto di Bari con scalo. Notte in volo. \nGIORNO 2: ARRIVO A TBILISI / TOUR DI TBILISI \nArrivo a Tbilisi alle 3:45 del mattino\, trasferimento al centro della città. Colazione anticipata. Dopo colazione\, tour della città di Tbilisi: vedremo la Città Vecchia e i monumenti più importanti della città: la fortezza di Narikala\, a cui arriveremo con una funicolare\, che ci consentirà di ammirare un bellissimo panorama di tutta la capitale; Abanotubani (quartiere termale dei bagni di zolfo); le strade tortuose della Vecchia Tbilisi; e i suoi templi più importanti\, la cattedrale di Sioni (XVII sec.) e la chiesa più antica di Tbilisi\, Anchiskhati (VII sec.). Check-in in hotel 4* centrale\, tempo per riposare prima di cena. In serata cena accompagnata da uno spettacolo folcloristico. Pernottamento a Tbilisi. \nGIORNO 2: TBILISI – MONASTERO DI BODBE – SIGNAGI – TELAVI \nColazione\, poi partenza per la regione di Kakheti\, conosciuta come la “terra del vino”. Visiteremo il bellissimo monastero di Bodbe\, dove è sepolta Santa Nino\, apostola della Chiesa ortodossa georgiana che portò il cristianesimo in Georgia nel IV secolo. Dal monastero si gode di una vista mozzafiato sulla valle di Alazani\, dove vengono coltivate le migliori varietà di uva. \nCi dirigeremo poi verso la città dell’amore di Signagi\, che è stata perfettamente conservata nella sua forma del XVII-XVIII secolo. Nella città di Signagi visiteremo un vigneto a conduzione familiare\, dove potrai vedere come viene prodotto il vino fatto in casa georgiano. \nParteciperemo ad alcune masterclass culinarie e impareremo a preparare il khachapuri georgiano\, un iconico pane al formaggio. Nella cantina ci godremo una degustazione di vino e chacha (grappa georgiana) abbinata a una cena con musica locale e brindisi tradizionali georgiani. Trasferimento fino alla città di Telavi\, dove pernotteremo. \nGIORNO 3: TELAVI BAZAAR – CATTEDRALE DI ALAVERDI – CANTINA KHAREBA – TBILISI \nColazione e partenza per esplorare la zona di Telavi. Come detto\, la regione di Kakheti è famosa per la produzione di vino\, quindi non c’è da stupirsi se saremo accompagnati da viste di vigneti infiniti e\, naturalmente\, dalle montagne del Caucaso sullo sfondo lungo il percorso. Iniziamo visitando il bazar locale\, dove è possibile acquistare diverse spezie georgiane\, dolci\, vino fatto in casa ecc. Quindi procediamo verso il monumento più importante della regione: la cattedrale di Alaverdi. Alaverdi è stata fondata nell’XI secolo ed è sempre stata il centro della religione e della cultura della regione\, ma non solo: i monaci di questo monastero producono vino fin dall’antichità e continuano a farlo fino ad oggi. Nel negozio del monastero puoi acquistare bottiglie di vino in offerta limitata\, prodotte dai padri religiosi locali. Dopo la visita turistica\, visiteremo una meravigliosa cantina vinicola chiamata Khareba. Khareba è un posto davvero unico: per arrivare al punto di degustazione del vino\, dobbiamo attraversare un lungo tunnel scavato nella roccia. Il vino viene conservato in quei tunnel. Dopo la degustazione\, oltre ai vini\, puoi acquistare altri prodotti fatti con l’uva in loco\, come l’olio di vinaccioli. Trasferimento a Tbilisi\, cena\, pernottamento a Tbilisi. \nGIORNO 4: TBILISI – MTSKHETA – STEPANTSMINDA – GUDAURI \nColazione\, partenza da Tbilisi verso le montagne del Grande Caucaso lungo la famosa autostrada militare georgiana\, fino alla città di Stepantsminda. \nLungo il percorso visiteremo i monumenti più importanti della Georgia\, luoghi che ricordano gli inizi del cristianesimo: l’antica capitale Mtskheta. Mtskheta è la culla del cristianesimo in Georgia: fu qui che il cristianesimo fu adottato come religione di stato nel IV secolo. Visiteremo i più importanti edifici religiosi della lista UNESCO: la cattedrale di Svetitskhoveli (XI secolo) e il monastero di Jvari (VI secolo). Questo viaggio vi delizierà con viste meravigliose sulle vette più alte del Caucaso. Lungo il percorso\, visiteremo la pittoresca fortezza di Ananuri situata sul lago Jinvali e faremo una pausa fotografica in uno storico punto panoramico vicino alla stazione sciistica di Gudauri. Ci dirigeremo poi verso Stepantsminda e saliremo con veicoli fuoristrada alla Chiesa della Santissima Trinità di Gergeti\, che è un punto di riferimento della regione e dell’intero paese. Da Gergeti\, in buone condizioni di visibilità\, potremo vedere la cima del Monte Kazbek (5054 m)\, la seconda più alta del paese. La sera visita a un’abitante unica della città di Kazbegi\, la signora Ketino. Ketino è la più famosa padrona di casa della città e riceve ospiti da molti anni. A casa sua prenderemo parte a un laboratorio di cucina\, dove impareremo a preparare i tipici ravioli georgiani\, i khinkali. Ci aspetta poi una deliziosa cena fatta in casa. Pernottamento a Gudauri. \nGIORNO 5: VALLE DI TRUSO – TBILISI \nColazione seguita da un viaggio in fuoristrada verso la valle di Truso\, uno dei luoghi più belli nelle vicinanze di Stepantsminda. La valle si estende fino al confine con l’Ossezia settentrionale e può essere attraversata fino in fondo sia a piedi che in auto. All’interno della valle si possono incontrare i resti di villaggi un tempo abitati\, che ora sono utilizzati solo dai pastori locali che cercano riparo durante il maltempo. Alla fine del sentiero sono visibili due monasteri: uno tutto maschile e uno tutto femminile un po’ più avanti\, entrambi praticamente tagliati fuori dalla civiltà\, soprattutto in inverno quando la strada qui diventa impraticabile. In questo splendido posto inizieremo il nostro trekking leggero. Il trekking è di livello facile\, l’intera valle può essere percorsa in 6 ore\, ma le auto sono sempre a nostra disposizione\, il che significa che possiamo terminare il trekking in qualsiasi momento. Dopo il trekking\, partenza per Tbilisi\, cena\, pernottamento a Tbilisi. \nGIORNO 6: TBILISI – UPLISTSIKHE – KUTAISI \nColazione\, poi partenza per la Georgia occidentale. Lungo la strada visiteremo Uplistsikhe\, una città rupestre vicino alla città di Gori e il più antico monumento e dimora rupestre del territorio della Georgia. Secondo fonti storiche\, i primi insediamenti risalgono al II millennio a.C.! La città impressiona con un’infrastruttura avanzata (per quei tempi) e una varietà di caverne e quartieri abitativi. Arrivo a Kutaisi. Tour della città: Cattedrale di Bagrati\, visita successiva all’Accademia Gelati (UNESCO)\, dove nei secoli XI-XII sono state tradotte le più grandi opere della filosofia greca\, la chiesa principale di Santa Nostra Signora\, famosa per i suoi bellissimi affreschi colorati\, e infine visiteremo la tomba di Davide il Costruttore\, il re più illustre della Georgia. Cena\, pernottamento a Kutaisi. \nGIORNO 7: KUTAISI – CANYON MARTVILI – CANYON OKATSE – KUTAISI \nColazione\, partenza da Kutaisi\, visita a uno dei monumenti naturali più belli della zona di Kutaisi\, il canyon di Martvili. Nel canyon cammineremo lungo il sentiero e i ponti sul fiume Abasha\, e più tardi potremo nuotare nel canyon. Il rafting si svolgerà su pontoni e durerà circa 15-20 minuti. Dopo l’esperienza ci sposteremo per visitare un altro dei canyon vicino. Il canyon di Okatse\, situato nel villaggio di Gordi\, vicino a Kutaisi. È possibile ammirare il canyon attraversando una passerella semi-trasparente\, sospesa sopra il canyon. L’inizio della passerella può essere raggiunto a piedi (circa 45 min di trekking leggero) o con veicoli fuoristrada (costo aggiuntivo circa 10 EUR/persona). Ritorno a Kutaisi\, visita al bazar locale. Cena di arrivederci\, pernottamento a Kutaisi. \nGIORNO 8: TRASFERIMENTO ALL’AEROPORTO \nColazione (colazione da asporto in caso di volo mattutino)\, trasferimento all’aeroporto\, partenza. \nQuota individuale di partecipazione: €1070 per minimo 12 partecipanti \nRichiedi il programma dettagliato via email. \nORGANIZZAZIONE TECNICA DEL VIAGGIO:\nSERAFINO sas Viaggi e Turismo LECCE IT\nP.I. 03207670757- Lic. DPGR 723/97 – C.C.I.A.A.7786/98 – Garanzia Assicurativa UnipolSai Pol. 1/1609/319/103399456
URL:https://meditazioninmovimento.it/escursione/viaggio-di-gruppo-in-georgia/
CATEGORIES:Trekking estero
ATTACH;FMTTYPE=image/jpeg:https://meditazioninmovimento.it/wp-content/uploads/2025/02/viaggio-gruppo-georgia-truso-valley.jpg
END:VEVENT
BEGIN:VEVENT
DTSTART;TZID=Europe/Rome:20240912T103000
DTEND;TZID=Europe/Rome:20240913T170000
DTSTAMP:20260420T120800
CREATED:20200824T191548Z
LAST-MODIFIED:20250121T185427Z
UID:2945-1726137000-1726246800@meditazioninmovimento.it
SUMMARY:Le cascate del Tuorno a Savoia di Lucania e gli alpaca
DESCRIPTION:Le cascate del Tuorno a Savoia di Lucania e gli alpaca\nUn weekend ricco di esperienze ed emozioni alla scoperta di angoli della Basilicata meno conosciuti e poco battuti. \nSabato 12 settembre: Acerenza e la valle più dipinta d’Italia\nOre 7:15 partenza da Brindisi con auto proprie per Acerenza. Arrivo in loco e visita del borgo di Acerenza inserito nella lista “Uno dei borghi più belli d’Italia“. \n Quello che stupisce di questo piccolo paesino lucano è la sua posizione il cui nome significa appunto “luogo alto“. Il borgo infatti è arroccato su una collina a 833m s.l.m. a vedetta di tutta l’area circostante. \nDal belvedere si potrà godere infatti di uno splendido panorama che spazia tutto intorno fino a scorgere nei giorni più tersi i primi paesini della vicina Puglia. Quello che stupisce di più però di questo piccolo borgo è la sua cattedrale\, le cui dimensioni sono davvero impressionanti per essere la cattedrale di un paese di 3000 abitanti! \nIl suo aspetto la rende molto simile all’abbazia di Cluney\, in Francia. A seguire visiteremo un allevamento di alpaca\, simpatici ed affabili animali peruviani da cui si utilizza la morbidosissima lana per la realizzazione di caldi maglioni e cappelli. Conosceremo da vicino questi animali un pò buffi e le loro abitudini; potremo accarezzarli\, abbracciarli e fare amicizia con loro. Consumeremo il nostro pranzo al sacco con una vista mozzafiato sulla diga di Acerenza. \nDopo il picnic ci sposteremo prima a Brienza dove ci attenderà una guida locale con cui scopriremo uno dei borghi medievali meglio conservati (oggi disabitato dopo il terremoto del 1980). Il borgo di Brienza si caratterizza per il modello ad avvolgimento centripeto avente come fulcro il Castello Caracciolo\, posto alla sommità del colle. \nCi sposteremo in seguito a Sant’Angelo le Fratte per un giro nel borgo alla scoperta dei murales. Sant’Angelo le Fratte\, insieme a Satriano di Lucania e Savoia di Lucania rientra in quella che viene definita “la valle più dipinta d’Italia“. Visiteremo una delle tante cantine incastonate nella roccia con piccola degustazione di prodotti locali. Cena in ristorante con piatti tipici della tradizione lucana e pernottamento in tenda sotto le stelle con bagno\, lavandino e fontana a disposizione. \nDomenica 13 settembre: le cascate del tuorno a Savoia di Lucania\nSmontate le tende ci fermeremo in un bar per una colazione veloce e ci sposteremo in auto alla volta di Savoia di Lucania per il trekking alle cascate del Tuorno\, nel vallone del Tuorno. Il nome tuorno deriva dalla parola dialettale lucana che significa tuono. Si può immaginare quindi lo spettacolo dinanzi al quale ci si trova dopo aver percorso i sentieri che portano alle due cascate. Un sito naturalistico ancora poco noto al turismo di massa. \nSembra\, infatti\, proprio il rumore di un tuono quello prodotto dallo scroscio dell’acqua che si tuffa nello scenografico canyon di Savoia di Lucania a pochi chilometri del noto Ponte alla Luna di Sasso di Castalda. Vi sono persino delle sorgenti sulfuree ed un mulino lungo l’itinerario che percorreremo a piedi tra le alte pareti rocciose in un ambiente molto umido ma ben ombreggiato che ci regalerà delle belle sensazioni. \nConcluderemo quindi il nostro weekend con una passeggiata nel centro storico di Savoia di Lucania alla scoperta dei murales e della storia di Giovanni Passannante\, anarchico rivoluzionario natio di Salvia che attentò alla vita di Re Umberto I di Savoia. Al termine della visita rientro in auto a casa. \n✔ Lunghezza della camminata: 8 km / difficoltà E (media) / dislivello: +250/-350  durata 3 ore \n INFO E DETTAGLI \n\n\n NECESSARIA LA PRENOTAZIONE compilando il form sottostante oppure al numero tel/WhatsApp 3209771234\n Abbigliamento: scarpe da trekking ed abbigliamento consono alla stagione\, almeno 2lt di acqua\, zaino giornaliero\, costume da bagno\, infradito\, accappatoio e bagnoschiuma per la doccia\, telo mare\, cappellino e crema solare\, tenda\, materassino tipo yoga e cuscino gonfiabile (facoltativo)\, vestiti di ricambio per la sera inclusa una felpina in caso di necessità\, pranzo al sacco. Potrebbe tornare utile anche una torcia.N.B. Chi non intende dormire in tenda può partecipare comunque prenotandosi autonomamente un b&b in paese a Sant’Angelo le Fratte
URL:https://meditazioninmovimento.it/escursione/cascate-tuorno-savoia-di-lucania/
CATEGORIES:Trekking Basilicata
ATTACH;FMTTYPE=:
END:VEVENT
END:VCALENDAR