BEGIN:VCALENDAR
VERSION:2.0
PRODID:-//Escursioni trekking in Puglia - ECPv6.3.3//NONSGML v1.0//EN
CALSCALE:GREGORIAN
METHOD:PUBLISH
X-WR-CALNAME:Escursioni trekking in Puglia
X-ORIGINAL-URL:https://meditazioninmovimento.it
X-WR-CALDESC:Eventi per Escursioni trekking in Puglia
REFRESH-INTERVAL;VALUE=DURATION:PT1H
X-Robots-Tag:noindex
X-PUBLISHED-TTL:PT1H
BEGIN:VTIMEZONE
TZID:Europe/Rome
BEGIN:DAYLIGHT
TZOFFSETFROM:+0100
TZOFFSETTO:+0200
TZNAME:CEST
DTSTART:20240331T010000
END:DAYLIGHT
BEGIN:STANDARD
TZOFFSETFROM:+0200
TZOFFSETTO:+0100
TZNAME:CET
DTSTART:20241027T010000
END:STANDARD
END:VTIMEZONE
BEGIN:VEVENT
DTSTART;TZID=Europe/Rome:20240917T100000
DTEND;TZID=Europe/Rome:20240917T140000
DTSTAMP:20260422T102432
CREATED:20190803T095306Z
LAST-MODIFIED:20250121T162646Z
UID:2515-1726567200-1726581600@meditazioninmovimento.it
SUMMARY:La cava di bauxite di Otranto ed il misterioso ipogeo
DESCRIPTION:La cava di bauxite di Otranto ed il misterioso ipogeo\nUna delle escursioni e degli itinerari imperdibili nel territorio di Otranto alla scoperta delle sue meraviglie. Tra queste sicuramente va annoverata la cava di bauxite di Otranto e la valle delle memorie con il suo misterioso ipogeo.\nIl nostro itinerario partirà dal porto di Otranto e da lì lasceremo i rumori cittadini per immergerci nella silenziosa valle delle memorie per conoscere un interessante e misterioso ipogeo\, grotte\, graffiti\, anfratti e chiese rupestri\, che per lungo tempo hanno ospitato l’uomo in passato. \nLa cava di bauxite di Otranto\nDopo aver compreso il valore e la storia di questi luoghi nascosti\, che in pochi conoscono\, continueremo a camminare su sentieri sterrati per giungere alla stupefacente ex cava di bauxite di Otranto\, conosciuta anche come laghetto rosso. Giunti qui ci troveremo catapultati su un altro pianeta! \n \nIl rosso dei minerali ferrosi conferiscono il tipico colore marziano alla bauxite. Questo colore in commistione al verde della vegetazione circostante che si rispecchia nel laghetto ci regalerà un’emozione che rimarrà impresso nella memoria! \nDopo tanta bellezza chiuderemo il cerchio di questo itinerario rientrando ad Otranto. \nTra le escursioni da fare a piedi in salento la cava di bauxite di Otranto con il misterioso ipogeo della valle delle memorie risulta assolutamente imprescindibile! \n INFO E DETTAGLI\n\n NECESSARIA LA PRENOTAZIONE compilando il form sottostante oppure al numero tel/WhatsApp 3209771234 \nNote tecniche: Difficoltà: facile / Lunghezza del percorso: 7 Km / Tempo di percorrenza: 3/4 ore \n Quota di partecipazione: €12 \n APPUNTAMENTO: Ore 10:00 presso Agriturismo Torre Pinta. \n ABBIGLIAMENTO: scarpe da trekking\, acqua a sufficienza (minimo 1\,5l a testa)
URL:https://meditazioninmovimento.it/escursione/cava-bauxite-otranto/
CATEGORIES:Escursioni trekking in Salento
ATTACH;FMTTYPE=image/jpeg:https://meditazioninmovimento.it/wp-content/uploads/2019/08/La-cava-di-bauxite-di-Otranto-ed-il-misterioso-ipogeo.jpg
END:VEVENT
END:VCALENDAR