BEGIN:VCALENDAR
VERSION:2.0
PRODID:-//Escursioni trekking in Puglia - ECPv6.3.3//NONSGML v1.0//EN
CALSCALE:GREGORIAN
METHOD:PUBLISH
X-ORIGINAL-URL:https://meditazioninmovimento.it
X-WR-CALDESC:Eventi per Escursioni trekking in Puglia
REFRESH-INTERVAL;VALUE=DURATION:PT1H
X-Robots-Tag:noindex
X-PUBLISHED-TTL:PT1H
BEGIN:VTIMEZONE
TZID:Europe/Rome
BEGIN:DAYLIGHT
TZOFFSETFROM:+0100
TZOFFSETTO:+0200
TZNAME:CEST
DTSTART:20240331T010000
END:DAYLIGHT
BEGIN:STANDARD
TZOFFSETFROM:+0200
TZOFFSETTO:+0100
TZNAME:CET
DTSTART:20241027T010000
END:STANDARD
END:VTIMEZONE
BEGIN:VEVENT
DTSTART;TZID=Europe/Rome:20240927T093000
DTEND;TZID=Europe/Rome:20240927T170000
DTSTAMP:20260422T102451
CREATED:20180423T182301Z
LAST-MODIFIED:20250121T191123Z
UID:2047-1727429400-1727456400@meditazioninmovimento.it
SUMMARY:Il faro di punta palascia di Otranto\, il punto più ad est d'Italia
DESCRIPTION:Il faro di Punta Palascia di Otranto\nIl faro di punta palascia di Otranto sarà la meta di questo itinerario a piedi per raggiungere il punto più ad est d’Italia. Partendo direttamente dal borgo di Otranto\, porta d’Oriente\, si cammina dal centro storico di Otranto alla scoperta dei tesori naturalistici presenti nei dintorni della città idruntina. Ci dirigeremo a Torre del Serpe\, antica\nsentinella di avvistamento. \nArriveremo camminando poi in un ambiente spettacolare ed unico: un laghetto all’interno di una vecchia cava di bauxite. \nUn luogo magico e suggestivo; tutto intorno il lago\, la terra colorata dalla presenza dominante del minerale\, appare di un colore rosso intenso e mette ancora di più in risalto il verde brillante delle acque di falda\, nonché il colore intenso della vegetazione circostante.\n Ci sembrerà di stare su un altro pianeta!\n A questo punto l’itinerario proseguirà lungo la scogliera fino a raggiungere e conquistare il faro di Punta Palascia\, il punto più ad est d’Italia! \nDopo la pausa pranzo continueremo il nostro trekking panoramico sulla costa fino a Porto Badisco dove ci sarà la possibilità di rinfrescarsi nella meravigliosa baia. Un’escursione imperdibile nel salento questo itinerario ad Otranto nel punto più ad est d’Italia\n\n\n\nINFO E DETTAGLI\nLunghezza della camminata: 15 km / difficoltà E (media) / Dislivello: +150m/ durata 6 ore\n NECESSARIA LA PRENOTAZIONE compilando il form sottostante oppure al numero tel/WhatsApp 3209771234\n Durata: dalle ore 9:30 alle ore 17.00 circa.\n Quota di partecipazione: €12\n Appuntamento: ore 08:00 presso Bar Liberty Brindisi oppure 09:15 al “bar del porto” di Otranto – via del porto (accanto alla lega navale).\n Abbigliamento ed occorrente: scarpe da trekking\, k-way\, zaino con acqua e pranzo al sacco\, macchina fotografica\, abbigliamento a strati con giacca antivento.
URL:https://meditazioninmovimento.it/escursione/faro-punta-palascia-otranto/
CATEGORIES:Escursioni trekking in Salento
END:VEVENT
END:VCALENDAR