BEGIN:VCALENDAR
VERSION:2.0
PRODID:-//Escursioni trekking in Puglia - ECPv6.3.3//NONSGML v1.0//EN
CALSCALE:GREGORIAN
METHOD:PUBLISH
X-WR-CALNAME:Escursioni trekking in Puglia
X-ORIGINAL-URL:https://meditazioninmovimento.it
X-WR-CALDESC:Eventi per Escursioni trekking in Puglia
REFRESH-INTERVAL;VALUE=DURATION:PT1H
X-Robots-Tag:noindex
X-PUBLISHED-TTL:PT1H
BEGIN:VTIMEZONE
TZID:Europe/Rome
BEGIN:DAYLIGHT
TZOFFSETFROM:+0100
TZOFFSETTO:+0200
TZNAME:CEST
DTSTART:20240331T010000
END:DAYLIGHT
BEGIN:STANDARD
TZOFFSETFROM:+0200
TZOFFSETTO:+0100
TZNAME:CET
DTSTART:20241027T010000
END:STANDARD
END:VTIMEZONE
BEGIN:VEVENT
DTSTART;TZID=Europe/Rome:20241028T140000
DTEND;TZID=Europe/Rome:20241101T150000
DTSTAMP:20260420T083438
CREATED:20231003T090320Z
LAST-MODIFIED:20250926T165829Z
UID:5194-1730124000-1730473200@meditazioninmovimento.it
SUMMARY:Trekking d'autunno e foliage in Sila
DESCRIPTION:Con l’arrivo dell’autunno la Natura muta forma; soprattutto il bosco cambia i suoi colori donandoci la magia del fenomeno del foliage. Le foglie da verdi virano sul rosso-arancio oppure sul giallo\, prima di formare un manto morbido come un tappeto ai piedi degli alberi. \nQuesto è il periodo migliore per raccogliersi\, per entrare dentro noi stessi e per ascoltare il silenzio del bosco. Con questa proposta cammineremo nelle faggete e bosco di pino laricio della Sila e lambiremo le sponde del lago di Cecita e Lorica. In questa stagione in bosco ci dona anche i famosi funghi porcini che non mancheremo di degustare durante le cene. Insomma\, un programma di trekking in Sila è l’ideale per cogliere tutti i sapori e le sfumatura di questa magica stagione delicata che è l’autunno. \nProgramma del trekking d’autunno in Sila\nSabato 28 ottobre: dopo pranzo (ore 14:00) partenza da Brindisi con auto proprie per Camigliatello Silano. Arrivo in Sila nel pomeriggio. Tempo libero per fare un giro nel borgo in festa in occasione della sagra del fungo porcino tra stand e bancarelle. Cena e pernottamento in hotel. \n \nDomenica 29 ottobre: dopo la colazione facile escursione a piedi al lago di Ariamacina\, piccolo invaso artificiale circondato da pineta. Dopo aver completato il breve giro ad anello ci sarà la possibilità di fare una passeggiata a cavallo di un’ora nei boschi della Sila. Al termine dell’attività ci sposteremo nella vicina Lorica per una passeggiata sul lungolago. Ci sarà anche la possibilità di degustare un’ottima birra artigianale o fare un giro sul lago in battello elettrico. Rientro a Camigliatello. Cena e pernottamento. \nLunedì 30 ottobre: dopo la colazione partiamo a piedi direttamente dall’hotel per immergerci nel vallone delle 7 acque. Cammineremo per un lungo tratto nel bosco con a lato il fiume. Ci sarà un invito a connettersi con l’elemento acqua e con l’energia che essa rappresenta e smuove. Terminate le pratiche energetiche si proseguirà in salita nel bosco fino a raggiungere la vetta di Monte Curcio. Raggiunta la cima dove ci fermeremo a consumare un pò di frutta secca il cammino proseguirà completamente in discesa fino a rientrare in paese. Da qui prenderemo le auto e ci sposteremo nella vicina San Giovanni in Fiore per visitare l’abbazia da lui fondata. Grazie ad un esperto del luogo conosceremo approfonditamente la figura del grande Gioachino da Fiore\, delle sue opere e del suo pensiero gioachimita. In base alle tempistiche ed all’interesse del gruppo decideremo se spostarci sul lago Ampollino oppure rientrare in hotel. Cena e pernottamento a Camigliatello. \nMartedì 31 ottobre: dopo la colazione oggi cammineremo in località Cupone-Fossiata-Arboreto. Ci fermeremo al centro visite e faremo un bel giro ad anello nei dintorni del lago Cecita\, il lago (aritificiale) più grande della Calabria! Vedremo esemplari di pino laricio\, tipico della zona\, impiegati in passato per la raccolta della pece. Dopo il trekking ci concederemo un bel gelato artigianle presso un’azienda d’eccellenza della zona dove protrete acquistare anche frutti rossi. Potremo inoltre acquistare salumi e formaggi dai sapori dimenticati… Nel pomeriggio visiteremo la riserva “I Giganti di Fallistro“\, meraviglioso bosco con più di 50 esemplari secolari di pino laricio che possono raggiungere i 60 metri d’altrezzi e quasi 2 metri di circonferenza. Anche in questo luogo incantato ci sarà la possibilità di entrare in contatto con lo Spirito degli alberi in una maniera del tutto nuova rispetto a quella che già conosciamo… Rientro in hotel. Cena e pernottamento.  \nMercoledì 1 novembre: dopo la colazione ci sposteremo con le auto per raggiungere la faggeta e completare così il nostro trekking d’autunno in Sila. Con questa facile escursione raggiungeremo la Pietra d’Altare\, dove secondo la leggenda Carlo Magno ed i suoi cavalieri\, di ritorno da una Crociata\, celebrarono una messa su degli enormi massi ivi presenti. Ci immergeremo completamente nel bosco e verranno proposte delle pratiche per entrare in connessione con il bosco e con gli alberi. Per chi lo vorrà concluderemo questa esperienza insieme con una indimenticabile mangiata presso un agriturismo. Rientro in Puglia. \nINFO E DETTAGLI\n\n NECESSARIA LA PRENOTAZIONE compilando il form sottostante oppure al numero tel/WhatsApp 3209771234 \n Abbigliamento: scarpe e zaino da trekking\, bastoncini da trekking (obbligatori)\, trolley piccolo\, abbigliamento a cipolla indicato per la stagione (giacca a vento\, pantaloni lunghi\, pile\, t-shirt). \n\nORGANIZZAZIONE TECNICA DEL VIAGGIO:\nSERAFINO sas Viaggi e Turismo LECCE IT\nP.I. 03207670757- Lic. DPGR 723/97 – C.C.I.A.A.7786/98 – Garanzia Assicurativa UnipolSai Pol. 1/1609/319/103399456
URL:https://meditazioninmovimento.it/escursione/trekking-dautunno-e-foliage-in-sila/
CATEGORIES:Trekking nel Pollino
ATTACH;FMTTYPE=image/jpeg:https://meditazioninmovimento.it/wp-content/uploads/2023/10/trekkinfg-sila.jpeg
END:VEVENT
BEGIN:VEVENT
DTSTART;TZID=Europe/Rome:20241029T080000
DTEND;TZID=Europe/Rome:20241101T170000
DTSTAMP:20260420T083438
CREATED:20221004T163208Z
LAST-MODIFIED:20250121T162140Z
UID:4723-1730188800-1730480400@meditazioninmovimento.it
SUMMARY:Transumanza\, sentiero del cuore e foliage in Abruzzo
DESCRIPTION:Per il ponte dei Santi quest’anno abbiamo pensato ad un programma prettamente autunnale\, dal momento che uno dei nostri obiettivi è sempre quello di seguire la stagionalità e le cose secondo natura. Tutto questo per permettervi di vivere i luoghi che visitiamo al massimo del loro potenziale in modo da donarvi esperienze uniche e memorabili. \nL’Abruzzo\, terra di pastori\, montagne sacre\, tra le più alte dell’appennino\, prodotti tipicamente autunnali e camminate nei boschi per ammirare il foliage sono gli ingredienti pensati per questo “ponte”. \n29 ottobre: \nSfioratura e tostatura dello zafferano\, l’oro rosso d’Abruzzo.\nPartenza con auto proprie dalla Puglia in modalità car sharing. Arrivo intorno all’ora di pranzo in Abruzzo\, sull’altopiano di Navelli. Pranzo tipico con prodotti a base di zafferano in agriturismo in un contesto rurale genuino e laborioso che vi tornerà in mente ogni volta che mangerete un risotto allo zafferano. Persino il dolce e la grappa saranno allo zafferano! Dopo esserci rifocillati passeremo ad un vero e proprio workshop  dello zafferano nella natura. Partiremo con la spiegazione di tutte le caratteristiche e peculiarità di questa preziosa pianta faremo la nostra prima Abruzzo Experience. Dopo la raccolta\, avvenuta all’alba\, quando i fiori sono ancora chiusi\, si passerà alla sfioratura\, ovvero la separazione degli stimmi dagli stami e dal fiore campanulato. Un momento estremamente meditativo\, in cui tutti sono intorno ad un tavolo a separare cose gialle da cose rosse da cose viola. Il lavoro va eseguito a mano e deve essere ultimato entro la sera\, altrimenti lo zafferano rischia di guastarsi e il raccolto della giornata compromesso. Si passerà poi alla tostatura\, all’essiccazione degli stimmi che vengono messi sopra un setaccio ed in seguito sopra una brace di legna. Una fase molto delicata\, in cui il tempismo con il fuoco è fondamentale per non bruciare gli stimmi ma allo stesso tempo se non si asciugano bene possono marcire in pochi giorni. Un delicato equilibrio. Proseguimento per il b&b. Cena e pernottamento.\n30 ottobre: \nTransumanza col gregge\, i cani ed il pastore. Trekking a passo di pecora.\nDopo la colazione trasferimento in bus in montagna dove incontreremo il gregge\, i cani ed uno degli ultimi pastori d’Abruzzo. Un pastore colto\, quello che abbiamo scelto per voi\, dall’inventiva e dalle idee vincenti\, che è stato in grado di valorizzare il suo lavoro e le antiche tradizioni pastorali di questa terra creando una filiera corta legata alle pecore ed alla pastorizia. \nCammin facendo\, durante la transumanza a scendere dallo stazzo estivo alla dimora invernale avremo modo di conoscerlo meglio. Ci parlerà del suo progetto e del suo duro lavoro ma anche del suo amore per la sua terra Abruzzese. Sarà sicuramente un’esperienza che ci arricchirà e ci farà apprezzare le cose semplici e genuine. Ci sarà la merenda del pastore e rivivremo per un giorno l’esperienza della transumanza\, che da sempre\, per secoli\, ha legato la nostra terra di Puglia alla terra del nostro amico e pastore d’Abruzzo. Al termine della transumanza rientro in bus al b&b. Cena e pernottamento. \n31 ottobre: \nil sentiero del cuore (lago di Scanno a forma di cuore) e le gole del Sagittario.\nDopo la colazione trasferimento a Scanno e partenza per il trekking sul sentiero del cuore che ci porterà al lago di Scanno\, il lago a forma di cuore. Cammineremo nel bosco e raggiungeremo bellissime vedute sul lago. Raggiunto il lago di Scanno ci sposteremo a Villalago\, dove con un secondo sentiero giungeremo all’eremo di San Domenico. Qui riempiremo gli occhi con il verde smeraldo delle acque del Lago di San Domenico\, bacino artificiale creato negli anni ‘20 con una diga sul fiume Sagittario. Giunti a Villalago scenderemo all’ombra e nella quiete del bosco\, fino a giungere al lago di San Domenico e più precisamente all’omonimo Eremo per conoscere la vita di San Domenico abate\, reso noto dal culto che ancora oggi si conserva a Cocullo\, ma che scelse anche le sponde di queste acque a dimora del suo spirito contemplativo. Al termine dell’escursione passeggiata a Scanno. Ci fermeremo poi nella caffetteria / pasticceria storica dove è nato il Pan dell’Orso per poter provare il dolce tipico d’Abruzzo. Nel pomeriggio visita guidata di Sulmona e\, tempi permettendo\, anche di Pacentro col suo bel castello. Rientro in b&b\, cena e pernottamento. \n1 novembre: \nFoliage a Forca d’Acero.\nDopo la colazione spostamento in auto a Forca d’Acero per una nuova immersione nei boschi per ammirare il foliage. Questo è un valico di montagna a quota 1538m sull’Appennino Centrale\, spartiacque tra Abruzzo e Lazio\, L’Aquila e Frosinone\, collega il Comune di Opi con San Donato Val di Comino.\nIl nostro cammino parte da Forca d’Acero\, si immerge nella foresta di Valle Fredda\, tra il monte Panico e il monte San Nicola\, risale un primo valico a quota 1865m e guadagna per prati il Valico Inguagnera 1804m.\nSiamo su un affaccio spettacolare sull’area più selvaggia del parco\, Costa Camosciara e le cime che la sovrastano: Tre Mortari\, Balzo della Chiesa\, Monte Capraro; completano il quadro il monte Petroso sulla destra e il Monte Amaro di Opi sulla sinistra.\nLo sguardo si perde sul manto di fitti boschi di faggio\, autentici custodi della vita di animali selvatici che qui hanno trovato protezione\, salvandosi dall’estinzione. Siamo nella zona di riserva integrale\, sotto di noi si individuano due siti Unesco nei pressi della Val Fondillo: Valle Cacciagrande e Valle Jancino.\nDa questa finestra possiamo provare a immaginare cos’è una foresta vetusta dove gli alberi hanno la possibilità di vivere l’intero ciclo vitale\, che in media varia dai 300 ai 500 anni e riescono a morire di morte naturale.\n“Voglio un autunno rosso come l’amore\, giallo come il sole ancora caldo nel cielo\, arancione come i tramonti accesi al finire del giorno\, porpora come i granelli d’uva da sgranocchiare. Voglio un autunno da scoprire\, vivere\, assaggiare” Stephen Littleword.\nSi concluderà così la nostra magnifica 4 giorni Abruzzese.\nDislivello: 630 m circa / Tempo di percorrenza: 5 h circa / Lunghezza: 11 km circa\n\nORGANIZZAZIONE TECNICA DEL VIAGGIO:\n\nSERAFINO sas Viaggi e Turismo LECCE IT\nP.I. 03207670757- Lic. DPGR 723/97 – C.C.I.A.A.7786/98 – Garanzia Assicurativa UnipolSai Pol. 1/1609/319/103399456
URL:https://meditazioninmovimento.it/escursione/transumanza-sentiero-del-cuore-e-foliage-in-abruzzo/
CATEGORIES:Escursioni Abruzzo
ATTACH;FMTTYPE=image/jpeg:https://meditazioninmovimento.it/wp-content/uploads/2022/10/transumanza-in-basilicata.jpeg
END:VEVENT
BEGIN:VEVENT
DTSTART;TZID=Europe/Rome:20241030T070000
DTEND;TZID=Europe/Rome:20241101T163000
DTSTAMP:20260420T083438
CREATED:20211008T213158Z
LAST-MODIFIED:20250926T165752Z
UID:3625-1730271600-1730478600@meditazioninmovimento.it
SUMMARY:Trekking del foliage in Foresta Umbra e passeggiata a cavallo agli eremi di Pulsano nel Gargano
DESCRIPTION:A tutti i nostri follower proponiamo un weekend d’autunno all’insegna dello sport e del benessere nel Parco Nazionale del Gargano. L’itinerario\, studiato apposta per questo periodo dell’anno ci consentirà di ammirare la bellezza delle faggete vetuste della Foresta Umbra\, riconosciute Patrimonio Naturale dell’Umanità dall’UNESCO\, in una veste autunnale del tutto spettacolare: quella del foliage! \nCos’è il foliage?\nIl foliage altro non è che il cambiamento del colore delle foglie degli alberi che avviene con l’arrivo dell’autunno che assumono colori dal giallo all’arancione\, dal rosso al marrone. Si tratta quindi di un fenomeno naturale tipico della stagione autunnale che dà vita a panorami spettacolari. Quale luogo migliore in Puglia\, quindi\, per ammirare questo fenomeno\, se non la Foresta Umbra con la sua varietà di alberi presenti?! Gli amanti della fotografia avranno quindi un motivo in più per partecipare e scattare la foto più bella. \nTrekking del foliage in Foresta Umbra e passeggiata a cavallo agli eremi di Pulsano nel Gargano\nSabato 30 ottobre: trekking del foliage in Foresta Umbra. Ore 7:00 partenza da Brindisi con auto proprie per il Parco Nazionale del Gargano. Arrivo in Foresta Umbra e trekking in Foresta per ammirare il foliage che qui si presenta spettacolare grazie alle diverse specie di alberi che la popolano. La Foresta Umbra costituisce il residuo della primigenia e millenaria selva (Nemus Garganicum ) del promontorio del Gargano. Questa foresta è una tra le più estese formazioni di latifoglie d’Italia\, ed una delle più grandi d’Europa. Conosceremo la bella “faggeta depressa” ed il fenomeno del “macrosomatismo vegetale”. \nConosceremo le doline ed i laghi della Foresta Umbra ascoltando ed apprezzando il silenzio del bosco\, lo scricchiolio delle foglie sotto i piedi\, il profumo della terra. Al termine del percorso a piedi sui sentieri della foresta umbra ci sposteremo a Vico del Gargano\, inserito nella lista “Uno dei borghi più belli d’Italia“. Qui degusteremo la paposcia tipica del Gargano. Possibilità di visita di un castagneto (se ancora ci saranno castagne sugli alberi).  Visiteremo poi un liquorificio dove vengono prodotti liquori con l’arancia igp del Gargano ed il limone femminello del Gargano. Trasferimento in agriturismo per un pò di riposo. Cena e pernottamento.  Lunghezza del percorso: 10Km / Dislivello: +200m / Ore di Cammino:3 / Difficoltà: facile \nDomenica 31 ottobre: il caciocavallo\, grotta Paglicci ed il bosco della Fajarama. Dopo la colazione spostamento a Rignano Garganico dove visiteremo il museo di Grotta Paglicci. Faremo un viaggio nella Preistoria Italiana più remota attraverso la scoperta o riscoperta del giacimento Paleolitico di Grotta Paglicci\, il sito preistorico ubicato nelle campagne di Rignano Garganico.  \nLa visita virtuale di questo sito\, grazie ai tablet ci fornirà uno spaccato di vita umana senza soluzione di continuità da 24.000 a 11.000 anni fa.  In seguito prenderemo parte ad un laboratorio di archeologia sperimentale in cui apprenderemo le tecniche di scheggiatura della selce usate dagli uomini primitivi\, l’accensione del fuoco con la pietra focaia\, l’uso dell’ocra. \nA seguire degustazione dei vari formaggi e prodotti del territorio insieme alla musciska\, un tipo di carne essiccata utilizzata dai pastori durante la transumanza. In seguito visiteremo il convento di San Matteo\, splendido monumento di interesse nazionale posto lungo la Via Francesca (Via Francigena).  Ci immergeremo nel Bosco della Fajarama dove troveremo i pioppi tremoli\, sui cui tronchi sono ben visibili i caratteristici fori provocati dai picchi\, fino ad arrivare alla faggeta. Nel bosco della Fajarama troveremo neviere\, carbonaie\, la presenza della Pinciara\, un tempo nota per le ‘medievali fornaci’ produttrici di pince (coppi) e\, nelle immediate vicinanze\, dei ruderi di S. Nicola\, uno dei tanti luoghi di culto posti lungo la Via sacra dei Longobardi (Via Sacra Longobardorum). Rientro in agriturismo per un pò di relax. Cena e pernottamento. \nLunedì 1 novembre: passeggiata a cavallo per neofiti all’abbazia di Pulsano. Dopo la colazione ci sposteremo nei pressi di Monte Sant’Angelo in un maneggio dove l’istruttore ci darà le nozioni base per la passeggiata a cavallo in sella ai tranquillissimi cavalli murgesi\, la tipica razza pugliese. La passeggiata è adatta a neofiti alla prima esperienza a cavallo. A turno metà gruppo farà trekking e l’altra metà in contemporanea seguirà il gruppo a cavallo ed al ritorno in maneggio si cambierà (chi avrà fatto il trekking andrà a cavallo e viceversa). \nArriveremo all’abbazia di Pulsano\, un luogo ancora incontaminato dove si respira la vera spiritualità del Gargano. La “Valle degli Eremi” di Pulsano è tra i luoghi del cuore FAI. Nei dintorni dell’Abbazia di Pulsano sono localizzati degli eremi\, alcuni di loro sono ubicati su luoghi davvero inaccessibili. La vista sul golfo di Mandrefonia sarà mozzafiato! Visiteremo l’abbazia di Pulsano\, splendido esempio dello stile romanico pugliese. Al rientro in maneggio ci sposteremo in un altro luogo incontaminato ed immerso nella natura per consumare un ricco pranzo con prodotti locali. Dopo il pranzo rientro a casa. \nINFO E DETTAGLI\n\n NECESSARIA LA PRENOTAZIONE compilando il form sottostante oppure al numero tel/WhatsApp 3209771234 \n Abbigliamento: scarpe e zaino da trekking\,  macchina fotografica\, acqua\, trolley piccolo\, abbigliamento a cipolla indicato per la stagione (giacca a vento\, pantaloni lunghi\, pile\, poncho o k-way). \nORGANIZZAZIONE TECNICA DEL VIAGGIO:\nSERAFINO sas Viaggi e Turismo LECCE IT\nP.I. 03207670757- Lic. DPGR 723/97 – C.C.I.A.A.7786/98 – Garanzia Assicurativa UnipolSai Pol. 1/1609/319/103399456
URL:https://meditazioninmovimento.it/escursione/trekking-del-foliage-in-foresta-umbra-nel-gargano/
CATEGORIES:Escursioni a piedi nel Parco Nazionale del Gargano
ATTACH;FMTTYPE=:
END:VEVENT
BEGIN:VEVENT
DTSTART;TZID=Europe/Rome:20241031T103000
DTEND;TZID=Europe/Rome:20241031T160000
DTSTAMP:20260420T083438
CREATED:20201020T174653Z
LAST-MODIFIED:20250121T184126Z
UID:3117-1730370600-1730390400@meditazioninmovimento.it
SUMMARY:Trekking sui sentieri dell'acquedotto pugliese con degustazione vini in cantina
DESCRIPTION:Trekking sui sentieri dell’acquedotto pugliese con degustazione vini in cantina\nLa giornata coniugherà un walking ed un wine experience. Inizierà con la visita della cantina i Pastini situata in un territorio incantevole nelle contrade che dividono Locorotondo da Martina Franca. L’azienda vitivinicola\, immersa in una campagna magnifica che guarda Locorotondo\, nasce nel 1996 con l’obiettivo di recuperare e valorizzare i vitigni autoctoni: la Verdeca\, il Bianco d’Alessano ed il Minutolo\, varietà a bacca bianca. \nIl nostro wine experience inizierà con la visita guidata dell’originale masseria del ‘700 con annessi trulli del ‘600\, si prosegue con i suggestivi vigneti autoctoni del Minutolo\, Verdeca\, Bianco d’Alessano e poi con la visita della nuova cantina “I Pàstini” con spiegazione delle fasi di vinificazione e degustazione di una selezione di vini accompagnati da taralli\, friselline tipiche con pomodoro e basilico\, olive\, fave secche. \nAl termine del wine tour sarà la volta del walking tour. Ci sposteremo con le auto a Cocolicchio dove inizierà l’escursione a piedi sui sentieri dell’acquedotto pugliese. Questo percorso segue il canale dell’acquedotto pugliese\, tra Fasano e Locorotondo. \nSi parte da Cocolicchio\, un piccolo borgo di trulli tra i più antichi di Puglia. Da qui ci innesteremo sulla Via dell’acqua dell’acquedotto pugliese dove raggiungeremo il ponte più alto dell’acquedotto con vista panoramica sul Canale di Pirro\, sulla Selva di Fasano e sul verdeggiante panorama circostante. \nAttraverseremo un bosco primigenio di grandi querce di fragno e roverelle\, mentre i trulli e i tratturi tra le piccole contrade ci faranno tornare indietro alle atmosfere rurali di un tempo. Al termine dell’escursione torneremo a casa portandoci il ricordo di una bella giornata trascorsa in natura tra sport e cultura. \n INFO E DETTAGLI \nLunghezza del percorso: 8 Km / Tempo di percorrenza: 2\,5 ore / Difficoltà: facile \n Quota di partecipazione su richiesta \n NECESSARIA LA PRENOTAZIONE compilando il form sottostante oppure al numero tel/WhatsApp 3209771234 \nAPPUNTAMENTO: Ritrovo alle ore 9:15 presso Bar Liberty Brindisi oppure 10:15 presso cantina i Pastini
URL:https://meditazioninmovimento.it/escursione/trekking-acquedotto-pugliese/
CATEGORIES:Escursioni nella murgia dei trulli
ATTACH;FMTTYPE=:
END:VEVENT
END:VCALENDAR