BEGIN:VCALENDAR
VERSION:2.0
PRODID:-//Escursioni trekking in Puglia - ECPv6.3.3//NONSGML v1.0//EN
CALSCALE:GREGORIAN
METHOD:PUBLISH
X-WR-CALNAME:Escursioni trekking in Puglia
X-ORIGINAL-URL:https://meditazioninmovimento.it
X-WR-CALDESC:Eventi per Escursioni trekking in Puglia
REFRESH-INTERVAL;VALUE=DURATION:PT1H
X-Robots-Tag:noindex
X-PUBLISHED-TTL:PT1H
BEGIN:VTIMEZONE
TZID:Europe/Rome
BEGIN:DAYLIGHT
TZOFFSETFROM:+0100
TZOFFSETTO:+0200
TZNAME:CEST
DTSTART:20240331T010000
END:DAYLIGHT
BEGIN:STANDARD
TZOFFSETFROM:+0200
TZOFFSETTO:+0100
TZNAME:CET
DTSTART:20241027T010000
END:STANDARD
END:VTIMEZONE
BEGIN:VEVENT
DTSTART;TZID=Europe/Rome:20241105T100000
DTEND;TZID=Europe/Rome:20241105T143000
DTSTAMP:20260420T083438
CREATED:20210601T162738Z
LAST-MODIFIED:20250121T161826Z
UID:3481-1730800800-1730817000@meditazioninmovimento.it
SUMMARY:Trekking sul sentiero dei Fani in Salento
DESCRIPTION:Trekking sul sentiero dei Fani in Salento\nIl sentiero dei Fani è un itinerario a piedi nel basso Salento\, la terra tra i due mari. Cammineremo tra i canaloni di Salve\, poco distante dalla marina di Pescoluse\, meta ambita d’estate per turisti e locali\, conosciuta con il nome di Maldive del Salento. Ma Pescoluse non è solo spiaggia.\nAppena qualche km dal mare\, nell’entroterra\, il carsismo ha profondamente plasmato il territorio che poi nei millenni è stato abitato dall’uomo. L’acqua ha scavato quei canaloni che hanno rappresentato\, e sono tutt’ora\, un habitat particolare\, al riparo dai venti e dalle piogge.\nL’abbondanza di acqua ha permesso proprio l’insediamento umano ed oggi la sua presenza ci fa godere di una vegetazione lussureggiante. Attraverseremo quindi i due canaloni\, quello dei Fani e quello del canale Tariano percorrendo il sentiero dei Fani.\nGiungeremo nei presso della Masseria dei Fani\, che con la sua torre di difesa\, aggiunta successivamente\, è posta a guardia del territorio. Poco distante il sito archeologico della Chiusa di età messapica\, circondato da grandi muri di cinta. Visiteremo la cripta di San Pantaleone e ciò che resta della Masseria Don Cesare e dell’apiario Valentini.\n\n INFO E DETTAGLI \nLunghezza della camminata: 8 km / difficoltà T (facile) / durata 3/4 ore\n Prenotazione necessaria entro le ore 13:00 del giorno precedente compilando il form sottostante oppure al numero tel./WhatsApp 3209771234\nDurata: intera giornata dalle ore 10:00 alle ore 14:30.\n Appuntamento: Ritrovo a Salve (verrà inviato link Google Maps agli iscritti) alle ore 10:00\n Abbigliamento ed occorrente: scarpe da trekking\, zaino con acqua e pranzo al sacco\, macchina fotografica
URL:https://meditazioninmovimento.it/escursione/sentiero-dei-fani/
CATEGORIES:Escursioni trekking in Salento
ATTACH;FMTTYPE=image/jpeg:https://meditazioninmovimento.it/wp-content/uploads/2021/06/il-sentiero-dei-Fani.jpg
END:VEVENT
END:VCALENDAR