BEGIN:VCALENDAR
VERSION:2.0
PRODID:-//Escursioni trekking in Puglia - ECPv6.3.3//NONSGML v1.0//EN
CALSCALE:GREGORIAN
METHOD:PUBLISH
X-WR-CALNAME:Escursioni trekking in Puglia
X-ORIGINAL-URL:https://meditazioninmovimento.it
X-WR-CALDESC:Eventi per Escursioni trekking in Puglia
REFRESH-INTERVAL;VALUE=DURATION:PT1H
X-Robots-Tag:noindex
X-PUBLISHED-TTL:PT1H
BEGIN:VTIMEZONE
TZID:Europe/Rome
BEGIN:DAYLIGHT
TZOFFSETFROM:+0100
TZOFFSETTO:+0200
TZNAME:CEST
DTSTART:20240331T010000
END:DAYLIGHT
BEGIN:STANDARD
TZOFFSETFROM:+0200
TZOFFSETTO:+0100
TZNAME:CET
DTSTART:20241027T010000
END:STANDARD
END:VTIMEZONE
BEGIN:VEVENT
DTSTART;TZID=Europe/Rome:20241119T070000
DTEND;TZID=Europe/Rome:20241119T153000
DTSTAMP:20260420T102149
CREATED:20231114T183231Z
LAST-MODIFIED:20250121T161700Z
UID:5286-1731999600-1732030200@meditazioninmovimento.it
SUMMARY:Foliage a Bosco Rubbio nel Pollino
DESCRIPTION:Itinerario prettamente autunnale in uno dei boschi più belli del Pollino per ammirare il bellissimo foliage a Bosco Rubbio. \nLa Riserva Naturale Orientata Bosco Rubbio (211 ha)\, istituita nel 1972\, nel comune di Francavilla In Sinni (PZ)\, fa parte delle oltre 130 riserve naturali d’Italia. Ha come principale obiettivo la tutela della specie arborea faggeto-abetina (Fagus-Abies) tipica del versante lucano del Parco del Pollino e che\, originariamente\, ricopriva le pendici del monte Pollino. \nL’abete bianco presente nella riserva\, secondo studi botanici eseguiti\, pare appartenga\, sia ecologicamente che morfologicamente\, ad una varietà appenninica differente dalle provenienze settentrionali\, e che costituisce\, dunque\, un ecotipo locale. Tale essenza\, in passato molto diffuso in Italia meridionale\, occupa oggi un’area molto limitata per motivi climatici e antropici.\nLa Riserva di Rubbio è uno dei pochi siti dove la specie vive allo stato spontaneo\, in consociazione naturale con il faggio. \nLa riserva è stata classificata come Zona di Protezione Speciale (ZPS)\, nell’ambito della Rete Natura 2000\, per la presenza di specie di uccelli di enorme valore naturalistico (falco pecchiaiolo\, nibbio reale\, picchio nero\, nibbio bruno\, nibbio reale\, biancone\, picchio rosso mezzano\, cincia bigia\, fringuello\, cinciallegra\, picchio muratore\, scricciolo\, poiana\, picchio rosso maggiore\, cincia mora\, usignolo\, capinera\, pettirosso\, tordela\, ghiandaia\, luì verde e averla capirossa).\nAll’interno della riserva sono\, inoltre\, presenti esemplari di lupo\, istrice\, gatto selvatico\, cinghiale\, e martora \nLa vegetazione\, costituita quasi esclusivamente dalla consociazione faggio e abete bianco\, vede anche la presenza di specie di acero montano\, cerro e douglasia. Questo itinerario di trekking nel Pollino è un classico da fare in questa stagione autunnale in cui i colori della Natura si esprimono al massimo per poter apprezzare il foliage. \n INFO E DETTAGLI\nLunghezza 15 km / difficoltà: E (escursionistico) / durata 5 ore / Dislivello: +400m \n NECESSARIA LA PRENOTAZIONE entro sabato ore 13:00 compilando il form sottostante oppure al numero tel./WhatsApp 3209771234 \n ABBIGLIAMENTO RICHIESTO: scarpe da trekking\, k-way\, zaino con acqua\, macchina fotografica\, abbigliamento a strati. \n Quota di partecipazione: €18 \n APPUNTAMENTO: ore 07:00 a Brindisi oppure ore 8:00 alla Esso di Chiatona
URL:https://meditazioninmovimento.it/escursione/foliage-a-bosco-rubbio-nel-pollino/
CATEGORIES:Trekking nel Pollino
ATTACH;FMTTYPE=image/jpeg:https://meditazioninmovimento.it/wp-content/uploads/2023/11/trekking-foliage-pollino-bosco-rubbio.jpg
END:VEVENT
END:VCALENDAR