BEGIN:VCALENDAR
VERSION:2.0
PRODID:-//Escursioni trekking in Puglia - ECPv6.3.3//NONSGML v1.0//EN
CALSCALE:GREGORIAN
METHOD:PUBLISH
X-ORIGINAL-URL:https://meditazioninmovimento.it
X-WR-CALDESC:Eventi per Escursioni trekking in Puglia
REFRESH-INTERVAL;VALUE=DURATION:PT1H
X-Robots-Tag:noindex
X-PUBLISHED-TTL:PT1H
BEGIN:VTIMEZONE
TZID:Europe/Rome
BEGIN:DAYLIGHT
TZOFFSETFROM:+0100
TZOFFSETTO:+0200
TZNAME:CEST
DTSTART:20240331T010000
END:DAYLIGHT
BEGIN:STANDARD
TZOFFSETFROM:+0200
TZOFFSETTO:+0100
TZNAME:CET
DTSTART:20241027T010000
END:STANDARD
END:VTIMEZONE
BEGIN:VEVENT
DTSTART;TZID=Europe/Rome:20241204T093000
DTEND;TZID=Europe/Rome:20241204T133000
DTSTAMP:20260420T071631
CREATED:20221128T183741Z
LAST-MODIFIED:20250121T161546Z
UID:4754-1733304600-1733319000@meditazioninmovimento.it
SUMMARY:Grottaglie: ceramiche\, gravine e concerto aperitivo per Santa Barbara
DESCRIPTION:In occasione della festa di Santa Barbara\, il 4 Dicembre vi proponiamo un evento unico e singolare nel territorio di Grottaglie che abbraccia ancora una volta cultura e tradizioni locali con natura\, arte (musica) e buon cibo. \nGrottaglie\, le gravine\nLa giornata prevede un facile e breve trekking in natura nella gravina del Fullonese\, la più vicina al centro abitato di Grottaglie. \nAi piedi del Monte Fellone\, sorge la Lama del Fullonese\, una gravina lunga quasi un chilometro e profonda fino a 40 metri\, ricca di grotte scavate nella roccia\, cuore di un insediamento rupestre abitato almeno fino al Duecento. In questo incantevole scenario\, l’uomo fa la sua comparsa a partire dall’Età del Ferro\, come testimoniano i fori di palificazione delle capanne\, le tombe e un muro di fortificazione\, che costituivano un villaggio capannicolo. L’insediamento includeva grotte-abitazioni disposte su più livelli e almeno tre chiese rupestri\, oltre al Cisternone del Fullonese\, parte di un complesso sistema idraulico per la raccolta e la conservazione dell’acqua. \nIl giardino segreto e la chiesa rupestre di Santa Barbara con concerto\nAl termine della facile passeggiata in ambiente naturale ci sposteremo nel quartiere delle ceramiche per scoprire il giardino segreto di un palazzo dove è stata scoperta anche una meravigliosa chiesa rupestre dedicata a Santa Barbara\, la santa del giorno\, protettrice dei vigili del fuoco\, dei minatori\, degli artificieri e della marina militare. Santa Barbara è legata quindi al fuoco\, dal greco pyr\, il fuoco che trasforma. E’ proprio il potere della Purificazione e Rinascita legate all’elemento fuoco\, il fuoco sacro\, che ci condurranno in questo viaggio musicale tra ninne nanne e canti d’amore risalenti a tempi molto lontani. Ci guideranno in questo viaggio di risveglio/rinascita/trasformazione Adolfo La Volpe alla chitarra classica\, oud\, cetra corsa ed harmonium indiano e Chiara Liuzzi alla voce e percussioni. Viaggeremo tra epoche\, culture\, lingue e tradizioni del mondo condividendo le più antiche espressioni d’affetto\, amore\, tenerezza associate alla musica ed impreziosite da improvvisazioni ed originali arrangiamenti. \nL’aperitivo finale e le ceramiche\nDopo la chiusura del concerto ci sarà un ricco aperitivo per concludere in bellezza questa meravigliosa giornata nella città di Grottaglie. \n INFO E DETTAGLI \n NECESSARIA LA PRENOTAZIONE entro venerdì sera compilando il form sottostante oppure al numero tel/WhatsApp 3209771234
URL:https://meditazioninmovimento.it/escursione/grottaglie-ceramiche-gravine-con-concerto-aperitivo/
CATEGORIES:Escursioni nella Terra delle Gravine
ATTACH;FMTTYPE=image/jpeg:https://meditazioninmovimento.it/wp-content/uploads/2022/11/escursione-grottaglie-ceramiche-e-gravine-300x169-1.jpg
END:VEVENT
END:VCALENDAR