BEGIN:VCALENDAR
VERSION:2.0
PRODID:-//Escursioni trekking in Puglia - ECPv6.3.3//NONSGML v1.0//EN
CALSCALE:GREGORIAN
METHOD:PUBLISH
X-WR-CALNAME:Escursioni trekking in Puglia
X-ORIGINAL-URL:https://meditazioninmovimento.it
X-WR-CALDESC:Eventi per Escursioni trekking in Puglia
REFRESH-INTERVAL;VALUE=DURATION:PT1H
X-Robots-Tag:noindex
X-PUBLISHED-TTL:PT1H
BEGIN:VTIMEZONE
TZID:Europe/Rome
BEGIN:DAYLIGHT
TZOFFSETFROM:+0100
TZOFFSETTO:+0200
TZNAME:CEST
DTSTART:20240331T010000
END:DAYLIGHT
BEGIN:STANDARD
TZOFFSETFROM:+0200
TZOFFSETTO:+0100
TZNAME:CET
DTSTART:20241027T010000
END:STANDARD
END:VTIMEZONE
BEGIN:VEVENT
DTSTART;TZID=Europe/Rome:20241208T070000
DTEND;TZID=Europe/Rome:20241210T200000
DTSTAMP:20260424T005442
CREATED:20171103T122139Z
LAST-MODIFIED:20250121T192445Z
UID:1512-1733641200-1733860800@meditazioninmovimento.it
SUMMARY:Abruzzo escursioni alle Gole del Sagittario e Lago di Scanno e visita ai mercatini di Natale
DESCRIPTION:Abruzzo escursioni alle gole del Sagittario e lago di Scanno con mercatini di Natale per il Ponte dell’Immacolata\nIn occasione della festa dell’Immacolata per sfruttare il ponte (venerdì\, sabato e domenica) in cui molte persone saranno libere dal lavoro abbiamo deciso di calarci nella splendida e magica atmosfera natalizia andando a visitare i mercatini di Natale di Palena e Campo di Giove e fare semplici escursioni nell’incantevole natura dell’Abruzzo nei giorni seguenti. Una buona idea per conciliare l’aria della festa con il nostro Amore per la Natura. \nProgramma: \nVenerdì 8 Dicembre. \nMercatini di Natale in Abruzzo\nOre 7:00 partenza da Brindisi con mezzi propri. Ore 8:15 incontro a Bari con eventuali altri partecipanti. 12:30 arrivo a Campo di Giove per una passeggiata in paese e visita ai Mercatini di Natale nella pittoresca piazza Duval. Il centro storico sarà allestito con musica\, souvenir di Natale\, giochi ed intrattenimento per adulti e bambini. \nPranzo libero. Nel primo pomeriggio ci sposteremo a Roccaraso dove anche lì ci si potrà intrattenere tra le bancarelle e stand natalizi vari ed approfittare dell’occasione per fare i primi regali natalizi. In serata check-in hotel. Cena e pernottamento. \n  \nSabato 09 Dicembre. \nEscursione walking al lago di Scanno: il sentiero del cuore.\nDopo la colazione trasferimento in auto a Scanno per iniziare il nostro trekking intorno al lago a forma di cuore. La passeggiata è adatta a tutti e non presenta difficoltà alcuna. L’escursione parte dal paese di Scanno e raggiunge attraverso il sentiero del cuore l’Eremo di Sant’Egidio dal quale una vista panoramica ci farà apprezzare il lago di Scanno con la sua particolare forma a cuore. \nL’Eremo è un  luogo di fede molto caro agli abitanti di Scanno poichè il santo salvò il paese dalla peste nel 1656. Con questa escursione facile ed adatta a tutti si può conoscere con il minimo sforzo una delle bellezze paesaggistiche e naturalistiche del Parco Nazionale d’Abruzzo. Al termine dell’escursione ci fermeremo nella caffetteria / pasticceria storica dove è nato il Pan dell’Orso per poter provare il dolce tipico d’Abruzzo. Passeggiata nel centro storico di Scanno e successivamente del centro storico di Opi. Rientro in hotel. Cena con piatti della tradizione locale. Pernottamento. Lunghezza del percorso: 9 km / Dislivello: 350m / Tempi di percorrenza: 4 ore \nDomenica 10 Dicembre. \nIl sentiero delle acque. Escursione alle Gole del Sagittario: da Anversa degli Abruzzi a Castrovalva\nDopo la colazione check-out dall’hotel ed in macchina ci sposteremo ad Anversa degli Abruzzi da dove partirà la nostra escursione a piedi nella valle del Sagittario.  Le spettacolari gole del Sagittario si snodano per diversi chilometri tra rocce calcaree scavate dal fiume Sagittario con punti che raggiungono i 1500 metri di quota. La Riserva delle Gole del Sagittario è stata istituita nel 1997 con l’ampliamento dell’oasi gestita dal WWF. \nIl percorso parte dalle sorgenti Cavuto e costeggia risalendolo il fiume e attraversandolo diverse volte con dei ponticelli\, camminando sul fondo delle profonde gole del Sagittario.  Nella riserva è presente anche un Giardino Botanico aperto tutto l’anno che sarà possibile visitare. Visiteremo inoltre il caratteristico borgo di Castrovalva\, piccolo paesino di soli 50 abitanti. Antico borgo fortificato in cui le case sono completamente costruite in pietra; fondato in epoca medievale\, con la sua posizione domina l’alta Valle del Sagittario. \nCi lasceremo ammaliare da questa splendida vallata capace di meravigliare persino il pittore Escher che tanto rimase affascinato dal contesto naturalistico che a Castrovalva ha dedicato la sua unica litografia abruzzese. Ascolteremo le acque del fiume che affascinò anche il poeta Gabriele D’Annunzio\, che scrisse dei versi dedicati proprio a questo luogo. Al termine dell’escursione rientro a casa. Lunghezza del percorso: 8km / Dislivello: 480m / Tempi di percorrenza: 4 ore \n\n\n\nINFO E DETTAGLI\n NECESSARIA LA PRENOTAZIONE compilando il form sottostante oppure al numero tel/WhatsApp 3209771234\n Abbigliamento: scarpe e zaino da trekking\,  macchina fotografica\, acqua\, trolley piccolo\, abbigliamento a cipolla indicato per la stagione (giacca a vento\, pantaloni lunghi\, pile\, poncho o k-way).\n\n\nORGANIZZAZIONE TECNICA DEL VIAGGIO:\nSERAFINO sas Viaggi e Turismo LECCE IT\nP.I. 03207670757- Lic. DPGR 723/97 – C.C.I.A.A.7786/98 – Garanzia Assicurativa UnipolSai Pol. 1/1609/319/103399456
URL:https://meditazioninmovimento.it/escursione/le-gole-del-sagittario-e-lago-di-scanno/
CATEGORIES:Escursioni Abruzzo
END:VEVENT
END:VCALENDAR