BEGIN:VCALENDAR
VERSION:2.0
PRODID:-//Escursioni trekking in Puglia - ECPv6.3.3//NONSGML v1.0//EN
CALSCALE:GREGORIAN
METHOD:PUBLISH
X-WR-CALNAME:Escursioni trekking in Puglia
X-ORIGINAL-URL:https://meditazioninmovimento.it
X-WR-CALDESC:Eventi per Escursioni trekking in Puglia
REFRESH-INTERVAL;VALUE=DURATION:PT1H
X-Robots-Tag:noindex
X-PUBLISHED-TTL:PT1H
BEGIN:VTIMEZONE
TZID:Europe/Rome
BEGIN:DAYLIGHT
TZOFFSETFROM:+0100
TZOFFSETTO:+0200
TZNAME:CEST
DTSTART:20240331T010000
END:DAYLIGHT
BEGIN:STANDARD
TZOFFSETFROM:+0200
TZOFFSETTO:+0100
TZNAME:CET
DTSTART:20241027T010000
END:STANDARD
END:VTIMEZONE
BEGIN:VEVENT
DTSTART;TZID=Europe/Rome:20240210T093000
DTEND;TZID=Europe/Rome:20240210T130000
DTSTAMP:20260420T120809
CREATED:20230222T135601Z
LAST-MODIFIED:20250121T154550Z
UID:5022-1707557400-1707570000@meditazioninmovimento.it
SUMMARY:La gravina di Petruscio
DESCRIPTION:La gravina di Petruscio a Mottola\nCon questo itinerario a piedi vi porteremo alla scoperta della gravina di Petruscio a Mottola\, nella Terra delle Gravine. \nLa gravina di Petruscio offre uno spettacolo unico: sembra essere costituita  da una serie di “grattacieli” di grotte a piani comunicanti fra loro. Le grotte artificiali – circa duecento\, delle quali sono state finora rilevate dagli studiosi solo un centinaio – sono scavate nella roccia friabile dei due spalti della gravina per la lunghezza di circa seicento metri\, e servivano come abitazioni\, ripostigli\, ricovero di animali e pastori. La vita sociale della comunità era ben organizzata\, e si è parlato addirittura di  “alveari di operosità”. Erano presenti complessi agricoli\, centri di culto religioso\, insediamenti abitativi\, aree comuni\, magazzini per i viveri\, necropoli. Visiteremo la cosiddetta casa dell’igumeno\, la cattedrale\, la grotta dei fossili  ed altre case grotta. Al termine dell’escursione ci sarà la possibilità di acquistare degli ottimi prodotti caseari presso un’ottima masseria della zona. \nAl termine della camminata\, per chi lo desidera ci sarà la possibilità di fare tappa presso un’eccellente masseria dove acquistare della carne e degli ottimi formaggi. \nINFO E DETTAGLI\n\n NECESSARIA LA PRENOTAZIONE compilando il form sottostante oppure al numero tel/WhatsApp 3209771234\nLunghezza della camminata: 4 Km / Tempo di percorrenza: 3\,5 ore / Dislivello: +150m / Difficoltà: E (persone mediamente allenate)\n\nDurata: dalle ore 09:30 alle ore 13:00 circa\n Quota di partecipazione: €10\n Appuntamento: Ritrovo presso Bar Liberty (Brindisi) ore 8:30 oppure ritrovo al punto di partenza della camminata a Mottola alle ore 09:30 (verrà mandato link Google Maps ai prenotati)\n Abbigliamento ed occorrente: scarpe da trekking\, k-way\, zaino con acqua e pranzo al sacco\, macchina fotografica\, abbigliamento a strati con giacca a vento.
URL:https://meditazioninmovimento.it/escursione/la-gravina-di-petruscio/
CATEGORIES:Escursioni nella Terra delle Gravine
ATTACH;FMTTYPE=image/jpeg:https://meditazioninmovimento.it/wp-content/uploads/2023/02/la-gravina-di-petruscio-mottola.jpg
END:VEVENT
END:VCALENDAR