BEGIN:VCALENDAR
VERSION:2.0
PRODID:-//Escursioni trekking in Puglia - ECPv6.3.3//NONSGML v1.0//EN
CALSCALE:GREGORIAN
METHOD:PUBLISH
X-ORIGINAL-URL:https://meditazioninmovimento.it
X-WR-CALDESC:Eventi per Escursioni trekking in Puglia
REFRESH-INTERVAL;VALUE=DURATION:PT1H
X-Robots-Tag:noindex
X-PUBLISHED-TTL:PT1H
BEGIN:VTIMEZONE
TZID:Europe/Paris
BEGIN:DAYLIGHT
TZOFFSETFROM:+0100
TZOFFSETTO:+0200
TZNAME:CEST
DTSTART:20240331T010000
END:DAYLIGHT
BEGIN:STANDARD
TZOFFSETFROM:+0200
TZOFFSETTO:+0100
TZNAME:CET
DTSTART:20241027T010000
END:STANDARD
END:VTIMEZONE
BEGIN:VEVENT
DTSTART;TZID=Europe/Paris:20240810T190000
DTEND;TZID=Europe/Paris:20240810T233000
DTSTAMP:20260420T035534
CREATED:20240627T180435Z
LAST-MODIFIED:20251024T110649Z
UID:6598-1723316400-1723332600@meditazioninmovimento.it
SUMMARY:Apericena in vigna in Puglia con osservazione astronomica del cielo
DESCRIPTION:Le notti d’estate\, si sa\, regalano un cielo trapunto di stelle. \nA chi non è mai capitato di alzare gli occhi verso il cielo per ammirarne la bellezza e cercare di riconoscerne le costellazioni? \nSe sei un romantico ed il cielo stellato ti affascina non puoi perderti questo splendido evento dove non solo individueremo le stelle in cielo ma te ne racconteremo anche le storie e le leggende! \n\n \nApericena in vigna in Puglia\nLa serata comincerà con la visita in una delle cantine che più apprezziamo in Puglia. Saremo in campagna\, a Ginosa\, tra i filari\, all’imbrunire\, in una atmosfera calda ed accogliente\, a conoscere e degustare le 6 calici di vino della cantina\, accompagnati da una selezione di prodotti del territorio tra cui olive\, tarallini\, salumi e formaggi\, bruschette e focacce assortite\, frisella pugliese e tarallucci dolci finali. \n\n“E infine uscimmo a riveder le stelle“: Osservazione astronomica del cielo\nDopo l’aperitivo tra i filari del vigneto\, ed una volta tramontato il sole\, guidati da un esperto astrofilo si passerà alla parte di osservazione astronomica del cielo. Ad occhio nudo\, grazie al puntatore laser\, verranno individuate le varie costellazioni legati a miti e leggende e per chi lo desidera ci sarà la possibilità di osservare al telescopio pianeti e satelliti della volta celeste. \n  \n  \nINFO E DETTAGLI\n Quota individuale di partecipazione: €30. La quota comprende apericena in vigna ed osservazione astronomica del cielo con racconti di miti e leggende. \n NECESSARIA LA PRENOTAZIONE compilando il form sottostante oppure al numero WhatsApp 3209771234  \n CHIUSURA ADESIONI a raggiungimento del numero massimo dei posti disponibili. \nPer confermare la propria adesione sarà richiesto un acconto. \nIn caso di maltempo l’evento sarà rimandato. \nIn caso di rinuncia da parte del partecipante l’acconto versato non sarà rimborsato.
URL:https://meditazioninmovimento.it/escursione/apericena-in-vigna-in-puglia/
CATEGORIES:Escursioni nella Terra delle Gravine
ATTACH;FMTTYPE=image/jpeg:https://meditazioninmovimento.it/wp-content/uploads/2024/06/apericena-in-vigna-ed-osservazione-astronomica-del-cielo-stellato-in-Puglia.jpg
END:VEVENT
END:VCALENDAR