BEGIN:VCALENDAR
VERSION:2.0
PRODID:-//Escursioni trekking in Puglia - ECPv6.3.3//NONSGML v1.0//EN
CALSCALE:GREGORIAN
METHOD:PUBLISH
X-ORIGINAL-URL:https://meditazioninmovimento.it
X-WR-CALDESC:Eventi per Escursioni trekking in Puglia
REFRESH-INTERVAL;VALUE=DURATION:PT1H
X-Robots-Tag:noindex
X-PUBLISHED-TTL:PT1H
BEGIN:VTIMEZONE
TZID:Europe/Rome
BEGIN:DAYLIGHT
TZOFFSETFROM:+0100
TZOFFSETTO:+0200
TZNAME:CEST
DTSTART:20260329T010000
END:DAYLIGHT
BEGIN:STANDARD
TZOFFSETFROM:+0200
TZOFFSETTO:+0100
TZNAME:CET
DTSTART:20261025T010000
END:STANDARD
END:VTIMEZONE
BEGIN:VEVENT
DTSTART;TZID=Europe/Rome:20260329T093000
DTEND;TZID=Europe/Rome:20260329T150000
DTSTAMP:20260420T042750
CREATED:20190802T140651Z
LAST-MODIFIED:20260328T141851Z
UID:2501-1774776600-1774796400@meditazioninmovimento.it
SUMMARY:La Gravina Grande di Castellaneta
DESCRIPTION:La Gravina Grande di Castellaneta\nCon questa escursione walking vi portiamo a camminare nella Gravina Grande di Castellaneta\, l’abitato al margine occidentale della provincia ionica che ha donato i natali al celebre Rodolfo Valentino. La cittadina è abbarbicata sui fianchi ripidi e profondi della gravina grande. \nQuesto territorio aspro fu scelto dai primi abitanti proprio per le sue caratteristiche che garantivano un’elevata sicurezza per gli abitanti stessi. Qui si sviluppò l’habitat rupestre e l’uomo fu molto abile a sfruttare questo territorio accidentato per adattarlo alle sue esigenze agricole e all’allevamento. \nLe abitazioni\, i palazzi e le tante chiese che oggi puntellano il centro storico medievale e le mura di cinta sono la testimonianza più autentica di un paese cresciuto sino a divenire una città moderna. Castellaneta conserva però ancora nella gravina grande\, selvaggia e minacciosa\, il suo confine naturale. \nPercorreremo i sentieri del Parco Terra delle Gravine che ci condurranno alla Gravina di Coriglione o “Gravinella” e la Chiesa rupestre di Santa Maria di Costantinopoli. Visiteremo un Trappeto che conserva la base della vasca per frangere le olive e gli alloggiamenti scavati nella roccia dei torchi. Raggiungeremo infine il Ponte di Santa Lucia\, dal quale potremo godere un magnifico panorama della Gravina Grande di Castellaneta\, con il paese sullo sfondo ed il profilo della Chiesa medievale di Santa Maria dell’Assunta protesa sulla Gravina e ricca di bellissimi affreschi. \nVisiteremo un villaggio rupestre su diversi livelli e nutriremo l’anima di magnifici panorami\, di verde e di bellezza. \n  \nINFO E DETTAGLI\nLunghezza della camminata: 10 km / difficoltà E (media) / durata 5 ore \n NECESSARIA LA PRENOTAZIONE compilando il form sottostante oppure al numero tel/WhatsApp 3209771234 \n Durata: dalle ore 09.30 alle ore 15.00 \n Quota di partecipazione: €20 \n Appuntamento: Ritrovo presso Caffè Liberty (Brindisi) ore 8:10. Ritrovo al punto di partenza della camminata presso Chiesa Madonna dell’Assunta alle ore 9:30. \nPossibilità di car sharing da Brindisi dividendo i costi del carburante con chi mette a disposizione l’auto. \n Abbigliamento ed occorrente: scarpe da trekking\, zaino con acqua e pranzo al sacco\, bastoncini da trekking\, macchina fotografica\, occhiali e crema solare
URL:https://meditazioninmovimento.it/escursione/escursione-nella-gravina-grande-di-castellaneta/
CATEGORIES:Escursioni nella Terra delle Gravine
ATTACH;FMTTYPE=image/jpeg:https://meditazioninmovimento.it/wp-content/uploads/2019/08/escursione-trekking-gravina-grande-castellaneta-300x225-1.jpg
END:VEVENT
BEGIN:VEVENT
DTSTART;TZID=Europe/Rome:20260411T150000
DTEND;TZID=Europe/Rome:20260411T183000
DTSTAMP:20260420T042750
CREATED:20180208T191117Z
LAST-MODIFIED:20260413T133424Z
UID:1912-1775919600-1775932200@meditazioninmovimento.it
SUMMARY:La gravina e l'ulivo pensante di Ginosa
DESCRIPTION:La gravina di Rivolta e l’ulivo pensante di Ginosa\nLa meta di questa escursione camminata è Ginosa\, con la gravine di rivolta e casale. Questa cittadina\, posta a 240m s.l.m. e situata nel Parco Naturale Regionale Terra delle Gravine ci regalerà paesaggi e sapori antichi. Quelli dei nostri nonni\, quelli degli anziani di questo paesino che dovrebbero essere riconosciuti come esempio di resilienza. \nUn posto unico che ricorda i sassi di Matera.\nUna meraviglia a cielo aperto. La stupenda incisione carsica e il relativo complesso di case-grotta e chiese rupestri\, abitate fin dalla notte dei tempi. Camminare e passeggiare nella gravina della Rivolta e del Casale significa ritrovare per incanto la Palestina di duemila anni fa. Questo intuirono i padri monfortani che diedero inizio nel 1975 alla rappresentazione  della Passione di Cristo\, che ogni anno coinvolge decine e decine di figuranti tanto da definire Ginosa la “città della passio christi”. Ginosa è  il concentrato di secoli di storia\, quando gli uomini già dal paleolitico scoprirono le sue grotte e cavità. E soprattutto molto tempo più tardi scoprirono che le cavità si potevano scavare ed ampliare facilmente. E vi si poteva\, tramite un sistema di pozzi e cisterne\, conservare l’acqua. \nFu la gravina di Rivolta il primo nucleo antico assieme ovviamente al riparo dell’Oscurusciuto. La gravina di Rivolta e più tardi quella di Casale diventarono col tempo delle vere e proprie città scavate nella pietra\, col caratteristico sistema delle case grotta. Visiteremo inoltre la chiesa madre costruita nel 1500 dai francesi\, dedicata a san Martino di Tours che custodisce una rara tela della Madonna incinta. \nCon questo itinerario cammineremo nel cuore\, nella storia\, nell’anima di Ginosa\, così simile a quella della vicina Matera\, tra casale e rivolta. Ci caleremo in un’atmosfera fuori dal tempo. Percorreremo sentieri che ci porteranno nel cuore della Gravina. \nL’ulivo pensante di Ginosa\n \nLa gravina di Rivolta e l’ulivo pensante di Ginosa saranno senza ombra di dubbio una esperienza unica che vi lascerà affascinati. Toccherete con mano e apprezzerete il piacere delle cose semplici come un tempo\, qui dove il tempo sembra essersi fermato. E proprio perché le cose di un tempo sono le nostre tradizioni ci sarà anche la possibilità\, alla fine della passeggiata\, di fare un ricco aperitivo in una cantina locale. Qui si degusteranno 4 vini accompagnati da focacce cotte nel forno a legna\, salame\, formaggio\, nodini e le immancabili bruschette con l’olio d’oliva aromatizzato al rosmarino\, limone\, arancia\, fungo. \nIn più avremo l’occasione di ammirare da vicino uno degli ulivi millenari più misteriosi e particolari: l’ulivo pensante di Ginosa. \nGuardate qui le foto dei paesaggi che vi aspettano: Ginosa \nINFO E DETTAGLI\nLunghezza 7 km / difficoltà: T (turistico) / durata 3 ore \n NECESSARIA LA PRENOTAZIONE entro venerdi ore 13:00 compilando il form sottostante oppure al numero tel./WhatsApp 3209771234 \n ABBIGLIAMENTO RICHIESTO: scarpe da trekking\, k-way\, zaino con acqua\, macchina fotografica\, abbigliamento a strati. \n Quota escursione: €15 per la sola escursione di trekking \nQuota degustazione: €20 ricco aperitivo in cantina con degustazione 4 etichette tra bianco e rosso\, focacce\, salame\, nodini\, bruschette (minimo 15 persone). Da comunicare in anticipo. \n APPUNTAMENTO: ore 15:00 presso piazza dell’orologio a Ginosa (parcheggiare nei pressi) \n   \nozedf
URL:https://meditazioninmovimento.it/escursione/ulivo-pensante-ginosa/
CATEGORIES:Escursioni nella Terra delle Gravine
ATTACH;FMTTYPE=image/jpeg:https://meditazioninmovimento.it/wp-content/uploads/2023/11/la-gravina-di-rivolta-e-lulivo-pensante-di-ginosa.jpg
END:VEVENT
BEGIN:VEVENT
DTSTART;TZID=Europe/Rome:20260510T093000
DTEND;TZID=Europe/Rome:20260510T143000
DTSTAMP:20260420T042750
CREATED:20190730T193654Z
LAST-MODIFIED:20260413T133510Z
UID:2481-1778405400-1778423400@meditazioninmovimento.it
SUMMARY:La gravina di Laterza il canyon più grande d'Europa
DESCRIPTION:La gravina di Laterza il canyon più grande d’Europa\nCon questo itinerario escursionistico di walking andremo a camminare nella Gravina di Laterza; uno tra i più grandi canyon d’Europa.  La Gravina di Laterza è il solco gravinale più imponente e maestoso dell’Arco ionico delle Gravine\, con dimensioni da canyon! \nIl suo percorso tipicamente meandriforme sviluppa una lunghezza di oltre 12 km per 400 metri di larghezza\, ricoperti da una lussureggiante vegetazione mediterranea. A caratterizzare questo canyon sono pareti rocciose molto profonde che scendono a picco sul fondo della gravina\, a 200 metri circa di profondità. \nLa gravina di Laterza: oasi di pregio naturalistico\nE’ proprio la sua profondità e la sua conformazione orografica che regala agli escursionisti camminatori uno scenario unico ed emozionante che lascia a bocca aperta.  Dal 1999 la gravina ospita un’oasi gestita dalla LIPU ed è inserita nell’elenco Internazionale dei siti I.B.A. (Important Bird Areas).\nUna vera e propria “isola felice” dove in alcuni periodi dell’anno nidifica l’avvoltoio Capovaccaio. \nPercorrere il sentiero che costeggia il bordo orientale della gravina per quasi tutta la sua lunghezza significa fare un viaggio in uno dei più suggestivi ambiente del Mediterraneo. I tantissimi colori delle fioriture\, i profumi intensi ma soprattutto la maestosità di un ambiente naturale così unico infine sapranno stupire l’escursionista amante della natura. \nINFO E DETTAGLI\n\nLunghezza 8\,5 km / difficoltà E (escursionisti) / durata 4 ore\nNECESSARIA LA PRENOTAZIONE compilando il form sottostante oppure al numero WhatsApp 3209771234\nQuota di partecipazione: €15\nABBIGLIAMENTO RICHIESTO: scarpe da trekking\, k-way\, zaino con acqua e pranzo al sacco\, macchina fotografica\, abbigliamento a strati.\nAPPUNTAMENTO: Ritrovo alle ore 8:15 presso Bar Liberty Brindisi oppure 09:30 presso l’Oasi Lipu di Laterza Possibilità di car sharing condividendo i costi del carburante con chi mette a disposizione l’auto
URL:https://meditazioninmovimento.it/escursione/escursione-walking-nella-gravina-di-laterza/
CATEGORIES:Escursioni nella Terra delle Gravine,Home
ATTACH;FMTTYPE=image/jpeg:https://meditazioninmovimento.it/wp-content/uploads/2019/07/trekking-gravina-laterza-puglia.jpg
END:VEVENT
END:VCALENDAR