BEGIN:VCALENDAR
VERSION:2.0
PRODID:-//Escursioni trekking in Puglia - ECPv6.3.3//NONSGML v1.0//EN
CALSCALE:GREGORIAN
METHOD:PUBLISH
X-WR-CALNAME:Escursioni trekking in Puglia
X-ORIGINAL-URL:https://meditazioninmovimento.it
X-WR-CALDESC:Eventi per Escursioni trekking in Puglia
REFRESH-INTERVAL;VALUE=DURATION:PT1H
X-Robots-Tag:noindex
X-PUBLISHED-TTL:PT1H
BEGIN:VTIMEZONE
TZID:Europe/Rome
BEGIN:DAYLIGHT
TZOFFSETFROM:+0100
TZOFFSETTO:+0200
TZNAME:CEST
DTSTART:20240331T010000
END:DAYLIGHT
BEGIN:STANDARD
TZOFFSETFROM:+0200
TZOFFSETTO:+0100
TZNAME:CET
DTSTART:20241027T010000
END:STANDARD
END:VTIMEZONE
BEGIN:VEVENT
DTSTART;TZID=Europe/Rome:20240711T093000
DTEND;TZID=Europe/Rome:20240711T153000
DTSTAMP:20260420T080625
CREATED:20190731T163423Z
LAST-MODIFIED:20250121T190009Z
UID:2489-1720690200-1720711800@meditazioninmovimento.it
SUMMARY:Wine Tour ad Amastuola: il vigneto giardino più bello al mondo
DESCRIPTION:Wine Tour ad Amastuola: il vigneto giardino ad onde\nCon questo wine tour vi portiamo alla scoperta della masseria Amastuola\, vero gioiello della Terra delle Gravine. Una masseria poco lontano da Taranto che vanta una storia millenaria e che oggi è un bellissimo wine resort che produce degli ottimi vini che andremo a degustare col questo interessantissimo itinerario. \nAmastuola è una masseria che accanto alle onde del mare\, offre la vista delle verdi onde dei magnifici vigneti\, interrotte solo da isole di ulivi secolari\, quasi un quadro dipinto dalla natura e progettato dal paesaggista Fernando Caruncho; uno spettacolo mozzafiato vicino alla gravina di Leucaspide. Luoghi talmente belli ed accoglienti da essere stati abitati già dai greci \, di cui si trovano ampie testimonianze. \nLa Masseria Amastuola\nEd è proprio qui che trascorreremo una giornata all’interno del vigneto giardino di Amastuola e delle gravine che ne fanno parte\, alla scoperta della natura\, dell’archeologia\, sport\, cultura e gusto. \nSarà un incanto attraversare il vigneto giardino più bello al mondo secondo il National Geographic. Percorrendo i sentieri e le strade padronali che attraversano la masseria; passeggiando tra i filari sinuosi dove storia\, natura ed architettura si incontrano ci renderemo conto di camminare in un paesaggio d’autore. \nLa masseria Amastuola è posizionata a sud dei luoghi dove furono ritrovati i preziosi “Ori di Taranto” custoditi nel Museo Archeologico Marta ed a poche centinaia di metri dalla necropoli di Accetta con i suoi famosi dolmen paleolitici. A est confina con lo spettacolo naturalistico della gravina di Triglie\, all’interno della quale vi è anche un antico acquedotto romano. \nWine Tour ad Amastuola\nAmastuola era una masseria abbandonata che dopo l’acquisto del suo attuale proprietario\, ed al progetto del vigneto a onde del famoso paesaggista Fernando Caruncho hanno dato la spinta a questo luogo per poter cominciare a cavalcare l’onda del successo. Il suo vigneto giardino\, esteso per oltre cento ettari a più di 200 metri sul livello del mare è infatti un’opera agricola e paesaggistica unica al mondo. \nConcluso l’itinerario a piedi\, attraverso un wine tour guidato da sommelier\, potremo apprezzare\, conoscere e degustare i vini biologici del celebre vigneto a onde. \nOggi la masseria Amastuola è un wine resort che produce diverse etichette da vino biologico che vengono esportate in tutto il mondo. La masseria vanta 1500 alberi di ulivi secolari disposti in 24 isole all’interno del vigneto ed oltre 5000m di muretti a secco. \nINFO E DETTAGLI\nLunghezza della camminata: 10 km / difficoltà T (turistica= facile) / Dislivello: +150m/ durata 4 ore\n NECESSARIA LA PRENOTAZIONE compilando il form sottostante oppure al numero tel/WhatsApp 3209771234\n Durata: dalle ore 14:00 alle ore 19:30\n Quota di partecipazione: €10 + degustazione in masseria. Degustazione basic €15 (4 etichette di vino biologico spiegate da sommelier accompagnate da tarallini) \n Degustazione rafforzata €25 (4 etichette di vino biologico spiegate da sommelier accompagnate da tarallini\, focaccia e tagliere di salumi e formaggi) \n Appuntamento: Ritrovo al punto di partenza della camminata alle ore 14:00 (forniremo link Google Maps ai prenotati).\n Abbigliamento ed occorrente: scarpe da trekking\, zaino con acqua\, macchina fotografica\, occhiali da sole
URL:https://meditazioninmovimento.it/escursione/wine-tour-amastuola/
CATEGORIES:Escursioni nella Terra delle Gravine
ATTACH;FMTTYPE=:
END:VEVENT
END:VCALENDAR