BEGIN:VCALENDAR
VERSION:2.0
PRODID:-//Escursioni trekking in Puglia - ECPv6.3.3//NONSGML v1.0//EN
CALSCALE:GREGORIAN
METHOD:PUBLISH
X-WR-CALNAME:Escursioni trekking in Puglia
X-ORIGINAL-URL:https://meditazioninmovimento.it
X-WR-CALDESC:Eventi per Escursioni trekking in Puglia
REFRESH-INTERVAL;VALUE=DURATION:PT1H
X-Robots-Tag:noindex
X-PUBLISHED-TTL:PT1H
BEGIN:VTIMEZONE
TZID:Europe/Rome
BEGIN:DAYLIGHT
TZOFFSETFROM:+0100
TZOFFSETTO:+0200
TZNAME:CEST
DTSTART:20240331T010000
END:DAYLIGHT
BEGIN:STANDARD
TZOFFSETFROM:+0200
TZOFFSETTO:+0100
TZNAME:CET
DTSTART:20241027T010000
END:STANDARD
END:VTIMEZONE
BEGIN:VEVENT
DTSTART;TZID=Europe/Rome:20241001T090000
DTEND;TZID=Europe/Rome:20241001T140000
DTSTAMP:20260420T024057
CREATED:20201022T150106Z
LAST-MODIFIED:20250121T181202Z
UID:3127-1727773200-1727791200@meditazioninmovimento.it
SUMMARY:Bosco Orimini con degustazione del capocollo di Martina Franca
DESCRIPTION:Passeggiata con degustazione del capocollo di Martina Franca\nrientra in una serie di appuntamenti denominati “gli itinerari del gusto” la passeggiata a Bosco Orimini con degustazione del capocollo di Martina Franca. Questi itinerari sono stati accuratamente studiati in collaborazione con interessanti realtà del territorio con l’obiettivo di coniugare lo sport ed il camminare con le bellezze naturalistiche ed i sapori peculiari della nostra terra di Puglia. \nCon questa escursione cammineremo sui sentieri di Bosco Orimini che trae origini dalla omonima Masseria nei pressi di Crispiano. Questa era una costruzione fortificata con lunghe garitte di forma circolare e con molti trulli. Tutt’intorno vi era e vi è un suggestivo bosco di leccio d’alto fusto facente parte del patrimonio naturalistico della Valle d’Itria sull’antica strada che congiungeva Martina Franca a Taranto. \nDegustazione del capocollo di Martina Franca\nL’itinerario escursionistico ricade nel Parco Naturale Regionale “Terra delle Gravine”. Seguiremo il profilo della gravina dell’Orimini fino a giungere al Cristo Redentore di Martina Franca. Al termine della camminata visiteremo un prestigioso salumificio dove ci verranno illustrate tutte le fasi di preparazione del famoso capocollo di Martina Franca\, presidio Slow Food. \nIl capocollo di Martina Franca\, conosciuto e apprezzato nel Regno di Napoli\, è il salume più rappresentativo dell’antica arte norcina martinese. Una volta comprese le varie fasi di lavorazione si passerà alla degustazione del capocollo di Martina Franca\, della pancetta arrotolata\, della soppressata di Martina Franca (Prodotti Tradizionali del Ministero delle Politiche Agricole)\, salami vari\, guanciale e lonza lardellata accompagnati da un bicchiere di vino\, focaccia ed altre bontà. Possibilità di acquistare i prodotti aziendali degustati. \nINFO E DETTAGLI\nLunghezza del percorso: 8 Km / Tempo di percorrenza: 2 ore e mezza / Difficoltà: facile \n NECESSARIA LA PRENOTAZIONE compilando il form sottostante oppure al numero tel/WhatsApp 3209771234 \n Quota di partecipazione: €10 \n APPUNTAMENTO: Ritrovo alle ore 09:00 a Martina Franca (vi verranno inviate il giorno prima le coordinate google Maps sul luogo esatto dell’appuntamento).
URL:https://meditazioninmovimento.it/escursione/degustazione-capocollo-martina-franca/
CATEGORIES:Escursioni nella Terra delle Gravine
ATTACH;FMTTYPE=image/jpeg:https://meditazioninmovimento.it/wp-content/uploads/2020/10/walking-a-bosco-Orimini-con-degustazione-capocollo-di-Martina-Franca.jpg
END:VEVENT
END:VCALENDAR