BEGIN:VCALENDAR
VERSION:2.0
PRODID:-//Escursioni trekking in Puglia - ECPv6.3.3//NONSGML v1.0//EN
CALSCALE:GREGORIAN
METHOD:PUBLISH
X-ORIGINAL-URL:https://meditazioninmovimento.it
X-WR-CALDESC:Eventi per Escursioni trekking in Puglia
REFRESH-INTERVAL;VALUE=DURATION:PT1H
X-Robots-Tag:noindex
X-PUBLISHED-TTL:PT1H
BEGIN:VTIMEZONE
TZID:Europe/Rome
BEGIN:DAYLIGHT
TZOFFSETFROM:+0100
TZOFFSETTO:+0200
TZNAME:CEST
DTSTART:20250330T010000
END:DAYLIGHT
BEGIN:STANDARD
TZOFFSETFROM:+0200
TZOFFSETTO:+0100
TZNAME:CET
DTSTART:20251026T010000
END:STANDARD
END:VTIMEZONE
BEGIN:VEVENT
DTSTART;TZID=Europe/Rome:20250111T093000
DTEND;TZID=Europe/Rome:20250111T140000
DTSTAMP:20260419T224326
CREATED:20190112T171221Z
LAST-MODIFIED:20250121T194727Z
UID:2370-1736587800-1736604000@meditazioninmovimento.it
SUMMARY:Trekking nella riserva bosco delle Pianelle
DESCRIPTION:Escursione nella riserva bosco delle Pianelle\nIl bosco delle Pianelle è una riserva naturale orientata della regione Puglia estesa per circa 600 ettari e ricade nel territorio di Martina Franca. Questo bosco vede una ricca presenza di cavità carsiche\, una di esse (la grotta del Sergente Romano) utilizzata dai briganti per le loro riunioni segrete nel periodo post unitario. \nSempre le grotte\, di cui questo bosco è ricco\, erano già state utilizzate nel paleolitico come ripari. Il bosco infatti è stato frequentato sin dai tempi più remoti. Per quanto riguarda le specie floristiche ci sono diversi alberi longevi che potremmo definire “giganti verdi”; uno tra questi è l’albero del capitano\, un vetusto esemplare di leccio. \nIl bosco delle Pianelle è un luogo ricco di biodiversità. Qui infatti si possono vedere varie specie ad alto fusto come il fragno (tipo di quercia originaria dei balcani)\, la lecceta e la rovella. Tra la vegetazione è possibile trovare molte piante rare come la peonia\, il carpino nero\, specie selvatiche di orchidee (in primavera) ed altre specie come il terebinto\, il biancospino\, l’orniello\, l’omo campestre e il lentisco. \nL’escursione nella riserva bosco delle Pianelle è un percorso di walking ad anello di circa 12km\, con partenza e arrivo al centro visite che si snoderà lungo i sentieri della riserva\, passando dalle radure del bosco di fragno\, al bosco di leccio\, dal carpino nero e al carpino orientale . \nLungo il percorso si incontreranno diverse specie botaniche spontanee tipiche della macchia mediterrannea\, si ascolteranno le diverse specie di uccelli presenti\, si vedranno alcune masserie e raccolte d’acqua piovana (fogge) di origine molto antica\, alcune carbonaie e calcinaie usate in passato. \nINFO E DETTAGLI\nLunghezza della camminata: 12 km / difficoltà E (media) / Dislivello: +100m/ durata 4\,5 ore\n NECESSARIA LA PRENOTAZIONE compilando il form sottostante oppure al numero tel/WhatsApp 3209771234\n Durata: dalle ore 9:30 alle ore 14.00 circa.\n Quota di partecipazione: €12\n Appuntamento: ore 8:00 presso Bar Liberty a Brindisi. Ritrovo al punto di partenza della camminata presso il centro Visite Bosco delle Pianelle alle ore 9:15. \n Abbigliamento ed occorrente: scarpe da trekking\, k-way\, zaino con acqua e pranzo al sacco\, macchina fotografica\, abbigliamento a strati con giacca antivento.
URL:https://meditazioninmovimento.it/escursione/trekking-bosco-pianelle/
CATEGORIES:Escursioni nella Terra delle Gravine
ATTACH;FMTTYPE=image/jpeg:https://meditazioninmovimento.it/wp-content/uploads/2019/01/escursione-trekking-bosco-pianelle-martina-franca.jpg
END:VEVENT
END:VCALENDAR