BEGIN:VCALENDAR
VERSION:2.0
PRODID:-//Escursioni trekking in Puglia - ECPv6.3.3//NONSGML v1.0//EN
CALSCALE:GREGORIAN
METHOD:PUBLISH
X-ORIGINAL-URL:https://meditazioninmovimento.it
X-WR-CALDESC:Eventi per Escursioni trekking in Puglia
REFRESH-INTERVAL;VALUE=DURATION:PT1H
X-Robots-Tag:noindex
X-PUBLISHED-TTL:PT1H
BEGIN:VTIMEZONE
TZID:Europe/Rome
BEGIN:DAYLIGHT
TZOFFSETFROM:+0100
TZOFFSETTO:+0200
TZNAME:CEST
DTSTART:20260329T010000
END:DAYLIGHT
BEGIN:STANDARD
TZOFFSETFROM:+0200
TZOFFSETTO:+0100
TZNAME:CET
DTSTART:20261025T010000
END:STANDARD
END:VTIMEZONE
BEGIN:VEVENT
DTSTART;TZID=Europe/Rome:20260510T093000
DTEND;TZID=Europe/Rome:20260510T143000
DTSTAMP:20260420T075351
CREATED:20190730T193654Z
LAST-MODIFIED:20260413T133510Z
UID:2481-1778405400-1778423400@meditazioninmovimento.it
SUMMARY:La gravina di Laterza il canyon più grande d'Europa
DESCRIPTION:La gravina di Laterza il canyon più grande d’Europa\nCon questo itinerario escursionistico di walking andremo a camminare nella Gravina di Laterza; uno tra i più grandi canyon d’Europa.  La Gravina di Laterza è il solco gravinale più imponente e maestoso dell’Arco ionico delle Gravine\, con dimensioni da canyon! \nIl suo percorso tipicamente meandriforme sviluppa una lunghezza di oltre 12 km per 400 metri di larghezza\, ricoperti da una lussureggiante vegetazione mediterranea. A caratterizzare questo canyon sono pareti rocciose molto profonde che scendono a picco sul fondo della gravina\, a 200 metri circa di profondità. \nLa gravina di Laterza: oasi di pregio naturalistico\nE’ proprio la sua profondità e la sua conformazione orografica che regala agli escursionisti camminatori uno scenario unico ed emozionante che lascia a bocca aperta.  Dal 1999 la gravina ospita un’oasi gestita dalla LIPU ed è inserita nell’elenco Internazionale dei siti I.B.A. (Important Bird Areas).\nUna vera e propria “isola felice” dove in alcuni periodi dell’anno nidifica l’avvoltoio Capovaccaio. \nPercorrere il sentiero che costeggia il bordo orientale della gravina per quasi tutta la sua lunghezza significa fare un viaggio in uno dei più suggestivi ambiente del Mediterraneo. I tantissimi colori delle fioriture\, i profumi intensi ma soprattutto la maestosità di un ambiente naturale così unico infine sapranno stupire l’escursionista amante della natura. \nINFO E DETTAGLI\n\nLunghezza 8\,5 km / difficoltà E (escursionisti) / durata 4 ore\nNECESSARIA LA PRENOTAZIONE compilando il form sottostante oppure al numero WhatsApp 3209771234\nQuota di partecipazione: €15\nABBIGLIAMENTO RICHIESTO: scarpe da trekking\, k-way\, zaino con acqua e pranzo al sacco\, macchina fotografica\, abbigliamento a strati.\nAPPUNTAMENTO: Ritrovo alle ore 8:15 presso Bar Liberty Brindisi oppure 09:30 presso l’Oasi Lipu di Laterza Possibilità di car sharing condividendo i costi del carburante con chi mette a disposizione l’auto
URL:https://meditazioninmovimento.it/escursione/escursione-walking-nella-gravina-di-laterza/
CATEGORIES:Escursioni nella Terra delle Gravine,Home
ATTACH;FMTTYPE=image/jpeg:https://meditazioninmovimento.it/wp-content/uploads/2019/07/trekking-gravina-laterza-puglia.jpg
END:VEVENT
END:VCALENDAR