BEGIN:VCALENDAR
VERSION:2.0
PRODID:-//Escursioni trekking in Puglia - ECPv6.3.3//NONSGML v1.0//EN
CALSCALE:GREGORIAN
METHOD:PUBLISH
X-ORIGINAL-URL:https://meditazioninmovimento.it
X-WR-CALDESC:Eventi per Escursioni trekking in Puglia
REFRESH-INTERVAL;VALUE=DURATION:PT1H
X-Robots-Tag:noindex
X-PUBLISHED-TTL:PT1H
BEGIN:VTIMEZONE
TZID:Europe/Rome
BEGIN:DAYLIGHT
TZOFFSETFROM:+0100
TZOFFSETTO:+0200
TZNAME:CEST
DTSTART:20240331T010000
END:DAYLIGHT
BEGIN:STANDARD
TZOFFSETFROM:+0200
TZOFFSETTO:+0100
TZNAME:CET
DTSTART:20241027T010000
END:STANDARD
END:VTIMEZONE
BEGIN:VEVENT
DTSTART;TZID=Europe/Rome:20240204T093000
DTEND;TZID=Europe/Rome:20240204T133000
DTSTAMP:20260423T090513
CREATED:20230414T163851Z
LAST-MODIFIED:20250121T154131Z
UID:5110-1707039000-1707053400@meditazioninmovimento.it
SUMMARY:Trekking nella gravina di Pistone a Cisternino
DESCRIPTION:Per questa giornata proponiamo un itinerario inedito nel territorio di Cisternino. Stavolta con questo itinerario escursionistico muoveremo i passi in contrada Pistone per esplorare la gravina di Cisternino. \nUna bella escursione ad anello\, di circa 8\,5 km\, in Puglia nella valle d’Itria tra Locorotondo\, Cisternino e Fasano\, ai confini delle province di Bari e Brindisi.\nDopo pochi metri dalla partenza scenderemo nella gravina di Cisternino. Questo è il tratto più difficile ma anche il più affascinante. Qui entreremo in un ambiente primordiale e quasi fatato dove gli elementi della Natura regnano sovrani. Un luogo molto suggestivo e ricco di fascino. Un canyon con fossili di rudiste; un luogo fuori dal tempo in cui ritornare a contatto con la Natura e con Sè stessi. \nUna volta usciti dal canyon ci immergeremo nella Piana degli ulivi secolari e risaliremo i “monti” di Cisternino dove la vista continuerà a spaziare fino al mare.\nL’area interessata da questo ed altri itinerari nella zona è importante in quanto considerata una zona di confine fitogeografico dove la lecceta rappresenta la formazione arborea più diffusa\, che dalla piana costiera risale lungo le pendici della collina\, e segna il passo all’areale del fragno\, quercia caducifoglia tipica degli ambienti più freschi e umidi dell’altopiano delle Murge di Puglia. \n INFO E DETTAGLI \nLunghezza della camminata: 8\,5 km / difficoltà E (media) / durata 4 ore \n NECESSARIA LA PRENOTAZIONE compilando il form sottostante oppure al numero tel/WhatsApp 3209771234 \n Durata: dalle ore 09:30 alle ore 13:30 \n Quota di partecipazione: €10 \n Appuntamento: Ritrovo al punto di partenza della camminata alle ore 09:30 (forniremo link Google Maps ai prenotati). \n Abbigliamento ed occorrente: scarpe da trekking\, zaino con acqua
URL:https://meditazioninmovimento.it/escursione/trekking-nella-gravina-di-pistone-a-cisternino/
CATEGORIES:Escursioni nella murgia dei trulli
ATTACH;FMTTYPE=image/jpeg:https://meditazioninmovimento.it/wp-content/uploads/2023/04/trekking-nella-gravina-di-pistone-cisternino.jpg
END:VEVENT
BEGIN:VEVENT
DTSTART;TZID=Europe/Rome:20240225T100000
DTEND;TZID=Europe/Rome:20240225T133000
DTSTAMP:20260423T090513
CREATED:20230220T153310Z
LAST-MODIFIED:20250121T160343Z
UID:4899-1708855200-1708867800@meditazioninmovimento.it
SUMMARY:Grottaglie: ceramiche e gravine
DESCRIPTION:Alla scoperta di Grottaglie tra ceramiche e gravine\nLa giornata prevede un facile e breve trekking in natura nella gravina del Fullonese\, la più vicina al centro abitato di Grottaglie. \nAi piedi del Monte Fellone\, sorge la Lama del Fullonese\, una gravina lunga quasi un chilometro e profonda fino a 40 metri\, ricca di grotte scavate nella roccia\, cuore di un insediamento rupestre abitato almeno fino al Duecento. In questo incantevole scenario\, l’uomo fa la sua comparsa a partire dall’Età del Ferro\, come testimoniano i fori di palificazione delle capanne\, le tombe e un muro di fortificazione\, che costituivano un villaggio capannicolo. L’insediamento includeva grotte-abitazioni disposte su più livelli e almeno tre chiese rupestri\, oltre al Cisternone del Fullonese\, parte di un complesso sistema idraulico per la raccolta e la conservazione dell’acqua. \nIl giardino segreto e la chiesa rupestre di Santa Barbara\nAl termine della facile passeggiata in ambiente naturale ci sposteremo nel quartiere delle ceramiche per scoprire il giardino segreto di un palazzo dove è stata scoperta anche una meravigliosa chiesa rupestre dedicata a Santa Barbara\,  protettrice dei vigili del fuoco\, dei minatori\, degli artificieri e della marina militare. \nL’escursione terminerà per ora di pranzo. \n  \n INFO E DETTAGLI\n\nNote tecniche: Difficoltà: T (turistica) / Lunghezza del percorso: 3\,5 Km / Tempo di percorrenza: 1\,5 ore\n\n\n NECESSARIA LA PRENOTAZIONE entro venerdì ore 13:00 compilando il form sottostante oppure al numero tel./WhatsApp 3209771234 \nQuota di partecipazione: €12. La quota comprende la visita della proprietà privata (chiesa rupestre\, cisterna\, pavimento del IV sec. a.C.) \n ABBIGLIAMENTO RICHIESTO: scarpe da trekking\, k-way\, zaino con acqua\, macchina fotografica\, abbigliamento a strati. \n APPUNTAMENTO: ore 09:00 presso caffè Liberty di Brindisi oppure ore 09:45 a Grottaglie (verrà inviata posizione Google Maps ai prenotati)
URL:https://meditazioninmovimento.it/escursione/grottaglie-ceramiche-e-gravine/
CATEGORIES:Escursioni nella murgia dei trulli
ATTACH;FMTTYPE=image/jpeg:https://meditazioninmovimento.it/wp-content/uploads/2023/02/trekking-grottaglie-ceramiche-e-gravine-300x200-1.jpg
END:VEVENT
END:VCALENDAR