BEGIN:VCALENDAR
VERSION:2.0
PRODID:-//Escursioni trekking in Puglia - ECPv6.3.3//NONSGML v1.0//EN
CALSCALE:GREGORIAN
METHOD:PUBLISH
X-ORIGINAL-URL:https://meditazioninmovimento.it
X-WR-CALDESC:Eventi per Escursioni trekking in Puglia
REFRESH-INTERVAL;VALUE=DURATION:PT1H
X-Robots-Tag:noindex
X-PUBLISHED-TTL:PT1H
BEGIN:VTIMEZONE
TZID:Europe/Rome
BEGIN:DAYLIGHT
TZOFFSETFROM:+0100
TZOFFSETTO:+0200
TZNAME:CEST
DTSTART:20240331T010000
END:DAYLIGHT
BEGIN:STANDARD
TZOFFSETFROM:+0200
TZOFFSETTO:+0100
TZNAME:CET
DTSTART:20241027T010000
END:STANDARD
END:VTIMEZONE
BEGIN:VEVENT
DTSTART;TZID=Europe/Rome:20240911T094500
DTEND;TZID=Europe/Rome:20240911T160000
DTSTAMP:20260423T002401
CREATED:20220905T185042Z
LAST-MODIFIED:20250121T162713Z
UID:4698-1726047900-1726070400@meditazioninmovimento.it
SUMMARY:Trekking sull'acquedotto pugliese con pranzo conviviale di pesce
DESCRIPTION:Trekking sull’acquedotto pugliese con pranzo conviviale di pesce\n \nLa giornata coniugherà il trekking sui sentieri dell’acquedotto pugliese con un pranzo conviviale in amicizia a base di pesce. \nIl percorso sull’acquedotto pugliese segue il canale dell’acquedotto pugliese\, tra Fasano e Locorotondo.\nSi parte da Cocolicchio\, un piccolo borgo di trulli tra i più antichi di Puglia. Da qui ci innesteremo sulla Via dell’acqua dell’acquedotto pugliese dove raggiungeremo il ponte più alto dell’acquedotto con vista panoramica sul Canale di Pirro\, sulla Selva di Fasano e sul verdeggiante panorama circostante. \nAttraverseremo un bosco primigenio di grandi querce di fragno e roverelle\, mentre i trulli e i tratturi tra le piccole contrade ci faranno tornare indietro alle atmosfere rurali di un tempo. Al termine dell’escursione ci fermeremo a casa di Vito\, uno dei nostri amici camminatori\, che ci accoglierà nel suo giardino dove potremo degustare la focaccia fatta da lui. Intanto Gaetano e Giovanna prepareranno la pasta allo scoglio nel mitico padellone progettato dall’estro di Gaetano. Non mancherà la mascotte del gruppo\, il Re del Barbecue\, Nicola\, che con la sua esperienza alla griglia arrostirà i polpi…  e vedi che ti mangi! \nSarà una giornata all’insegna della convivialità\, delle amicizie belle\, quelle nate camminando\, quelle autentiche! \n INFO E DETTAGLI \nLunghezza del percorso: 8 Km / Tempo di percorrenza: 3 ore / Difficoltà: facile \nQuota di partecipazione su richiesta \n NECESSARIA LA PRENOTAZIONE compilando il form sottostante oppure al numero tel/WhatsApp 3209771234 \nAPPUNTAMENTO: Ritrovo alle ore 9:45 presso Cocolicchio
URL:https://meditazioninmovimento.it/escursione/trekking-acquedotto-pugliese-2/
CATEGORIES:Escursioni nella murgia dei trulli
ATTACH;FMTTYPE=image/jpeg:https://meditazioninmovimento.it/wp-content/uploads/2022/09/trekking-sui-sentieri-dellacquedotto-pugliese-300x225-1.jpg
END:VEVENT
END:VCALENDAR