BEGIN:VCALENDAR
VERSION:2.0
PRODID:-//Escursioni trekking in Puglia - ECPv6.3.3//NONSGML v1.0//EN
CALSCALE:GREGORIAN
METHOD:PUBLISH
X-WR-CALNAME:Escursioni trekking in Puglia
X-ORIGINAL-URL:https://meditazioninmovimento.it
X-WR-CALDESC:Eventi per Escursioni trekking in Puglia
REFRESH-INTERVAL;VALUE=DURATION:PT1H
X-Robots-Tag:noindex
X-PUBLISHED-TTL:PT1H
BEGIN:VTIMEZONE
TZID:Europe/Rome
BEGIN:DAYLIGHT
TZOFFSETFROM:+0100
TZOFFSETTO:+0200
TZNAME:CEST
DTSTART:20240331T010000
END:DAYLIGHT
BEGIN:STANDARD
TZOFFSETFROM:+0200
TZOFFSETTO:+0100
TZNAME:CET
DTSTART:20241027T010000
END:STANDARD
END:VTIMEZONE
BEGIN:VEVENT
DTSTART;TZID=Europe/Rome:20240105T080000
DTEND;TZID=Europe/Rome:20240107T170000
DTSTAMP:20260421T041454
CREATED:20231204T162056Z
LAST-MODIFIED:20250121T160746Z
UID:5300-1704441600-1704646800@meditazioninmovimento.it
SUMMARY:Trekking Epifania in Basilicata
DESCRIPTION:Per l’Epifania vi proponiamo questo itinerario di trekking in Basilicata tra luoghi suggestivi\, tradizioni popolari buon cibo e borghi autentici. \nIl programma per il trekking dell’epifania in Basilicata è il seguente: \n05 gennaio: Craco\, il castello di Uggiano e la notte dei cucibocca\nPartenza con auto proprie ed incontro dei partecipanti a Craco per la visita guidata del paese fantasma più famoso della Basilicata. Spostamento a Ferrandina e breve trekking alle rovine del Castello di Uggiano. Spostamento a Montescaglioso per assistere a quello che è l’evento più importante per la cittadina Materana. Stiamo parlando della notte dei cucibocca. \nLa sera che precede l’Epifania\, l’Abbazia benedettina di San Michele Arcangelo e i vicoli del centro storico di Montescaglioso diventano teatro di un evento unico nel suo genere\, protagonista del numero 3503 di Topolino\, il settimanale a fumetti più famoso d’Italia: la Notte dei Cucibocca. \n“l cos’ vucc”\, resi irriconoscibili da un paio di occhiali realizzati con le bucce d’arancia\, da una folta barba bianca e da un cappellone di paglia\, spesso ricavato da un disco di canapa usato nei frantoi\, si aggirano per le strade\, avvolti in vecchi cappotti o mantelli scuri e trascinando sul selciato una catena spezzata. \nQuesti strani personaggi portano in mano un canestro ed una lucerna\, ma soprattutto un lungo ago con il quale “minacciano” i più piccoli di cucire loro la bocca (da cui il nome di Cucibocca)\, spaventandoli e lasciando campo libero alla Befana che potrà così consegnare ai bambini i suoi doni e ogni sorta di leccornia. Cena libera agli stand enogastronomici in paese. Pernottamento in agriturismo. \n06 gennaio: l’abetina di Laurenzana\nDopo la colazione spostamento a Laurenzana per l’inizio del trekking nella sua nota abetina. L’Abetina di Laurenzana di ca. 325 ettari\, oltre ad essere una Riserva Naturale Regionale\, è riconosciuta come Zona Speciale di Conservazione\, e ricade interamente nel Parco Nazionale dell’Appennino Lucano Val d’Agri Lagonegrese perché «di elevato interesse naturalistico e paesaggistico con inesistente o limitato grado di antropizzazione». Si tratta di un nucleo relitto di ABETE BIANCO autoctono “Abies alba Miller” dell’Appennino Lucano con copiosa rinnovazione naturale che si irradia alle circostanti cerrete e faggete. Qui l’abete bianco può vivere oltre 300 anni e presenta il caratteristico “nido di cicogna” e in quest’area vive in associazione con cerro e faggio.\nQuesta associazione non comune\, testimonia la presenza relittuale dell’abete bianco che\, molto diffuso sui monti dell’Appennino meridionale in epoca glaciale\, è sopravvissuto in quest’area grazie a particolari condizioni microclimatiche dovute al tenore di temperatura ed umidità. La maturità del bosco\, nonché l’abbondanza di esemplari di alberi vetusti e marcescenti\, oltre a fornire tane e rifugio a diverse specie animali. Terminato il trekking ci sposteremo in paese per la visita guidata del borgo con il suo meraviglioso castello. Rientro in agriturismo. Cena e pernottamento. \n07 gennaio: il castello e la certosa di Brindisi di Montagna e i Palmenti di Pietragalla\nDopo la colazione spostamento a Brindisi di Montagna per un facile trekking. Cominceremo con la visita del monastero-Gracìa di San Demetrio per giungere al borgo dove visiteremo il Castello normanno Fittipaldi-Antinori. Dopo la visita al borgo ci sposteremo a Pietragalla per la visita guidata nel parco urbano dei palmenti. Percorrendo la “via del vino” con visita alle grotte scavate nel tufo per la sua conservazione. Si proseguirà per il centro storico con la visita della chiesa madre e del palazzo ducale. Poi ci sarà il Mozzh (degustazione di prodotti tipici). Ultima tappa della giornata sarà la visita alla chiesa rupestre di Sant’Antuono con un mirabile ciclo di affreschi rupestri sulla vita di Gesù. Rientro a casa. \n INFO E DETTAGLI \n NECESSARIA LA PRENOTAZIONE compilando il form sottostante oppure al numero tel/WhatsApp 3209771234\n Appuntamento: Ritrovo al punto di partenza ore 10:00 (verrà inviato il punto di incontro ai prenotati il giorno prima dell’appuntamento)\n Abbigliamento ed occorrente: scarpe da trekking\, zaino giornaliero\n\nORGANIZZAZIONE TECNICA DEL VIAGGIO:\nSERAFINO sas Viaggi e Turismo LECCE IT\nP.I. 03207670757- Lic. DPGR 723/97 – C.C.I.A.A.7786/98 – Garanzia Assicurativa UnipolSai Pol. 1/1609/319/103399456
URL:https://meditazioninmovimento.it/escursione/trekking-epifania-in-basilicata/
CATEGORIES:Trekking Basilicata
ATTACH;FMTTYPE=image/jpeg:https://meditazioninmovimento.it/wp-content/uploads/2023/12/Trekking-Basilicata.jpg
END:VEVENT
END:VCALENDAR